BEGIN:VCALENDAR
VERSION:2.0
PRODID:-//Belconnen Holy Cross Congregation, ACT - ECPv6.8.1//NONSGML v1.0//EN
CALSCALE:GREGORIAN
METHOD:PUBLISH
X-ORIGINAL-URL:https://belconnen.lutheran.org.au
X-WR-CALDESC:Events for Belconnen Holy Cross Congregation, ACT
REFRESH-INTERVAL;VALUE=DURATION:PT1H
X-Robots-Tag:noindex
X-PUBLISHED-TTL:PT1H
BEGIN:VTIMEZONE
TZID:Australia/Sydney
BEGIN:STANDARD
TZOFFSETFROM:+1100
TZOFFSETTO:+1000
TZNAME:AEST
DTSTART:20250405T160000
END:STANDARD
BEGIN:DAYLIGHT
TZOFFSETFROM:+1000
TZOFFSETTO:+1100
TZNAME:AEDT
DTSTART:20251004T160000
END:DAYLIGHT
BEGIN:STANDARD
TZOFFSETFROM:+1100
TZOFFSETTO:+1000
TZNAME:AEST
DTSTART:20260404T160000
END:STANDARD
BEGIN:DAYLIGHT
TZOFFSETFROM:+1000
TZOFFSETTO:+1100
TZNAME:AEDT
DTSTART:20261003T160000
END:DAYLIGHT
END:VTIMEZONE
BEGIN:VEVENT
DTSTART;TZID=Australia/Sydney:20260419T130000
DTEND;TZID=Australia/Sydney:20260419T153000
DTSTAMP:20260425T111744
CREATED:20251224T051904Z
LAST-MODIFIED:20251224T051904Z
UID:15092-1776603600-1776612600@belconnen.lutheran.org.au
SUMMARY:Free Wesleyan Church of Tonga
DESCRIPTION:The Free Wesleyan Church of Tonga worships at Holy Cross each Sunday at 1.00 pm \nFurther information contact 0499868628
URL:https://belconnen.lutheran.org.au/event/free-wesleyan-church-of-tonga-2/2026-04-19/
LOCATION:Holy Cross Lutheran Church\, 9 Emu Bank\, Belconnen\, ACT\, 2616\, Australia
CATEGORIES:External Hire
GEO:-35.2396675;149.07367
X-APPLE-STRUCTURED-LOCATION;VALUE=URI;X-ADDRESS=Holy Cross Lutheran Church 9 Emu Bank Belconnen ACT 2616 Australia;X-APPLE-RADIUS=500;X-TITLE=9 Emu Bank:geo:149.07367,-35.2396675
END:VEVENT
BEGIN:VEVENT
DTSTART;TZID=Australia/Sydney:20260412T130000
DTEND;TZID=Australia/Sydney:20260412T153000
DTSTAMP:20260425T111744
CREATED:20251224T051904Z
LAST-MODIFIED:20251224T051904Z
UID:15091-1775998800-1776007800@belconnen.lutheran.org.au
SUMMARY:Free Wesleyan Church of Tonga
DESCRIPTION:The Free Wesleyan Church of Tonga worships at Holy Cross each Sunday at 1.00 pm \nFurther information contact 0499868628
URL:https://belconnen.lutheran.org.au/event/free-wesleyan-church-of-tonga-2/2026-04-12/
LOCATION:Holy Cross Lutheran Church\, 9 Emu Bank\, Belconnen\, ACT\, 2616\, Australia
CATEGORIES:External Hire
GEO:-35.2396675;149.07367
X-APPLE-STRUCTURED-LOCATION;VALUE=URI;X-ADDRESS=Holy Cross Lutheran Church 9 Emu Bank Belconnen ACT 2616 Australia;X-APPLE-RADIUS=500;X-TITLE=9 Emu Bank:geo:149.07367,-35.2396675
END:VEVENT
BEGIN:VEVENT
DTSTART;TZID=Australia/Sydney:20260329T130000
DTEND;TZID=Australia/Sydney:20260329T153000
DTSTAMP:20260425T111744
CREATED:20251224T051904Z
LAST-MODIFIED:20251224T051904Z
UID:15089-1774789200-1774798200@belconnen.lutheran.org.au
SUMMARY:Free Wesleyan Church of Tonga
DESCRIPTION:The Free Wesleyan Church of Tonga worships at Holy Cross each Sunday at 1.00 pm \nFurther information contact 0499868628
URL:https://belconnen.lutheran.org.au/event/free-wesleyan-church-of-tonga-2/2026-03-29/
LOCATION:Holy Cross Lutheran Church\, 9 Emu Bank\, Belconnen\, ACT\, 2616\, Australia
CATEGORIES:External Hire
GEO:-35.2396675;149.07367
X-APPLE-STRUCTURED-LOCATION;VALUE=URI;X-ADDRESS=Holy Cross Lutheran Church 9 Emu Bank Belconnen ACT 2616 Australia;X-APPLE-RADIUS=500;X-TITLE=9 Emu Bank:geo:149.07367,-35.2396675
END:VEVENT
BEGIN:VEVENT
DTSTART;TZID=Australia/Sydney:20260322T130000
DTEND;TZID=Australia/Sydney:20260322T153000
DTSTAMP:20260425T111744
CREATED:20251224T051904Z
LAST-MODIFIED:20251224T051904Z
UID:15088-1774184400-1774193400@belconnen.lutheran.org.au
SUMMARY:Free Wesleyan Church of Tonga
DESCRIPTION:The Free Wesleyan Church of Tonga worships at Holy Cross each Sunday at 1.00 pm \nFurther information contact 0499868628
URL:https://belconnen.lutheran.org.au/event/free-wesleyan-church-of-tonga-2/2026-03-22/
LOCATION:Holy Cross Lutheran Church\, 9 Emu Bank\, Belconnen\, ACT\, 2616\, Australia
CATEGORIES:External Hire
GEO:-35.2396675;149.07367
X-APPLE-STRUCTURED-LOCATION;VALUE=URI;X-ADDRESS=Holy Cross Lutheran Church 9 Emu Bank Belconnen ACT 2616 Australia;X-APPLE-RADIUS=500;X-TITLE=9 Emu Bank:geo:149.07367,-35.2396675
END:VEVENT
BEGIN:VEVENT
DTSTART;TZID=Australia/Sydney:20260315T130000
DTEND;TZID=Australia/Sydney:20260315T153000
DTSTAMP:20260425T111744
CREATED:20251224T051904Z
LAST-MODIFIED:20251224T051904Z
UID:15087-1773579600-1773588600@belconnen.lutheran.org.au
SUMMARY:Free Wesleyan Church of Tonga
DESCRIPTION:The Free Wesleyan Church of Tonga worships at Holy Cross each Sunday at 1.00 pm \nFurther information contact 0499868628
URL:https://belconnen.lutheran.org.au/event/free-wesleyan-church-of-tonga-2/2026-03-15/
LOCATION:Holy Cross Lutheran Church\, 9 Emu Bank\, Belconnen\, ACT\, 2616\, Australia
CATEGORIES:External Hire
GEO:-35.2396675;149.07367
X-APPLE-STRUCTURED-LOCATION;VALUE=URI;X-ADDRESS=Holy Cross Lutheran Church 9 Emu Bank Belconnen ACT 2616 Australia;X-APPLE-RADIUS=500;X-TITLE=9 Emu Bank:geo:149.07367,-35.2396675
END:VEVENT
BEGIN:VEVENT
DTSTART;TZID=Australia/Sydney:20260308T130000
DTEND;TZID=Australia/Sydney:20260308T153000
DTSTAMP:20260425T111744
CREATED:20251224T051904Z
LAST-MODIFIED:20251224T051904Z
UID:15086-1772974800-1772983800@belconnen.lutheran.org.au
SUMMARY:Free Wesleyan Church of Tonga
DESCRIPTION:The Free Wesleyan Church of Tonga worships at Holy Cross each Sunday at 1.00 pm \nFurther information contact 0499868628
URL:https://belconnen.lutheran.org.au/event/free-wesleyan-church-of-tonga-2/2026-03-08/
LOCATION:Holy Cross Lutheran Church\, 9 Emu Bank\, Belconnen\, ACT\, 2616\, Australia
CATEGORIES:External Hire
GEO:-35.2396675;149.07367
X-APPLE-STRUCTURED-LOCATION;VALUE=URI;X-ADDRESS=Holy Cross Lutheran Church 9 Emu Bank Belconnen ACT 2616 Australia;X-APPLE-RADIUS=500;X-TITLE=9 Emu Bank:geo:149.07367,-35.2396675
END:VEVENT
BEGIN:VEVENT
DTSTART;TZID=Australia/Sydney:20260301T130000
DTEND;TZID=Australia/Sydney:20260301T153000
DTSTAMP:20260425T111744
CREATED:20251224T051904Z
LAST-MODIFIED:20251224T051904Z
UID:15085-1772370000-1772379000@belconnen.lutheran.org.au
SUMMARY:Free Wesleyan Church of Tonga
DESCRIPTION:The Free Wesleyan Church of Tonga worships at Holy Cross each Sunday at 1.00 pm \nFurther information contact 0499868628
URL:https://belconnen.lutheran.org.au/event/free-wesleyan-church-of-tonga-2/2026-03-01/
LOCATION:Holy Cross Lutheran Church\, 9 Emu Bank\, Belconnen\, ACT\, 2616\, Australia
CATEGORIES:External Hire
GEO:-35.2396675;149.07367
X-APPLE-STRUCTURED-LOCATION;VALUE=URI;X-ADDRESS=Holy Cross Lutheran Church 9 Emu Bank Belconnen ACT 2616 Australia;X-APPLE-RADIUS=500;X-TITLE=9 Emu Bank:geo:149.07367,-35.2396675
END:VEVENT
BEGIN:VEVENT
DTSTART;TZID=Australia/Sydney:20260222T130000
DTEND;TZID=Australia/Sydney:20260222T153000
DTSTAMP:20260425T111744
CREATED:20251224T051904Z
LAST-MODIFIED:20251224T051904Z
UID:15084-1771765200-1771774200@belconnen.lutheran.org.au
SUMMARY:Free Wesleyan Church of Tonga
DESCRIPTION:The Free Wesleyan Church of Tonga worships at Holy Cross each Sunday at 1.00 pm \nFurther information contact 0499868628
URL:https://belconnen.lutheran.org.au/event/free-wesleyan-church-of-tonga-2/2026-02-22/
LOCATION:Holy Cross Lutheran Church\, 9 Emu Bank\, Belconnen\, ACT\, 2616\, Australia
CATEGORIES:External Hire
GEO:-35.2396675;149.07367
X-APPLE-STRUCTURED-LOCATION;VALUE=URI;X-ADDRESS=Holy Cross Lutheran Church 9 Emu Bank Belconnen ACT 2616 Australia;X-APPLE-RADIUS=500;X-TITLE=9 Emu Bank:geo:149.07367,-35.2396675
END:VEVENT
BEGIN:VEVENT
DTSTART;TZID=Australia/Sydney:20260215T130000
DTEND;TZID=Australia/Sydney:20260215T153000
DTSTAMP:20260425T111744
CREATED:20251224T051904Z
LAST-MODIFIED:20251224T051904Z
UID:15083-1771160400-1771169400@belconnen.lutheran.org.au
SUMMARY:Free Wesleyan Church of Tonga
DESCRIPTION:The Free Wesleyan Church of Tonga worships at Holy Cross each Sunday at 1.00 pm \nFurther information contact 0499868628
URL:https://belconnen.lutheran.org.au/event/free-wesleyan-church-of-tonga-2/2026-02-15/
LOCATION:Holy Cross Lutheran Church\, 9 Emu Bank\, Belconnen\, ACT\, 2616\, Australia
CATEGORIES:External Hire
GEO:-35.2396675;149.07367
X-APPLE-STRUCTURED-LOCATION;VALUE=URI;X-ADDRESS=Holy Cross Lutheran Church 9 Emu Bank Belconnen ACT 2616 Australia;X-APPLE-RADIUS=500;X-TITLE=9 Emu Bank:geo:149.07367,-35.2396675
END:VEVENT
BEGIN:VEVENT
DTSTART;TZID=Australia/Sydney:20260208T130000
DTEND;TZID=Australia/Sydney:20260208T153000
DTSTAMP:20260425T111744
CREATED:20251224T051904Z
LAST-MODIFIED:20251224T051904Z
UID:15082-1770555600-1770564600@belconnen.lutheran.org.au
SUMMARY:Free Wesleyan Church of Tonga
DESCRIPTION:The Free Wesleyan Church of Tonga worships at Holy Cross each Sunday at 1.00 pm \nFurther information contact 0499868628
URL:https://belconnen.lutheran.org.au/event/free-wesleyan-church-of-tonga-2/2026-02-08/
LOCATION:Holy Cross Lutheran Church\, 9 Emu Bank\, Belconnen\, ACT\, 2616\, Australia
CATEGORIES:External Hire
GEO:-35.2396675;149.07367
X-APPLE-STRUCTURED-LOCATION;VALUE=URI;X-ADDRESS=Holy Cross Lutheran Church 9 Emu Bank Belconnen ACT 2616 Australia;X-APPLE-RADIUS=500;X-TITLE=9 Emu Bank:geo:149.07367,-35.2396675
END:VEVENT
BEGIN:VEVENT
DTSTART;TZID=Australia/Sydney:20260201T130000
DTEND;TZID=Australia/Sydney:20260201T153000
DTSTAMP:20260425T111744
CREATED:20251224T051904Z
LAST-MODIFIED:20251224T051904Z
UID:15081-1769950800-1769959800@belconnen.lutheran.org.au
SUMMARY:Free Wesleyan Church of Tonga
DESCRIPTION:The Free Wesleyan Church of Tonga worships at Holy Cross each Sunday at 1.00 pm \nFurther information contact 0499868628
URL:https://belconnen.lutheran.org.au/event/free-wesleyan-church-of-tonga-2/2026-02-01/
LOCATION:Holy Cross Lutheran Church\, 9 Emu Bank\, Belconnen\, ACT\, 2616\, Australia
CATEGORIES:External Hire
GEO:-35.2396675;149.07367
X-APPLE-STRUCTURED-LOCATION;VALUE=URI;X-ADDRESS=Holy Cross Lutheran Church 9 Emu Bank Belconnen ACT 2616 Australia;X-APPLE-RADIUS=500;X-TITLE=9 Emu Bank:geo:149.07367,-35.2396675
END:VEVENT
BEGIN:VEVENT
DTSTART;TZID=Australia/Sydney:20260125T130000
DTEND;TZID=Australia/Sydney:20260125T153000
DTSTAMP:20260425T111744
CREATED:20251224T051904Z
LAST-MODIFIED:20251224T051904Z
UID:15080-1769346000-1769355000@belconnen.lutheran.org.au
SUMMARY:Free Wesleyan Church of Tonga
DESCRIPTION:The Free Wesleyan Church of Tonga worships at Holy Cross each Sunday at 1.00 pm \nFurther information contact 0499868628
URL:https://belconnen.lutheran.org.au/event/free-wesleyan-church-of-tonga-2/2026-01-25/
LOCATION:Holy Cross Lutheran Church\, 9 Emu Bank\, Belconnen\, ACT\, 2616\, Australia
CATEGORIES:External Hire
GEO:-35.2396675;149.07367
X-APPLE-STRUCTURED-LOCATION;VALUE=URI;X-ADDRESS=Holy Cross Lutheran Church 9 Emu Bank Belconnen ACT 2616 Australia;X-APPLE-RADIUS=500;X-TITLE=9 Emu Bank:geo:149.07367,-35.2396675
END:VEVENT
BEGIN:VEVENT
DTSTART;TZID=Australia/Sydney:20260118T130000
DTEND;TZID=Australia/Sydney:20260118T153000
DTSTAMP:20260425T111744
CREATED:20251224T051904Z
LAST-MODIFIED:20251224T051904Z
UID:15079-1768741200-1768750200@belconnen.lutheran.org.au
SUMMARY:Free Wesleyan Church of Tonga
DESCRIPTION:The Free Wesleyan Church of Tonga worships at Holy Cross each Sunday at 1.00 pm \nFurther information contact 0499868628
URL:https://belconnen.lutheran.org.au/event/free-wesleyan-church-of-tonga-2/2026-01-18/
LOCATION:Holy Cross Lutheran Church\, 9 Emu Bank\, Belconnen\, ACT\, 2616\, Australia
CATEGORIES:External Hire
GEO:-35.2396675;149.07367
X-APPLE-STRUCTURED-LOCATION;VALUE=URI;X-ADDRESS=Holy Cross Lutheran Church 9 Emu Bank Belconnen ACT 2616 Australia;X-APPLE-RADIUS=500;X-TITLE=9 Emu Bank:geo:149.07367,-35.2396675
END:VEVENT
BEGIN:VEVENT
DTSTART;TZID=Australia/Sydney:20260111T130000
DTEND;TZID=Australia/Sydney:20260111T153000
DTSTAMP:20260425T111744
CREATED:20251224T051904Z
LAST-MODIFIED:20251224T051904Z
UID:15078-1768136400-1768145400@belconnen.lutheran.org.au
SUMMARY:Free Wesleyan Church of Tonga
DESCRIPTION:The Free Wesleyan Church of Tonga worships at Holy Cross each Sunday at 1.00 pm \nFurther information contact 0499868628
URL:https://belconnen.lutheran.org.au/event/free-wesleyan-church-of-tonga-2/2026-01-11/
LOCATION:Holy Cross Lutheran Church\, 9 Emu Bank\, Belconnen\, ACT\, 2616\, Australia
CATEGORIES:External Hire
GEO:-35.2396675;149.07367
X-APPLE-STRUCTURED-LOCATION;VALUE=URI;X-ADDRESS=Holy Cross Lutheran Church 9 Emu Bank Belconnen ACT 2616 Australia;X-APPLE-RADIUS=500;X-TITLE=9 Emu Bank:geo:149.07367,-35.2396675
END:VEVENT
BEGIN:VEVENT
DTSTART;TZID=Australia/Sydney:20260104T130000
DTEND;TZID=Australia/Sydney:20260104T153000
DTSTAMP:20260425T111744
CREATED:20251224T051904Z
LAST-MODIFIED:20251224T051904Z
UID:15077-1767531600-1767540600@belconnen.lutheran.org.au
SUMMARY:Free Wesleyan Church of Tonga
DESCRIPTION:The Free Wesleyan Church of Tonga worships at Holy Cross each Sunday at 1.00 pm \nFurther information contact 0499868628
URL:https://belconnen.lutheran.org.au/event/free-wesleyan-church-of-tonga-2/2026-01-04/
LOCATION:Holy Cross Lutheran Church\, 9 Emu Bank\, Belconnen\, ACT\, 2616\, Australia
CATEGORIES:External Hire
GEO:-35.2396675;149.07367
X-APPLE-STRUCTURED-LOCATION;VALUE=URI;X-ADDRESS=Holy Cross Lutheran Church 9 Emu Bank Belconnen ACT 2616 Australia;X-APPLE-RADIUS=500;X-TITLE=9 Emu Bank:geo:149.07367,-35.2396675
END:VEVENT
BEGIN:VEVENT
DTSTART;TZID=Australia/Sydney:20251228T130000
DTEND;TZID=Australia/Sydney:20251228T153000
DTSTAMP:20260425T111744
CREATED:20251224T051904Z
LAST-MODIFIED:20251224T052006Z
UID:13297-1766926800-1766935800@belconnen.lutheran.org.au
SUMMARY:Free Wesleyan Church of Tonga
DESCRIPTION:The Free Wesleyan Church of Tonga worships at Holy Cross each Sunday at 1.00 pm \nFurther information contact 0499868628
URL:https://belconnen.lutheran.org.au/event/free-wesleyan-church-of-tonga-2/2025-12-28/
LOCATION:Holy Cross Lutheran Church\, 9 Emu Bank\, Belconnen\, ACT\, 2616\, Australia
CATEGORIES:External Hire
GEO:-35.2396675;149.07367
X-APPLE-STRUCTURED-LOCATION;VALUE=URI;X-ADDRESS=Holy Cross Lutheran Church 9 Emu Bank Belconnen ACT 2616 Australia;X-APPLE-RADIUS=500;X-TITLE=9 Emu Bank:geo:149.07367,-35.2396675
END:VEVENT
BEGIN:VEVENT
DTSTART;TZID=Australia/Sydney:20251221T130000
DTEND;TZID=Australia/Sydney:20251221T153000
DTSTAMP:20260425T111744
CREATED:20251224T051904Z
LAST-MODIFIED:20251224T052006Z
UID:13280-1766322000-1766331000@belconnen.lutheran.org.au
SUMMARY:Free Wesleyan Church of Tonga
DESCRIPTION:The Free Wesleyan Church of Tonga worships at Holy Cross each Sunday at 1.00 pm \nFurther information contact 0499868628
URL:https://belconnen.lutheran.org.au/event/free-wesleyan-church-of-tonga-2/2025-12-21/
LOCATION:Holy Cross Lutheran Church\, 9 Emu Bank\, Belconnen\, ACT\, 2616\, Australia
CATEGORIES:External Hire
GEO:-35.2396675;149.07367
X-APPLE-STRUCTURED-LOCATION;VALUE=URI;X-ADDRESS=Holy Cross Lutheran Church 9 Emu Bank Belconnen ACT 2616 Australia;X-APPLE-RADIUS=500;X-TITLE=9 Emu Bank:geo:149.07367,-35.2396675
END:VEVENT
BEGIN:VEVENT
DTSTART;TZID=Australia/Sydney:20251214T130000
DTEND;TZID=Australia/Sydney:20251214T153000
DTSTAMP:20260425T111744
CREATED:20251224T051904Z
LAST-MODIFIED:20251224T052006Z
UID:13035-1765717200-1765726200@belconnen.lutheran.org.au
SUMMARY:Free Wesleyan Church of Tonga
DESCRIPTION:The Free Wesleyan Church of Tonga worships at Holy Cross each Sunday at 1.00 pm \nFurther information contact 0499868628
URL:https://belconnen.lutheran.org.au/event/free-wesleyan-church-of-tonga-2/2025-12-14/
LOCATION:Holy Cross Lutheran Church\, 9 Emu Bank\, Belconnen\, ACT\, 2616\, Australia
CATEGORIES:External Hire
GEO:-35.2396675;149.07367
X-APPLE-STRUCTURED-LOCATION;VALUE=URI;X-ADDRESS=Holy Cross Lutheran Church 9 Emu Bank Belconnen ACT 2616 Australia;X-APPLE-RADIUS=500;X-TITLE=9 Emu Bank:geo:149.07367,-35.2396675
END:VEVENT
BEGIN:VEVENT
DTSTART;TZID=Australia/Sydney:20251207T130000
DTEND;TZID=Australia/Sydney:20251207T153000
DTSTAMP:20260425T111744
CREATED:20251224T051904Z
LAST-MODIFIED:20251224T052005Z
UID:13034-1765112400-1765121400@belconnen.lutheran.org.au
SUMMARY:Free Wesleyan Church of Tonga
DESCRIPTION:The Free Wesleyan Church of Tonga worships at Holy Cross each Sunday at 1.00 pm \nFurther information contact 0499868628
URL:https://belconnen.lutheran.org.au/event/free-wesleyan-church-of-tonga-2/2025-12-07/
LOCATION:Holy Cross Lutheran Church\, 9 Emu Bank\, Belconnen\, ACT\, 2616\, Australia
CATEGORIES:External Hire
GEO:-35.2396675;149.07367
X-APPLE-STRUCTURED-LOCATION;VALUE=URI;X-ADDRESS=Holy Cross Lutheran Church 9 Emu Bank Belconnen ACT 2616 Australia;X-APPLE-RADIUS=500;X-TITLE=9 Emu Bank:geo:149.07367,-35.2396675
END:VEVENT
BEGIN:VEVENT
DTSTART;TZID=Australia/Sydney:20251130T130000
DTEND;TZID=Australia/Sydney:20251130T153000
DTSTAMP:20260425T111744
CREATED:20251224T051904Z
LAST-MODIFIED:20251224T052005Z
UID:13033-1764507600-1764516600@belconnen.lutheran.org.au
SUMMARY:Free Wesleyan Church of Tonga
DESCRIPTION:The Free Wesleyan Church of Tonga worships at Holy Cross each Sunday at 1.00 pm \nFurther information contact 0499868628
URL:https://belconnen.lutheran.org.au/event/free-wesleyan-church-of-tonga-2/2025-11-30/
LOCATION:Holy Cross Lutheran Church\, 9 Emu Bank\, Belconnen\, ACT\, 2616\, Australia
CATEGORIES:External Hire
GEO:-35.2396675;149.07367
X-APPLE-STRUCTURED-LOCATION;VALUE=URI;X-ADDRESS=Holy Cross Lutheran Church 9 Emu Bank Belconnen ACT 2616 Australia;X-APPLE-RADIUS=500;X-TITLE=9 Emu Bank:geo:149.07367,-35.2396675
END:VEVENT
BEGIN:VEVENT
DTSTART;TZID=Australia/Sydney:20251123T130000
DTEND;TZID=Australia/Sydney:20251123T153000
DTSTAMP:20260425T111744
CREATED:20251224T051904Z
LAST-MODIFIED:20251224T052005Z
UID:13032-1763902800-1763911800@belconnen.lutheran.org.au
SUMMARY:Free Wesleyan Church of Tonga
DESCRIPTION:The Free Wesleyan Church of Tonga worships at Holy Cross each Sunday at 1.00 pm \nFurther information contact 0499868628
URL:https://belconnen.lutheran.org.au/event/free-wesleyan-church-of-tonga-2/2025-11-23/
LOCATION:Holy Cross Lutheran Church\, 9 Emu Bank\, Belconnen\, ACT\, 2616\, Australia
CATEGORIES:External Hire
GEO:-35.2396675;149.07367
X-APPLE-STRUCTURED-LOCATION;VALUE=URI;X-ADDRESS=Holy Cross Lutheran Church 9 Emu Bank Belconnen ACT 2616 Australia;X-APPLE-RADIUS=500;X-TITLE=9 Emu Bank:geo:149.07367,-35.2396675
END:VEVENT
BEGIN:VEVENT
DTSTART;TZID=Australia/Sydney:20251116T130000
DTEND;TZID=Australia/Sydney:20251116T153000
DTSTAMP:20260425T111744
CREATED:20251224T051904Z
LAST-MODIFIED:20251224T052005Z
UID:13031-1763298000-1763307000@belconnen.lutheran.org.au
SUMMARY:Free Wesleyan Church of Tonga
DESCRIPTION:The Free Wesleyan Church of Tonga worships at Holy Cross each Sunday at 1.00 pm \nFurther information contact 0499868628
URL:https://belconnen.lutheran.org.au/event/free-wesleyan-church-of-tonga-2/2025-11-16/
LOCATION:Holy Cross Lutheran Church\, 9 Emu Bank\, Belconnen\, ACT\, 2616\, Australia
CATEGORIES:External Hire
GEO:-35.2396675;149.07367
X-APPLE-STRUCTURED-LOCATION;VALUE=URI;X-ADDRESS=Holy Cross Lutheran Church 9 Emu Bank Belconnen ACT 2616 Australia;X-APPLE-RADIUS=500;X-TITLE=9 Emu Bank:geo:149.07367,-35.2396675
END:VEVENT
BEGIN:VEVENT
DTSTART;TZID=Australia/Sydney:20251109T130000
DTEND;TZID=Australia/Sydney:20251109T153000
DTSTAMP:20260425T111744
CREATED:20251224T051904Z
LAST-MODIFIED:20251224T052004Z
UID:13030-1762693200-1762702200@belconnen.lutheran.org.au
SUMMARY:Free Wesleyan Church of Tonga
DESCRIPTION:The Free Wesleyan Church of Tonga worships at Holy Cross each Sunday at 1.00 pm \nFurther information contact 0499868628
URL:https://belconnen.lutheran.org.au/event/free-wesleyan-church-of-tonga-2/2025-11-09/
LOCATION:Holy Cross Lutheran Church\, 9 Emu Bank\, Belconnen\, ACT\, 2616\, Australia
CATEGORIES:External Hire
GEO:-35.2396675;149.07367
X-APPLE-STRUCTURED-LOCATION;VALUE=URI;X-ADDRESS=Holy Cross Lutheran Church 9 Emu Bank Belconnen ACT 2616 Australia;X-APPLE-RADIUS=500;X-TITLE=9 Emu Bank:geo:149.07367,-35.2396675
END:VEVENT
BEGIN:VEVENT
DTSTART;TZID=Australia/Sydney:20251102T130000
DTEND;TZID=Australia/Sydney:20251102T153000
DTSTAMP:20260425T111744
CREATED:20251224T051904Z
LAST-MODIFIED:20251224T052004Z
UID:13029-1762088400-1762097400@belconnen.lutheran.org.au
SUMMARY:Free Wesleyan Church of Tonga
DESCRIPTION:The Free Wesleyan Church of Tonga worships at Holy Cross each Sunday at 1.00 pm \nFurther information contact 0499868628
URL:https://belconnen.lutheran.org.au/event/free-wesleyan-church-of-tonga-2/2025-11-02/
LOCATION:Holy Cross Lutheran Church\, 9 Emu Bank\, Belconnen\, ACT\, 2616\, Australia
CATEGORIES:External Hire
GEO:-35.2396675;149.07367
X-APPLE-STRUCTURED-LOCATION;VALUE=URI;X-ADDRESS=Holy Cross Lutheran Church 9 Emu Bank Belconnen ACT 2616 Australia;X-APPLE-RADIUS=500;X-TITLE=9 Emu Bank:geo:149.07367,-35.2396675
END:VEVENT
BEGIN:VEVENT
DTSTART;TZID=Australia/Sydney:20251026T130000
DTEND;TZID=Australia/Sydney:20251026T153000
DTSTAMP:20260425T111744
CREATED:20251224T051904Z
LAST-MODIFIED:20251224T052004Z
UID:13028-1761483600-1761492600@belconnen.lutheran.org.au
SUMMARY:Free Wesleyan Church of Tonga
DESCRIPTION:The Free Wesleyan Church of Tonga worships at Holy Cross each Sunday at 1.00 pm \nFurther information contact 0499868628
URL:https://belconnen.lutheran.org.au/event/free-wesleyan-church-of-tonga-2/2025-10-26/
LOCATION:Holy Cross Lutheran Church\, 9 Emu Bank\, Belconnen\, ACT\, 2616\, Australia
CATEGORIES:External Hire
GEO:-35.2396675;149.07367
X-APPLE-STRUCTURED-LOCATION;VALUE=URI;X-ADDRESS=Holy Cross Lutheran Church 9 Emu Bank Belconnen ACT 2616 Australia;X-APPLE-RADIUS=500;X-TITLE=9 Emu Bank:geo:149.07367,-35.2396675
END:VEVENT
BEGIN:VEVENT
DTSTART;TZID=Australia/Sydney:20251019T130000
DTEND;TZID=Australia/Sydney:20251019T153000
DTSTAMP:20260425T111744
CREATED:20251224T051904Z
LAST-MODIFIED:20251224T052004Z
UID:13027-1760878800-1760887800@belconnen.lutheran.org.au
SUMMARY:Free Wesleyan Church of Tonga
DESCRIPTION:The Free Wesleyan Church of Tonga worships at Holy Cross each Sunday at 1.00 pm \nFurther information contact 0499868628
URL:https://belconnen.lutheran.org.au/event/free-wesleyan-church-of-tonga-2/2025-10-19/
LOCATION:Holy Cross Lutheran Church\, 9 Emu Bank\, Belconnen\, ACT\, 2616\, Australia
CATEGORIES:External Hire
GEO:-35.2396675;149.07367
X-APPLE-STRUCTURED-LOCATION;VALUE=URI;X-ADDRESS=Holy Cross Lutheran Church 9 Emu Bank Belconnen ACT 2616 Australia;X-APPLE-RADIUS=500;X-TITLE=9 Emu Bank:geo:149.07367,-35.2396675
END:VEVENT
BEGIN:VEVENT
DTSTART;TZID=Australia/Sydney:20251012T130000
DTEND;TZID=Australia/Sydney:20251012T153000
DTSTAMP:20260425T111744
CREATED:20251224T051904Z
LAST-MODIFIED:20251224T052003Z
UID:13026-1760274000-1760283000@belconnen.lutheran.org.au
SUMMARY:Free Wesleyan Church of Tonga
DESCRIPTION:The Free Wesleyan Church of Tonga worships at Holy Cross each Sunday at 1.00 pm \nFurther information contact 0499868628
URL:https://belconnen.lutheran.org.au/event/free-wesleyan-church-of-tonga-2/2025-10-12/
LOCATION:Holy Cross Lutheran Church\, 9 Emu Bank\, Belconnen\, ACT\, 2616\, Australia
CATEGORIES:External Hire
GEO:-35.2396675;149.07367
X-APPLE-STRUCTURED-LOCATION;VALUE=URI;X-ADDRESS=Holy Cross Lutheran Church 9 Emu Bank Belconnen ACT 2616 Australia;X-APPLE-RADIUS=500;X-TITLE=9 Emu Bank:geo:149.07367,-35.2396675
END:VEVENT
BEGIN:VEVENT
DTSTART;TZID=Australia/Sydney:20250921T130000
DTEND;TZID=Australia/Sydney:20250921T153000
DTSTAMP:20260425T111744
CREATED:20251224T051904Z
LAST-MODIFIED:20251224T052003Z
UID:13023-1758459600-1758468600@belconnen.lutheran.org.au
SUMMARY:Free Wesleyan Church of Tonga
DESCRIPTION:The Free Wesleyan Church of Tonga worships at Holy Cross each Sunday at 1.00 pm \nFurther information contact 0499868628
URL:https://belconnen.lutheran.org.au/event/free-wesleyan-church-of-tonga-2/2025-09-21/
LOCATION:Holy Cross Lutheran Church\, 9 Emu Bank\, Belconnen\, ACT\, 2616\, Australia
CATEGORIES:External Hire
GEO:-35.2396675;149.07367
X-APPLE-STRUCTURED-LOCATION;VALUE=URI;X-ADDRESS=Holy Cross Lutheran Church 9 Emu Bank Belconnen ACT 2616 Australia;X-APPLE-RADIUS=500;X-TITLE=9 Emu Bank:geo:149.07367,-35.2396675
END:VEVENT
BEGIN:VEVENT
DTSTART;TZID=Australia/Sydney:20250914T130000
DTEND;TZID=Australia/Sydney:20250914T153000
DTSTAMP:20260425T111744
CREATED:20251224T051904Z
LAST-MODIFIED:20251224T052003Z
UID:13022-1757854800-1757863800@belconnen.lutheran.org.au
SUMMARY:Free Wesleyan Church of Tonga
DESCRIPTION:The Free Wesleyan Church of Tonga worships at Holy Cross each Sunday at 1.00 pm \nFurther information contact 0499868628
URL:https://belconnen.lutheran.org.au/event/free-wesleyan-church-of-tonga-2/2025-09-14/
LOCATION:Holy Cross Lutheran Church\, 9 Emu Bank\, Belconnen\, ACT\, 2616\, Australia
CATEGORIES:External Hire
GEO:-35.2396675;149.07367
X-APPLE-STRUCTURED-LOCATION;VALUE=URI;X-ADDRESS=Holy Cross Lutheran Church 9 Emu Bank Belconnen ACT 2616 Australia;X-APPLE-RADIUS=500;X-TITLE=9 Emu Bank:geo:149.07367,-35.2396675
END:VEVENT
BEGIN:VEVENT
DTSTART;TZID=Australia/Sydney:20250907T130000
DTEND;TZID=Australia/Sydney:20250907T153000
DTSTAMP:20260425T111744
CREATED:20251224T051904Z
LAST-MODIFIED:20251224T052003Z
UID:13021-1757250000-1757259000@belconnen.lutheran.org.au
SUMMARY:Free Wesleyan Church of Tonga
DESCRIPTION:The Free Wesleyan Church of Tonga worships at Holy Cross each Sunday at 1.00 pm \nFurther information contact 0499868628
URL:https://belconnen.lutheran.org.au/event/free-wesleyan-church-of-tonga-2/2025-09-07/
LOCATION:Holy Cross Lutheran Church\, 9 Emu Bank\, Belconnen\, ACT\, 2616\, Australia
CATEGORIES:External Hire
GEO:-35.2396675;149.07367
X-APPLE-STRUCTURED-LOCATION;VALUE=URI;X-ADDRESS=Holy Cross Lutheran Church 9 Emu Bank Belconnen ACT 2616 Australia;X-APPLE-RADIUS=500;X-TITLE=9 Emu Bank:geo:149.07367,-35.2396675
END:VEVENT
END:VCALENDAR