BEGIN:VCALENDAR
VERSION:2.0
PRODID:-//Belconnen Holy Cross Congregation, ACT - ECPv6.8.1//NONSGML v1.0//EN
CALSCALE:GREGORIAN
METHOD:PUBLISH
X-WR-CALNAME:Belconnen Holy Cross Congregation, ACT
X-ORIGINAL-URL:https://belconnen.lutheran.org.au
X-WR-CALDESC:Events for Belconnen Holy Cross Congregation, ACT
REFRESH-INTERVAL;VALUE=DURATION:PT1H
X-Robots-Tag:noindex
X-PUBLISHED-TTL:PT1H
BEGIN:VTIMEZONE
TZID:Australia/Sydney
BEGIN:STANDARD
TZOFFSETFROM:+1100
TZOFFSETTO:+1000
TZNAME:AEST
DTSTART:20250405T160000
END:STANDARD
BEGIN:DAYLIGHT
TZOFFSETFROM:+1000
TZOFFSETTO:+1100
TZNAME:AEDT
DTSTART:20251004T160000
END:DAYLIGHT
END:VTIMEZONE
BEGIN:VEVENT
DTSTART;TZID=Australia/Sydney:20251120T130000
DTEND;TZID=Australia/Sydney:20251120T150000
DTSTAMP:20260420T103811
CREATED:20250717T043059Z
LAST-MODIFIED:20250717T043059Z
UID:14348-1763643600-1763650800@belconnen.lutheran.org.au
SUMMARY:Life Drawing Workshop
DESCRIPTION:THE LIFE DRAWING WORKSHOP\n– Creating Better Drawings through Clarity of Thought\, Mind and Focus \nThe Life Drawing Workshop has its own new YouTube Channel.\nPlease share it to help improve the Workshop’s numbers…\nhttps://youtu.be/PP6S_Nt39fw \nAlso\, please share this Life Drawing Workshop link…\nLife Drawing Workshop Info www.pazolli.com/lifedrawing \nLIFE DRAWING WORKSHOP\, – every THURSDAY –  1pm – 3pm. \nCREATE YOUR OWN DRAWING WORLD ….. BY DOING IT YOUR WAY…\n~ only you know how to find your creative pathway to better drawing. \nAthina Pazolli\nArtist; Painting; Drawing\nm: 0414 271311\ne: athina@pazolli.com\nart: www.pazolli.com\nDraw: www.pazolli.com/lifedrawing\nfb art: www.facebook.com/athina.pazolli\nfb draw: facebook.com/groups/2246575525649553/
URL:https://belconnen.lutheran.org.au/event/life-drawing-workshop-3/2025-11-20/
LOCATION:Holy Cross Lutheran Church\, 9 Emu Bank\, Belconnen\, ACT\, 2616\, Australia
GEO:-35.2396675;149.07367
X-APPLE-STRUCTURED-LOCATION;VALUE=URI;X-ADDRESS=Holy Cross Lutheran Church 9 Emu Bank Belconnen ACT 2616 Australia;X-APPLE-RADIUS=500;X-TITLE=9 Emu Bank:geo:149.07367,-35.2396675
END:VEVENT
BEGIN:VEVENT
DTSTART;TZID=Australia/Sydney:20251113T130000
DTEND;TZID=Australia/Sydney:20251113T150000
DTSTAMP:20260420T103811
CREATED:20250717T043059Z
LAST-MODIFIED:20250717T043059Z
UID:14346-1763038800-1763046000@belconnen.lutheran.org.au
SUMMARY:Life Drawing Workshop
DESCRIPTION:THE LIFE DRAWING WORKSHOP\n– Creating Better Drawings through Clarity of Thought\, Mind and Focus \nThe Life Drawing Workshop has its own new YouTube Channel.\nPlease share it to help improve the Workshop’s numbers…\nhttps://youtu.be/PP6S_Nt39fw \nAlso\, please share this Life Drawing Workshop link…\nLife Drawing Workshop Info www.pazolli.com/lifedrawing \nLIFE DRAWING WORKSHOP\, – every THURSDAY –  1pm – 3pm. \nCREATE YOUR OWN DRAWING WORLD ….. BY DOING IT YOUR WAY…\n~ only you know how to find your creative pathway to better drawing. \nAthina Pazolli\nArtist; Painting; Drawing\nm: 0414 271311\ne: athina@pazolli.com\nart: www.pazolli.com\nDraw: www.pazolli.com/lifedrawing\nfb art: www.facebook.com/athina.pazolli\nfb draw: facebook.com/groups/2246575525649553/
URL:https://belconnen.lutheran.org.au/event/life-drawing-workshop-3/2025-11-13/
LOCATION:Holy Cross Lutheran Church\, 9 Emu Bank\, Belconnen\, ACT\, 2616\, Australia
GEO:-35.2396675;149.07367
X-APPLE-STRUCTURED-LOCATION;VALUE=URI;X-ADDRESS=Holy Cross Lutheran Church 9 Emu Bank Belconnen ACT 2616 Australia;X-APPLE-RADIUS=500;X-TITLE=9 Emu Bank:geo:149.07367,-35.2396675
END:VEVENT
BEGIN:VEVENT
DTSTART;TZID=Australia/Sydney:20251106T130000
DTEND;TZID=Australia/Sydney:20251106T150000
DTSTAMP:20260420T103811
CREATED:20250717T043059Z
LAST-MODIFIED:20250717T043059Z
UID:14345-1762434000-1762441200@belconnen.lutheran.org.au
SUMMARY:Life Drawing Workshop
DESCRIPTION:THE LIFE DRAWING WORKSHOP\n– Creating Better Drawings through Clarity of Thought\, Mind and Focus \nThe Life Drawing Workshop has its own new YouTube Channel.\nPlease share it to help improve the Workshop’s numbers…\nhttps://youtu.be/PP6S_Nt39fw \nAlso\, please share this Life Drawing Workshop link…\nLife Drawing Workshop Info www.pazolli.com/lifedrawing \nLIFE DRAWING WORKSHOP\, – every THURSDAY –  1pm – 3pm. \nCREATE YOUR OWN DRAWING WORLD ….. BY DOING IT YOUR WAY…\n~ only you know how to find your creative pathway to better drawing. \nAthina Pazolli\nArtist; Painting; Drawing\nm: 0414 271311\ne: athina@pazolli.com\nart: www.pazolli.com\nDraw: www.pazolli.com/lifedrawing\nfb art: www.facebook.com/athina.pazolli\nfb draw: facebook.com/groups/2246575525649553/
URL:https://belconnen.lutheran.org.au/event/life-drawing-workshop-3/2025-11-06/
LOCATION:Holy Cross Lutheran Church\, 9 Emu Bank\, Belconnen\, ACT\, 2616\, Australia
GEO:-35.2396675;149.07367
X-APPLE-STRUCTURED-LOCATION;VALUE=URI;X-ADDRESS=Holy Cross Lutheran Church 9 Emu Bank Belconnen ACT 2616 Australia;X-APPLE-RADIUS=500;X-TITLE=9 Emu Bank:geo:149.07367,-35.2396675
END:VEVENT
BEGIN:VEVENT
DTSTART;TZID=Australia/Sydney:20251030T130000
DTEND;TZID=Australia/Sydney:20251030T150000
DTSTAMP:20260420T103811
CREATED:20250717T043059Z
LAST-MODIFIED:20250717T043059Z
UID:14344-1761829200-1761836400@belconnen.lutheran.org.au
SUMMARY:Life Drawing Workshop
DESCRIPTION:THE LIFE DRAWING WORKSHOP\n– Creating Better Drawings through Clarity of Thought\, Mind and Focus \nThe Life Drawing Workshop has its own new YouTube Channel.\nPlease share it to help improve the Workshop’s numbers…\nhttps://youtu.be/PP6S_Nt39fw \nAlso\, please share this Life Drawing Workshop link…\nLife Drawing Workshop Info www.pazolli.com/lifedrawing \nLIFE DRAWING WORKSHOP\, – every THURSDAY –  1pm – 3pm. \nCREATE YOUR OWN DRAWING WORLD ….. BY DOING IT YOUR WAY…\n~ only you know how to find your creative pathway to better drawing. \nAthina Pazolli\nArtist; Painting; Drawing\nm: 0414 271311\ne: athina@pazolli.com\nart: www.pazolli.com\nDraw: www.pazolli.com/lifedrawing\nfb art: www.facebook.com/athina.pazolli\nfb draw: facebook.com/groups/2246575525649553/
URL:https://belconnen.lutheran.org.au/event/life-drawing-workshop-3/2025-10-30/
LOCATION:Holy Cross Lutheran Church\, 9 Emu Bank\, Belconnen\, ACT\, 2616\, Australia
GEO:-35.2396675;149.07367
X-APPLE-STRUCTURED-LOCATION;VALUE=URI;X-ADDRESS=Holy Cross Lutheran Church 9 Emu Bank Belconnen ACT 2616 Australia;X-APPLE-RADIUS=500;X-TITLE=9 Emu Bank:geo:149.07367,-35.2396675
END:VEVENT
BEGIN:VEVENT
DTSTART;TZID=Australia/Sydney:20251023T130000
DTEND;TZID=Australia/Sydney:20251023T150000
DTSTAMP:20260420T103811
CREATED:20250717T043059Z
LAST-MODIFIED:20250717T043059Z
UID:14343-1761224400-1761231600@belconnen.lutheran.org.au
SUMMARY:Life Drawing Workshop
DESCRIPTION:THE LIFE DRAWING WORKSHOP\n– Creating Better Drawings through Clarity of Thought\, Mind and Focus \nThe Life Drawing Workshop has its own new YouTube Channel.\nPlease share it to help improve the Workshop’s numbers…\nhttps://youtu.be/PP6S_Nt39fw \nAlso\, please share this Life Drawing Workshop link…\nLife Drawing Workshop Info www.pazolli.com/lifedrawing \nLIFE DRAWING WORKSHOP\, – every THURSDAY –  1pm – 3pm. \nCREATE YOUR OWN DRAWING WORLD ….. BY DOING IT YOUR WAY…\n~ only you know how to find your creative pathway to better drawing. \nAthina Pazolli\nArtist; Painting; Drawing\nm: 0414 271311\ne: athina@pazolli.com\nart: www.pazolli.com\nDraw: www.pazolli.com/lifedrawing\nfb art: www.facebook.com/athina.pazolli\nfb draw: facebook.com/groups/2246575525649553/
URL:https://belconnen.lutheran.org.au/event/life-drawing-workshop-3/2025-10-23/
LOCATION:Holy Cross Lutheran Church\, 9 Emu Bank\, Belconnen\, ACT\, 2616\, Australia
GEO:-35.2396675;149.07367
X-APPLE-STRUCTURED-LOCATION;VALUE=URI;X-ADDRESS=Holy Cross Lutheran Church 9 Emu Bank Belconnen ACT 2616 Australia;X-APPLE-RADIUS=500;X-TITLE=9 Emu Bank:geo:149.07367,-35.2396675
END:VEVENT
BEGIN:VEVENT
DTSTART;TZID=Australia/Sydney:20251016T130000
DTEND;TZID=Australia/Sydney:20251016T150000
DTSTAMP:20260420T103811
CREATED:20250717T043059Z
LAST-MODIFIED:20250717T043059Z
UID:14342-1760619600-1760626800@belconnen.lutheran.org.au
SUMMARY:Life Drawing Workshop
DESCRIPTION:THE LIFE DRAWING WORKSHOP\n– Creating Better Drawings through Clarity of Thought\, Mind and Focus \nThe Life Drawing Workshop has its own new YouTube Channel.\nPlease share it to help improve the Workshop’s numbers…\nhttps://youtu.be/PP6S_Nt39fw \nAlso\, please share this Life Drawing Workshop link…\nLife Drawing Workshop Info www.pazolli.com/lifedrawing \nLIFE DRAWING WORKSHOP\, – every THURSDAY –  1pm – 3pm. \nCREATE YOUR OWN DRAWING WORLD ….. BY DOING IT YOUR WAY…\n~ only you know how to find your creative pathway to better drawing. \nAthina Pazolli\nArtist; Painting; Drawing\nm: 0414 271311\ne: athina@pazolli.com\nart: www.pazolli.com\nDraw: www.pazolli.com/lifedrawing\nfb art: www.facebook.com/athina.pazolli\nfb draw: facebook.com/groups/2246575525649553/
URL:https://belconnen.lutheran.org.au/event/life-drawing-workshop-3/2025-10-16/
LOCATION:Holy Cross Lutheran Church\, 9 Emu Bank\, Belconnen\, ACT\, 2616\, Australia
GEO:-35.2396675;149.07367
X-APPLE-STRUCTURED-LOCATION;VALUE=URI;X-ADDRESS=Holy Cross Lutheran Church 9 Emu Bank Belconnen ACT 2616 Australia;X-APPLE-RADIUS=500;X-TITLE=9 Emu Bank:geo:149.07367,-35.2396675
END:VEVENT
BEGIN:VEVENT
DTSTART;TZID=Australia/Sydney:20251009T130000
DTEND;TZID=Australia/Sydney:20251009T150000
DTSTAMP:20260420T103811
CREATED:20250717T043059Z
LAST-MODIFIED:20250717T043059Z
UID:14341-1760014800-1760022000@belconnen.lutheran.org.au
SUMMARY:Life Drawing Workshop
DESCRIPTION:THE LIFE DRAWING WORKSHOP\n– Creating Better Drawings through Clarity of Thought\, Mind and Focus \nThe Life Drawing Workshop has its own new YouTube Channel.\nPlease share it to help improve the Workshop’s numbers…\nhttps://youtu.be/PP6S_Nt39fw \nAlso\, please share this Life Drawing Workshop link…\nLife Drawing Workshop Info www.pazolli.com/lifedrawing \nLIFE DRAWING WORKSHOP\, – every THURSDAY –  1pm – 3pm. \nCREATE YOUR OWN DRAWING WORLD ….. BY DOING IT YOUR WAY…\n~ only you know how to find your creative pathway to better drawing. \nAthina Pazolli\nArtist; Painting; Drawing\nm: 0414 271311\ne: athina@pazolli.com\nart: www.pazolli.com\nDraw: www.pazolli.com/lifedrawing\nfb art: www.facebook.com/athina.pazolli\nfb draw: facebook.com/groups/2246575525649553/
URL:https://belconnen.lutheran.org.au/event/life-drawing-workshop-3/2025-10-09/
LOCATION:Holy Cross Lutheran Church\, 9 Emu Bank\, Belconnen\, ACT\, 2616\, Australia
GEO:-35.2396675;149.07367
X-APPLE-STRUCTURED-LOCATION;VALUE=URI;X-ADDRESS=Holy Cross Lutheran Church 9 Emu Bank Belconnen ACT 2616 Australia;X-APPLE-RADIUS=500;X-TITLE=9 Emu Bank:geo:149.07367,-35.2396675
END:VEVENT
BEGIN:VEVENT
DTSTART;TZID=Australia/Sydney:20251002T130000
DTEND;TZID=Australia/Sydney:20251002T150000
DTSTAMP:20260420T103811
CREATED:20250717T043059Z
LAST-MODIFIED:20250717T043059Z
UID:14340-1759410000-1759417200@belconnen.lutheran.org.au
SUMMARY:Life Drawing Workshop
DESCRIPTION:THE LIFE DRAWING WORKSHOP\n– Creating Better Drawings through Clarity of Thought\, Mind and Focus \nThe Life Drawing Workshop has its own new YouTube Channel.\nPlease share it to help improve the Workshop’s numbers…\nhttps://youtu.be/PP6S_Nt39fw \nAlso\, please share this Life Drawing Workshop link…\nLife Drawing Workshop Info www.pazolli.com/lifedrawing \nLIFE DRAWING WORKSHOP\, – every THURSDAY –  1pm – 3pm. \nCREATE YOUR OWN DRAWING WORLD ….. BY DOING IT YOUR WAY…\n~ only you know how to find your creative pathway to better drawing. \nAthina Pazolli\nArtist; Painting; Drawing\nm: 0414 271311\ne: athina@pazolli.com\nart: www.pazolli.com\nDraw: www.pazolli.com/lifedrawing\nfb art: www.facebook.com/athina.pazolli\nfb draw: facebook.com/groups/2246575525649553/
URL:https://belconnen.lutheran.org.au/event/life-drawing-workshop-3/2025-10-02/
LOCATION:Holy Cross Lutheran Church\, 9 Emu Bank\, Belconnen\, ACT\, 2616\, Australia
GEO:-35.2396675;149.07367
X-APPLE-STRUCTURED-LOCATION;VALUE=URI;X-ADDRESS=Holy Cross Lutheran Church 9 Emu Bank Belconnen ACT 2616 Australia;X-APPLE-RADIUS=500;X-TITLE=9 Emu Bank:geo:149.07367,-35.2396675
END:VEVENT
BEGIN:VEVENT
DTSTART;TZID=Australia/Sydney:20250925T130000
DTEND;TZID=Australia/Sydney:20250925T150000
DTSTAMP:20260420T103811
CREATED:20250717T043059Z
LAST-MODIFIED:20250717T043059Z
UID:14339-1758805200-1758812400@belconnen.lutheran.org.au
SUMMARY:Life Drawing Workshop
DESCRIPTION:THE LIFE DRAWING WORKSHOP\n– Creating Better Drawings through Clarity of Thought\, Mind and Focus \nThe Life Drawing Workshop has its own new YouTube Channel.\nPlease share it to help improve the Workshop’s numbers…\nhttps://youtu.be/PP6S_Nt39fw \nAlso\, please share this Life Drawing Workshop link…\nLife Drawing Workshop Info www.pazolli.com/lifedrawing \nLIFE DRAWING WORKSHOP\, – every THURSDAY –  1pm – 3pm. \nCREATE YOUR OWN DRAWING WORLD ….. BY DOING IT YOUR WAY…\n~ only you know how to find your creative pathway to better drawing. \nAthina Pazolli\nArtist; Painting; Drawing\nm: 0414 271311\ne: athina@pazolli.com\nart: www.pazolli.com\nDraw: www.pazolli.com/lifedrawing\nfb art: www.facebook.com/athina.pazolli\nfb draw: facebook.com/groups/2246575525649553/
URL:https://belconnen.lutheran.org.au/event/life-drawing-workshop-3/2025-09-25/
LOCATION:Holy Cross Lutheran Church\, 9 Emu Bank\, Belconnen\, ACT\, 2616\, Australia
GEO:-35.2396675;149.07367
X-APPLE-STRUCTURED-LOCATION;VALUE=URI;X-ADDRESS=Holy Cross Lutheran Church 9 Emu Bank Belconnen ACT 2616 Australia;X-APPLE-RADIUS=500;X-TITLE=9 Emu Bank:geo:149.07367,-35.2396675
END:VEVENT
BEGIN:VEVENT
DTSTART;TZID=Australia/Sydney:20250918T130000
DTEND;TZID=Australia/Sydney:20250918T150000
DTSTAMP:20260420T103811
CREATED:20250717T043059Z
LAST-MODIFIED:20250717T043059Z
UID:14338-1758200400-1758207600@belconnen.lutheran.org.au
SUMMARY:Life Drawing Workshop
DESCRIPTION:THE LIFE DRAWING WORKSHOP\n– Creating Better Drawings through Clarity of Thought\, Mind and Focus \nThe Life Drawing Workshop has its own new YouTube Channel.\nPlease share it to help improve the Workshop’s numbers…\nhttps://youtu.be/PP6S_Nt39fw \nAlso\, please share this Life Drawing Workshop link…\nLife Drawing Workshop Info www.pazolli.com/lifedrawing \nLIFE DRAWING WORKSHOP\, – every THURSDAY –  1pm – 3pm. \nCREATE YOUR OWN DRAWING WORLD ….. BY DOING IT YOUR WAY…\n~ only you know how to find your creative pathway to better drawing. \nAthina Pazolli\nArtist; Painting; Drawing\nm: 0414 271311\ne: athina@pazolli.com\nart: www.pazolli.com\nDraw: www.pazolli.com/lifedrawing\nfb art: www.facebook.com/athina.pazolli\nfb draw: facebook.com/groups/2246575525649553/
URL:https://belconnen.lutheran.org.au/event/life-drawing-workshop-3/2025-09-18/
LOCATION:Holy Cross Lutheran Church\, 9 Emu Bank\, Belconnen\, ACT\, 2616\, Australia
GEO:-35.2396675;149.07367
X-APPLE-STRUCTURED-LOCATION;VALUE=URI;X-ADDRESS=Holy Cross Lutheran Church 9 Emu Bank Belconnen ACT 2616 Australia;X-APPLE-RADIUS=500;X-TITLE=9 Emu Bank:geo:149.07367,-35.2396675
END:VEVENT
BEGIN:VEVENT
DTSTART;TZID=Australia/Sydney:20250911T130000
DTEND;TZID=Australia/Sydney:20250911T150000
DTSTAMP:20260420T103811
CREATED:20250717T043059Z
LAST-MODIFIED:20250717T043059Z
UID:14337-1757595600-1757602800@belconnen.lutheran.org.au
SUMMARY:Life Drawing Workshop
DESCRIPTION:THE LIFE DRAWING WORKSHOP\n– Creating Better Drawings through Clarity of Thought\, Mind and Focus \nThe Life Drawing Workshop has its own new YouTube Channel.\nPlease share it to help improve the Workshop’s numbers…\nhttps://youtu.be/PP6S_Nt39fw \nAlso\, please share this Life Drawing Workshop link…\nLife Drawing Workshop Info www.pazolli.com/lifedrawing \nLIFE DRAWING WORKSHOP\, – every THURSDAY –  1pm – 3pm. \nCREATE YOUR OWN DRAWING WORLD ….. BY DOING IT YOUR WAY…\n~ only you know how to find your creative pathway to better drawing. \nAthina Pazolli\nArtist; Painting; Drawing\nm: 0414 271311\ne: athina@pazolli.com\nart: www.pazolli.com\nDraw: www.pazolli.com/lifedrawing\nfb art: www.facebook.com/athina.pazolli\nfb draw: facebook.com/groups/2246575525649553/
URL:https://belconnen.lutheran.org.au/event/life-drawing-workshop-3/2025-09-11/
LOCATION:Holy Cross Lutheran Church\, 9 Emu Bank\, Belconnen\, ACT\, 2616\, Australia
GEO:-35.2396675;149.07367
X-APPLE-STRUCTURED-LOCATION;VALUE=URI;X-ADDRESS=Holy Cross Lutheran Church 9 Emu Bank Belconnen ACT 2616 Australia;X-APPLE-RADIUS=500;X-TITLE=9 Emu Bank:geo:149.07367,-35.2396675
END:VEVENT
BEGIN:VEVENT
DTSTART;TZID=Australia/Sydney:20250904T130000
DTEND;TZID=Australia/Sydney:20250904T150000
DTSTAMP:20260420T103811
CREATED:20250717T043059Z
LAST-MODIFIED:20250717T043059Z
UID:14336-1756990800-1756998000@belconnen.lutheran.org.au
SUMMARY:Life Drawing Workshop
DESCRIPTION:THE LIFE DRAWING WORKSHOP\n– Creating Better Drawings through Clarity of Thought\, Mind and Focus \nThe Life Drawing Workshop has its own new YouTube Channel.\nPlease share it to help improve the Workshop’s numbers…\nhttps://youtu.be/PP6S_Nt39fw \nAlso\, please share this Life Drawing Workshop link…\nLife Drawing Workshop Info www.pazolli.com/lifedrawing \nLIFE DRAWING WORKSHOP\, – every THURSDAY –  1pm – 3pm. \nCREATE YOUR OWN DRAWING WORLD ….. BY DOING IT YOUR WAY…\n~ only you know how to find your creative pathway to better drawing. \nAthina Pazolli\nArtist; Painting; Drawing\nm: 0414 271311\ne: athina@pazolli.com\nart: www.pazolli.com\nDraw: www.pazolli.com/lifedrawing\nfb art: www.facebook.com/athina.pazolli\nfb draw: facebook.com/groups/2246575525649553/
URL:https://belconnen.lutheran.org.au/event/life-drawing-workshop-3/2025-09-04/
LOCATION:Holy Cross Lutheran Church\, 9 Emu Bank\, Belconnen\, ACT\, 2616\, Australia
GEO:-35.2396675;149.07367
X-APPLE-STRUCTURED-LOCATION;VALUE=URI;X-ADDRESS=Holy Cross Lutheran Church 9 Emu Bank Belconnen ACT 2616 Australia;X-APPLE-RADIUS=500;X-TITLE=9 Emu Bank:geo:149.07367,-35.2396675
END:VEVENT
END:VCALENDAR