BEGIN:VCALENDAR
VERSION:2.0
PRODID:-//Belconnen Holy Cross Congregation, ACT - ECPv6.8.1//NONSGML v1.0//EN
CALSCALE:GREGORIAN
METHOD:PUBLISH
X-ORIGINAL-URL:https://belconnen.lutheran.org.au
X-WR-CALDESC:Events for Belconnen Holy Cross Congregation, ACT
REFRESH-INTERVAL;VALUE=DURATION:PT1H
X-Robots-Tag:noindex
X-PUBLISHED-TTL:PT1H
BEGIN:VTIMEZONE
TZID:Australia/Sydney
BEGIN:STANDARD
TZOFFSETFROM:+1100
TZOFFSETTO:+1000
TZNAME:AEST
DTSTART:20250405T160000
END:STANDARD
BEGIN:DAYLIGHT
TZOFFSETFROM:+1000
TZOFFSETTO:+1100
TZNAME:AEDT
DTSTART:20251004T160000
END:DAYLIGHT
END:VTIMEZONE
BEGIN:VEVENT
DTSTART;TZID=Australia/Sydney:20251203T200000
DTEND;TZID=Australia/Sydney:20251203T213000
DTSTAMP:20260420T040255
CREATED:20241216T080817Z
LAST-MODIFIED:20251120T080925Z
UID:13120-1764792000-1764797400@belconnen.lutheran.org.au
SUMMARY:Men's Fellowship Group
DESCRIPTION:Our Men’s Fellowship Group meets on the first Wednesday of each month in the homes of meembers. See weekly Bulletin for the venue for each month. \nOur meetins for 2025 have concluded. We will meet again in February 2026.
URL:https://belconnen.lutheran.org.au/event/mens-fellowship-group-3-2025-12-03/2025-12-03/
CATEGORIES:Men's Fellowship
END:VEVENT
END:VCALENDAR