BEGIN:VCALENDAR
VERSION:2.0
PRODID:-//Belconnen Holy Cross Congregation, ACT - ECPv5.3.0//NONSGML v1.0//EN
CALSCALE:GREGORIAN
METHOD:PUBLISH
X-WR-CALNAME:Belconnen Holy Cross Congregation, ACT
X-ORIGINAL-URL:https://belconnen.lutheran.org.au
X-WR-CALDESC:Events for Belconnen Holy Cross Congregation, ACT
BEGIN:VTIMEZONE
TZID:UTC
BEGIN:STANDARD
TZOFFSETFROM:+0000
TZOFFSETTO:+0000
TZNAME:UTC
DTSTART:20210101T000000
END:STANDARD
END:VTIMEZONE
BEGIN:VEVENT
DTSTART;TZID=UTC:20210203T200000
DTEND;TZID=UTC:20210203T213000
DTSTAMP:20210227T063650
CREATED:20180327T144726Z
LAST-MODIFIED:20210122T053140Z
UID:6462-1612382400-1612387800@belconnen.lutheran.org.au
SUMMARY:Men's Group
DESCRIPTION:Men’s Group meets in the evening in the homes of members of the Group. Selected and varied topics are studied and discussed and hospitality shared.  See the weekly bulletin for the time and place of the next meeting or contact the office.
URL:https://belconnen.lutheran.org.au/event/mens-group-2021-01-06/2021-02-03/
CATEGORIES:Men's Fellowship
ORGANIZER;CN="Pastor%20Ian%20Rentsch":MAILTO:hcbelcon@bigpond.net.au
END:VEVENT
END:VCALENDAR