BEGIN:VCALENDAR
VERSION:2.0
PRODID:-//Belconnen Holy Cross Congregation, ACT - ECPv6.8.1//NONSGML v1.0//EN
CALSCALE:GREGORIAN
METHOD:PUBLISH
X-WR-CALNAME:Belconnen Holy Cross Congregation, ACT
X-ORIGINAL-URL:https://belconnen.lutheran.org.au
X-WR-CALDESC:Events for Belconnen Holy Cross Congregation, ACT
REFRESH-INTERVAL;VALUE=DURATION:PT1H
X-Robots-Tag:noindex
X-PUBLISHED-TTL:PT1H
BEGIN:VTIMEZONE
TZID:Australia/Sydney
BEGIN:STANDARD
TZOFFSETFROM:+1100
TZOFFSETTO:+1000
TZNAME:AEST
DTSTART:20240406T160000
END:STANDARD
BEGIN:DAYLIGHT
TZOFFSETFROM:+1000
TZOFFSETTO:+1100
TZNAME:AEDT
DTSTART:20241005T160000
END:DAYLIGHT
END:VTIMEZONE
BEGIN:VEVENT
DTSTART;TZID=Australia/Sydney:20240120T170000
DTEND;TZID=Australia/Sydney:20240120T210000
DTSTAMP:20260425T044914
CREATED:20240107T030633Z
LAST-MODIFIED:20240107T030613Z
UID:8594-1705770000-1705784400@belconnen.lutheran.org.au
SUMMARY:Canberra Telugu Christian Fellowship
DESCRIPTION:The Canberra Telugu Christian Fellowship meets at Holy Cross in the evening of the third Saturday of each month
URL:https://belconnen.lutheran.org.au/event/canberra-telugu-christian-fellowship/2024-01-20/
LOCATION:ACT
END:VEVENT
END:VCALENDAR