BEGIN:VCALENDAR
VERSION:2.0
PRODID:-//Belconnen Holy Cross Congregation, ACT - ECPv6.8.1//NONSGML v1.0//EN
CALSCALE:GREGORIAN
METHOD:PUBLISH
X-ORIGINAL-URL:https://belconnen.lutheran.org.au
X-WR-CALDESC:Events for Belconnen Holy Cross Congregation, ACT
REFRESH-INTERVAL;VALUE=DURATION:PT1H
X-Robots-Tag:noindex
X-PUBLISHED-TTL:PT1H
BEGIN:VTIMEZONE
TZID:Australia/Sydney
BEGIN:STANDARD
TZOFFSETFROM:+1100
TZOFFSETTO:+1000
TZNAME:AEST
DTSTART:20240406T160000
END:STANDARD
BEGIN:DAYLIGHT
TZOFFSETFROM:+1000
TZOFFSETTO:+1100
TZNAME:AEDT
DTSTART:20241005T160000
END:DAYLIGHT
END:VTIMEZONE
BEGIN:VEVENT
DTSTART;TZID=Australia/Sydney:20240121T100000
DTEND;TZID=Australia/Sydney:20240121T113000
DTSTAMP:20260425T062501
CREATED:20220119T030324Z
LAST-MODIFIED:20240119T030341Z
UID:10833-1705831200-1705836600@belconnen.lutheran.org.au
SUMMARY:Worship with Holy Communion
DESCRIPTION:Please join us for  Worship every Sunday at 10.00 am \nWorship with Holy Communion is  held every Sunday morning at 10.00 am \nGuidelines in relation to Covid safe behaviours are followed. \nServices are livestreamed via Youtube and an edited video uploaded later for those unable to attend. \nOur Bulletin for this week may be read here.
URL:https://belconnen.lutheran.org.au/event/worship-with-holy-communion-2022-01-30-2022-02-20-2022-07-10-2022-11-27-2023-01-01-2023-07-16-2023-07-23-2023-12-31-2024-01-21/
LOCATION:Holy Cross Lutheran Church\, 9 Emu Bank\, Belconnen\, ACT\, 2616\, Australia
CATEGORIES:Worship
ATTACH;FMTTYPE=image/jpeg:https://belconnen.lutheran.org.au/wp-content/uploads/sites/194/2018/03/HCB3-Copy.jpg
ORGANIZER;CN="Pastor Darren Jaensch":MAILTO:darren.jaensch@lca.org.au
GEO:-35.2396675;149.07367
X-APPLE-STRUCTURED-LOCATION;VALUE=URI;X-ADDRESS=Holy Cross Lutheran Church 9 Emu Bank Belconnen ACT 2616 Australia;X-APPLE-RADIUS=500;X-TITLE=9 Emu Bank:geo:149.07367,-35.2396675
END:VEVENT
BEGIN:VEVENT
DTSTART;TZID=Australia/Sydney:20240128T100000
DTEND;TZID=Australia/Sydney:20240128T113000
DTSTAMP:20260425T062501
CREATED:20240126T025124Z
LAST-MODIFIED:20240128T025037Z
UID:10834-1706436000-1706441400@belconnen.lutheran.org.au
SUMMARY:Worship with Holy Communion
DESCRIPTION:Please join us for  Worship every Sunday at 10.00 am \nWorship with Holy Communion is  held every Sunday morning at 10.00 am \nGuidelines in relation to Covid safe behaviours are followed. \n \nOur Bulletin for this week may be read here
URL:https://belconnen.lutheran.org.au/event/worship-with-holy-communion-2022-01-30-2022-02-20-2022-07-10-2022-11-27-2023-01-01-2023-07-16-2023-07-23-2023-12-31-2024-01-28/
LOCATION:Holy Cross Lutheran Church\, 9 Emu Bank\, Belconnen\, ACT\, 2616\, Australia
CATEGORIES:Worship
ATTACH;FMTTYPE=image/jpeg:https://belconnen.lutheran.org.au/wp-content/uploads/sites/194/2018/03/HCB3-Copy.jpg
ORGANIZER;CN="Pastor Darren Jaensch":MAILTO:darren.jaensch@lca.org.au
GEO:-35.2396675;149.07367
X-APPLE-STRUCTURED-LOCATION;VALUE=URI;X-ADDRESS=Holy Cross Lutheran Church 9 Emu Bank Belconnen ACT 2616 Australia;X-APPLE-RADIUS=500;X-TITLE=9 Emu Bank:geo:149.07367,-35.2396675
END:VEVENT
BEGIN:VEVENT
DTSTART;TZID=Australia/Sydney:20240129T173000
DTEND;TZID=Australia/Sydney:20240129T203000
DTSTAMP:20260425T062501
CREATED:20240113T010826Z
LAST-MODIFIED:20240113T010826Z
UID:11440-1706549400-1706560200@belconnen.lutheran.org.au
SUMMARY:Belconnen Community Council
DESCRIPTION:Belconnen Community Council planning meeting
URL:https://belconnen.lutheran.org.au/event/belconnen-community-council-4/
LOCATION:Holy Cross Lutheran Church\, 9 Emu Bank\, Belconnen\, ACT\, 2616\, Australia
CATEGORIES:External Hire
GEO:-35.2396675;149.07367
X-APPLE-STRUCTURED-LOCATION;VALUE=URI;X-ADDRESS=Holy Cross Lutheran Church 9 Emu Bank Belconnen ACT 2616 Australia;X-APPLE-RADIUS=500;X-TITLE=9 Emu Bank:geo:149.07367,-35.2396675
END:VEVENT
BEGIN:VEVENT
DTSTART;TZID=Australia/Sydney:20240202T190000
DTEND;TZID=Australia/Sydney:20240202T220000
DTSTAMP:20260425T062501
CREATED:20240202T031023Z
LAST-MODIFIED:20240202T031023Z
UID:11514-1706900400-1706911200@belconnen.lutheran.org.au
SUMMARY:Free Wesleyan Church of Tonga - Youth Group
DESCRIPTION:Youth group meets at Holy Cross 7-10 pm
URL:https://belconnen.lutheran.org.au/event/free-wesleyan-church-of-tonga-youth-group/
LOCATION:Holy Cross Lutheran Church\, 9 Emu Bank\, Belconnen\, ACT\, 2616\, Australia
GEO:-35.2396675;149.07367
X-APPLE-STRUCTURED-LOCATION;VALUE=URI;X-ADDRESS=Holy Cross Lutheran Church 9 Emu Bank Belconnen ACT 2616 Australia;X-APPLE-RADIUS=500;X-TITLE=9 Emu Bank:geo:149.07367,-35.2396675
END:VEVENT
BEGIN:VEVENT
DTSTART;TZID=Australia/Sydney:20240204T100000
DTEND;TZID=Australia/Sydney:20240204T113000
DTSTAMP:20260425T062501
CREATED:20240202T025124Z
LAST-MODIFIED:20240204T022343Z
UID:10835-1707040800-1707046200@belconnen.lutheran.org.au
SUMMARY:Worship with Holy Communion
DESCRIPTION:Please join us for  Worship every Sunday at 10.00 am \nWorship with Holy Communion is  held every Sunday morning at 10.00 am \nGuidelines in relation to Covid safe behaviours are followed. \n \nOur Bulletin for this week may be read here
URL:https://belconnen.lutheran.org.au/event/worship-with-holy-communion-2022-01-30-2022-02-20-2022-07-10-2022-11-27-2023-01-01-2023-07-16-2023-07-23-2023-12-31-2024-02-04/
LOCATION:Holy Cross Lutheran Church\, 9 Emu Bank\, Belconnen\, ACT\, 2616\, Australia
CATEGORIES:Worship
ATTACH;FMTTYPE=image/jpeg:https://belconnen.lutheran.org.au/wp-content/uploads/sites/194/2018/03/HCB3-Copy.jpg
ORGANIZER;CN="Pastor Darren Jaensch":MAILTO:darren.jaensch@lca.org.au
GEO:-35.2396675;149.07367
X-APPLE-STRUCTURED-LOCATION;VALUE=URI;X-ADDRESS=Holy Cross Lutheran Church 9 Emu Bank Belconnen ACT 2616 Australia;X-APPLE-RADIUS=500;X-TITLE=9 Emu Bank:geo:149.07367,-35.2396675
END:VEVENT
BEGIN:VEVENT
DTSTART;TZID=Australia/Sydney:20240206T100000
DTEND;TZID=Australia/Sydney:20240206T120000
DTSTAMP:20260425T062501
CREATED:20221119T080803Z
LAST-MODIFIED:20231217T031644Z
UID:8539-1707213600-1707220800@belconnen.lutheran.org.au
SUMMARY:Playgroup
DESCRIPTION:Playgroup meets each Tuesday and Friday from 10.00 am to 12.00pm \n \n 
URL:https://belconnen.lutheran.org.au/event/playgroup-2/2024-02-06/
LOCATION:Holy Cross Lutheran Church\, 9 Emu Bank\, Belconnen\, ACT\, 2616\, Australia
ATTACH;FMTTYPE=image/jpeg:https://belconnen.lutheran.org.au/wp-content/uploads/sites/194/2022/11/play-e1674968560858.jpg
GEO:-35.2396675;149.07367
X-APPLE-STRUCTURED-LOCATION;VALUE=URI;X-ADDRESS=Holy Cross Lutheran Church 9 Emu Bank Belconnen ACT 2616 Australia;X-APPLE-RADIUS=500;X-TITLE=9 Emu Bank:geo:149.07367,-35.2396675
END:VEVENT
BEGIN:VEVENT
DTSTART;TZID=Australia/Sydney:20240208T093000
DTEND;TZID=Australia/Sydney:20240208T113000
DTSTAMP:20260425T062501
CREATED:20240110T055938Z
LAST-MODIFIED:20241122T040214Z
UID:11311-1707384600-1707391800@belconnen.lutheran.org.au
SUMMARY:Sing Australia
DESCRIPTION:Sing Australia Belconnen Choir meets at 9.30 am each Thursday. For further information see https://www.singaustralia.com.au/sing-australia-groups/
URL:https://belconnen.lutheran.org.au/event/sing-australia-2/2024-02-08/
LOCATION:ACT
CATEGORIES:External Hire
END:VEVENT
BEGIN:VEVENT
DTSTART;TZID=Australia/Sydney:20240209T100000
DTEND;TZID=Australia/Sydney:20240209T120000
DTSTAMP:20260425T062501
CREATED:20240110T034829Z
LAST-MODIFIED:20240110T054846Z
UID:8582-1707472800-1707480000@belconnen.lutheran.org.au
SUMMARY:Playgroup
DESCRIPTION:Playgroup meets each Tuesday and Friday from 10.00 am to 12.00pm
URL:https://belconnen.lutheran.org.au/event/playgroup-3/2024-02-09/
LOCATION:Holy Cross Lutheran Church\, 9 Emu Bank\, Belconnen\, ACT\, 2616\, Australia
CATEGORIES:Children
ATTACH;FMTTYPE=image/jpeg:https://belconnen.lutheran.org.au/wp-content/uploads/sites/194/2022/11/play-e1674968560858.jpg
GEO:-35.2396675;149.07367
X-APPLE-STRUCTURED-LOCATION;VALUE=URI;X-ADDRESS=Holy Cross Lutheran Church 9 Emu Bank Belconnen ACT 2616 Australia;X-APPLE-RADIUS=500;X-TITLE=9 Emu Bank:geo:149.07367,-35.2396675
END:VEVENT
BEGIN:VEVENT
DTSTART;TZID=Australia/Sydney:20240211T100000
DTEND;TZID=Australia/Sydney:20240211T113000
DTSTAMP:20260425T062501
CREATED:20240209T031924Z
LAST-MODIFIED:20240211T032847Z
UID:10836-1707645600-1707651000@belconnen.lutheran.org.au
SUMMARY:Worship with Holy Communion
DESCRIPTION:Please join us for  Worship every Sunday at 10.00 am \nWorship with Holy Communion is  held every Sunday morning at 10.00 am \nGuidelines in relation to Covid safe behaviours are followed. \n \nOur Bulletin for this week may be read here
URL:https://belconnen.lutheran.org.au/event/worship-with-holy-communion-2022-01-30-2022-02-20-2022-07-10-2022-11-27-2023-01-01-2023-07-16-2023-07-23-2023-12-31-2024-02-11/
LOCATION:Holy Cross Lutheran Church\, 9 Emu Bank\, Belconnen\, ACT\, 2616\, Australia
CATEGORIES:Worship
ATTACH;FMTTYPE=image/jpeg:https://belconnen.lutheran.org.au/wp-content/uploads/sites/194/2018/03/HCB3-Copy.jpg
ORGANIZER;CN="Pastor Darren Jaensch":MAILTO:darren.jaensch@lca.org.au
GEO:-35.2396675;149.07367
X-APPLE-STRUCTURED-LOCATION;VALUE=URI;X-ADDRESS=Holy Cross Lutheran Church 9 Emu Bank Belconnen ACT 2616 Australia;X-APPLE-RADIUS=500;X-TITLE=9 Emu Bank:geo:149.07367,-35.2396675
END:VEVENT
BEGIN:VEVENT
DTSTART;TZID=Australia/Sydney:20240212T193000
DTEND;TZID=Australia/Sydney:20240212T213000
DTSTAMP:20260425T062501
CREATED:20240114T031834Z
LAST-MODIFIED:20240114T031834Z
UID:11444-1707766200-1707773400@belconnen.lutheran.org.au
SUMMARY:Deacons Meeting (Church Council)
DESCRIPTION:Our Deacons meet at 7.30 pm
URL:https://belconnen.lutheran.org.au/event/deacons-meeting-church-council/
LOCATION:Holy Cross Lutheran Church\, 9 Emu Bank\, Belconnen\, ACT\, 2616\, Australia
CATEGORIES:Meeting
GEO:-35.2396675;149.07367
X-APPLE-STRUCTURED-LOCATION;VALUE=URI;X-ADDRESS=Holy Cross Lutheran Church 9 Emu Bank Belconnen ACT 2616 Australia;X-APPLE-RADIUS=500;X-TITLE=9 Emu Bank:geo:149.07367,-35.2396675
END:VEVENT
BEGIN:VEVENT
DTSTART;TZID=Australia/Sydney:20240215T190000
DTEND;TZID=Australia/Sydney:20240215T220000
DTSTAMP:20260425T062501
CREATED:20240214T040430Z
LAST-MODIFIED:20240214T040430Z
UID:11604-1708023600-1708034400@belconnen.lutheran.org.au
SUMMARY:Free Wesleyan Church of Tonga Youth Group
DESCRIPTION:The Free Wesleyan Church of Tonga Youth Group meets weekly at Holy Cross For this week only the group will meet on Thursday evening rather than the usual Friday evening
URL:https://belconnen.lutheran.org.au/event/free-wesleyan-church-of-tonga-youth-group-3/
LOCATION:Holy Cross Lutheran Church\, 9 Emu Bank\, Belconnen\, ACT\, 2616\, Australia
ORGANIZER;CN="Robert Steve Vave":MAILTO:Robertandrenata@hotmail.com
GEO:-35.2396675;149.07367
X-APPLE-STRUCTURED-LOCATION;VALUE=URI;X-ADDRESS=Holy Cross Lutheran Church 9 Emu Bank Belconnen ACT 2616 Australia;X-APPLE-RADIUS=500;X-TITLE=9 Emu Bank:geo:149.07367,-35.2396675
END:VEVENT
BEGIN:VEVENT
DTSTART;TZID=Australia/Sydney:20240218T100000
DTEND;TZID=Australia/Sydney:20240218T113000
DTSTAMP:20260425T062501
CREATED:20240216T021224Z
LAST-MODIFIED:20240218T030314Z
UID:10837-1708250400-1708255800@belconnen.lutheran.org.au
SUMMARY:Worship with Holy Communion
DESCRIPTION:Please join us for  Worship every Sunday at 10.00 am \nWorship with Holy Communion is  held every Sunday morning at 10.00 am \nGuidelines in relation to Covid safe behaviours are followed. \n \nOur Bulletin for this week may be read here
URL:https://belconnen.lutheran.org.au/event/worship-with-holy-communion-2022-01-30-2022-02-20-2022-07-10-2022-11-27-2023-01-01-2023-07-16-2023-07-23-2023-12-31-2024-02-18/
LOCATION:Holy Cross Lutheran Church\, 9 Emu Bank\, Belconnen\, ACT\, 2616\, Australia
CATEGORIES:Worship
ATTACH;FMTTYPE=image/jpeg:https://belconnen.lutheran.org.au/wp-content/uploads/sites/194/2018/03/HCB3-Copy.jpg
ORGANIZER;CN="Pastor Darren Jaensch":MAILTO:darren.jaensch@lca.org.au
GEO:-35.2396675;149.07367
X-APPLE-STRUCTURED-LOCATION;VALUE=URI;X-ADDRESS=Holy Cross Lutheran Church 9 Emu Bank Belconnen ACT 2616 Australia;X-APPLE-RADIUS=500;X-TITLE=9 Emu Bank:geo:149.07367,-35.2396675
END:VEVENT
BEGIN:VEVENT
DTSTART;TZID=Australia/Sydney:20240220T170000
DTEND;TZID=Australia/Sydney:20240220T213000
DTSTAMP:20260425T062501
CREATED:20240205T073950Z
LAST-MODIFIED:20240205T073950Z
UID:11572-1708448400-1708464600@belconnen.lutheran.org.au
SUMMARY:Belconnen Community Council
DESCRIPTION:Belconnen Community Council meeting
URL:https://belconnen.lutheran.org.au/event/belconnen-community-council-5/
LOCATION:Holy Cross Lutheran Church\, 9 Emu Bank\, Belconnen\, ACT\, 2616\, Australia
CATEGORIES:External Hire,Meeting
GEO:-35.2396675;149.07367
X-APPLE-STRUCTURED-LOCATION;VALUE=URI;X-ADDRESS=Holy Cross Lutheran Church 9 Emu Bank Belconnen ACT 2616 Australia;X-APPLE-RADIUS=500;X-TITLE=9 Emu Bank:geo:149.07367,-35.2396675
END:VEVENT
BEGIN:VEVENT
DTSTART;TZID=Australia/Sydney:20240225T100000
DTEND;TZID=Australia/Sydney:20240225T113000
DTSTAMP:20260425T062501
CREATED:20220223T023924Z
LAST-MODIFIED:20240225T050031Z
UID:10838-1708855200-1708860600@belconnen.lutheran.org.au
SUMMARY:Worship with Holy Communion
DESCRIPTION:Please join us for  Worship every Sunday at 10.00 am \nWorship with Holy Communion is  held every Sunday morning at 10.00 am \nGuidelines in relation to Covid safe behaviours are followed. \n \nOur Bulletin for this week may be read here
URL:https://belconnen.lutheran.org.au/event/worship-with-holy-communion-2022-01-30-2022-02-20-2022-07-10-2022-11-27-2023-01-01-2023-07-16-2023-07-23-2023-12-31-2024-02-25/
LOCATION:Holy Cross Lutheran Church\, 9 Emu Bank\, Belconnen\, ACT\, 2616\, Australia
CATEGORIES:Worship
ATTACH;FMTTYPE=image/jpeg:https://belconnen.lutheran.org.au/wp-content/uploads/sites/194/2018/03/HCB3-Copy.jpg
ORGANIZER;CN="Pastor Darren Jaensch":MAILTO:darren.jaensch@lca.org.au
GEO:-35.2396675;149.07367
X-APPLE-STRUCTURED-LOCATION;VALUE=URI;X-ADDRESS=Holy Cross Lutheran Church 9 Emu Bank Belconnen ACT 2616 Australia;X-APPLE-RADIUS=500;X-TITLE=9 Emu Bank:geo:149.07367,-35.2396675
END:VEVENT
BEGIN:VEVENT
DTSTART;TZID=Australia/Sydney:20240303T100000
DTEND;TZID=Australia/Sydney:20240303T113000
DTSTAMP:20260425T062501
CREATED:20240302T031524Z
LAST-MODIFIED:20240303T023508Z
UID:10839-1709460000-1709465400@belconnen.lutheran.org.au
SUMMARY:Worship with Holy Communion
DESCRIPTION:Please join us for  Worship every Sunday at 10.00 am \nWorship with Holy Communion is  held every Sunday morning at 10.00 am \nGuidelines in relation to Covid safe behaviours are followed. \n \nOur Bulletin for this week may be read here
URL:https://belconnen.lutheran.org.au/event/worship-with-holy-communion-2022-01-30-2022-02-20-2022-07-10-2022-11-27-2023-01-01-2023-07-16-2023-07-23-2023-12-31-2024-03-03/
LOCATION:Holy Cross Lutheran Church\, 9 Emu Bank\, Belconnen\, ACT\, 2616\, Australia
CATEGORIES:Worship
ATTACH;FMTTYPE=image/jpeg:https://belconnen.lutheran.org.au/wp-content/uploads/sites/194/2018/03/HCB3-Copy.jpg
ORGANIZER;CN="Pastor Darren Jaensch":MAILTO:darren.jaensch@lca.org.au
GEO:-35.2396675;149.07367
X-APPLE-STRUCTURED-LOCATION;VALUE=URI;X-ADDRESS=Holy Cross Lutheran Church 9 Emu Bank Belconnen ACT 2616 Australia;X-APPLE-RADIUS=500;X-TITLE=9 Emu Bank:geo:149.07367,-35.2396675
END:VEVENT
BEGIN:VEVENT
DTSTART;TZID=Australia/Sydney:20240305T133000
DTEND;TZID=Australia/Sydney:20240305T170000
DTSTAMP:20260425T062501
CREATED:20240229T003424Z
LAST-MODIFIED:20240301T032106Z
UID:11626-1709645400-1709658000@belconnen.lutheran.org.au
SUMMARY:Funeral - Karolina May
DESCRIPTION:Karolina May’s funeral will take place today – 1.30pm funeral service @ Holy Cross; 3pm committal @ Gungahlin Cemetery; 3.45pm refreshments @ Holy Cross. The service will be live streamed via the Holy Cross youtube channel – https://www.youtube.com/@holycrossbelconnen6688 \n 
URL:https://belconnen.lutheran.org.au/event/funeral-karolina-may/
LOCATION:Holy Cross Lutheran Church\, 9 Emu Bank\, Belconnen\, ACT\, 2616\, Australia
ORGANIZER;CN="Pastor Darren Jaensch":MAILTO:darren.jaensch@lca.org.au
GEO:-35.2396675;149.07367
X-APPLE-STRUCTURED-LOCATION;VALUE=URI;X-ADDRESS=Holy Cross Lutheran Church 9 Emu Bank Belconnen ACT 2616 Australia;X-APPLE-RADIUS=500;X-TITLE=9 Emu Bank:geo:149.07367,-35.2396675
END:VEVENT
BEGIN:VEVENT
DTSTART;TZID=Australia/Sydney:20240310T100000
DTEND;TZID=Australia/Sydney:20240310T113000
DTSTAMP:20260425T062501
CREATED:20240308T030624Z
LAST-MODIFIED:20240310T080558Z
UID:10840-1710064800-1710070200@belconnen.lutheran.org.au
SUMMARY:Worship with Holy Communion
DESCRIPTION:Please join us for  Worship every Sunday at 10.00 am \nWorship with Holy Communion is  held every Sunday morning at 10.00 am \nGuidelines in relation to Covid safe behaviours are followed. \n \nOur Bulletin for this week may be read here
URL:https://belconnen.lutheran.org.au/event/worship-with-holy-communion-2022-01-30-2022-02-20-2022-07-10-2022-11-27-2023-01-01-2023-07-16-2023-07-23-2023-12-31-2024-03-10/
LOCATION:Holy Cross Lutheran Church\, 9 Emu Bank\, Belconnen\, ACT\, 2616\, Australia
CATEGORIES:Worship
ATTACH;FMTTYPE=image/jpeg:https://belconnen.lutheran.org.au/wp-content/uploads/sites/194/2018/03/HCB3-Copy.jpg
ORGANIZER;CN="Pastor Darren Jaensch":MAILTO:darren.jaensch@lca.org.au
GEO:-35.2396675;149.07367
X-APPLE-STRUCTURED-LOCATION;VALUE=URI;X-ADDRESS=Holy Cross Lutheran Church 9 Emu Bank Belconnen ACT 2616 Australia;X-APPLE-RADIUS=500;X-TITLE=9 Emu Bank:geo:149.07367,-35.2396675
END:VEVENT
BEGIN:VEVENT
DTSTART;TZID=Australia/Sydney:20240316T150000
DTEND;TZID=Australia/Sydney:20240316T183000
DTSTAMP:20260425T062501
CREATED:20240308T031339Z
LAST-MODIFIED:20240308T031339Z
UID:11654-1710601200-1710613800@belconnen.lutheran.org.au
SUMMARY:Graduation Celebration
DESCRIPTION:Graduation celebration – Jeevith David
URL:https://belconnen.lutheran.org.au/event/graduation-celebration/
LOCATION:ACT
END:VEVENT
BEGIN:VEVENT
DTSTART;TZID=Australia/Sydney:20240316T183000
DTEND;TZID=Australia/Sydney:20240316T220000
DTSTAMP:20260425T062501
CREATED:20240107T030633Z
LAST-MODIFIED:20240308T031526Z
UID:11116-1710613800-1710626400@belconnen.lutheran.org.au
SUMMARY:Canberra Telugu Christian Fellowship
DESCRIPTION:The Canberra Telugu Christian Fellowship meets at Holy Cross in the evening of the third Saturday of each month
URL:https://belconnen.lutheran.org.au/event/canberra-telugu-christian-fellowship-2024-03-16/
LOCATION:ACT
END:VEVENT
BEGIN:VEVENT
DTSTART;TZID=Australia/Sydney:20240317T100000
DTEND;TZID=Australia/Sydney:20240317T113000
DTSTAMP:20260425T062501
CREATED:20240315T025224Z
LAST-MODIFIED:20240317T012503Z
UID:10841-1710669600-1710675000@belconnen.lutheran.org.au
SUMMARY:Worship with Holy Communion
DESCRIPTION:Please join us for  Worship every Sunday at 10.00 am \nWorship with Holy Communion is  held every Sunday morning at 10.00 am \nGuidelines in relation to Covid safe behaviours are followed. \n \nOur Bulletin for this week may be read here
URL:https://belconnen.lutheran.org.au/event/worship-with-holy-communion-2022-01-30-2022-02-20-2022-07-10-2022-11-27-2023-01-01-2023-07-16-2023-07-23-2023-12-31-2024-03-17/
LOCATION:Holy Cross Lutheran Church\, 9 Emu Bank\, Belconnen\, ACT\, 2616\, Australia
CATEGORIES:Worship
ATTACH;FMTTYPE=image/jpeg:https://belconnen.lutheran.org.au/wp-content/uploads/sites/194/2018/03/HCB3-Copy.jpg
ORGANIZER;CN="Pastor Darren Jaensch":MAILTO:darren.jaensch@lca.org.au
GEO:-35.2396675;149.07367
X-APPLE-STRUCTURED-LOCATION;VALUE=URI;X-ADDRESS=Holy Cross Lutheran Church 9 Emu Bank Belconnen ACT 2616 Australia;X-APPLE-RADIUS=500;X-TITLE=9 Emu Bank:geo:149.07367,-35.2396675
END:VEVENT
BEGIN:VEVENT
DTSTART;TZID=Australia/Sydney:20240318T193000
DTEND;TZID=Australia/Sydney:20240318T213000
DTSTAMP:20260425T062501
CREATED:20240114T032030Z
LAST-MODIFIED:20240214T053638Z
UID:11454-1710790200-1710797400@belconnen.lutheran.org.au
SUMMARY:Deacons Meeting (Church Council)
DESCRIPTION:Our Deacons meet at 7.30 pm
URL:https://belconnen.lutheran.org.au/event/deacons-meeting-church-council-2/
LOCATION:Holy Cross Lutheran Church\, 9 Emu Bank\, Belconnen\, ACT\, 2616\, Australia
CATEGORIES:Meeting
GEO:-35.2396675;149.07367
X-APPLE-STRUCTURED-LOCATION;VALUE=URI;X-ADDRESS=Holy Cross Lutheran Church 9 Emu Bank Belconnen ACT 2616 Australia;X-APPLE-RADIUS=500;X-TITLE=9 Emu Bank:geo:149.07367,-35.2396675
END:VEVENT
BEGIN:VEVENT
DTSTART;TZID=Australia/Sydney:20240324T100000
DTEND;TZID=Australia/Sydney:20240324T113000
DTSTAMP:20260425T062501
CREATED:20240322T033324Z
LAST-MODIFIED:20240324T040253Z
UID:10842-1711274400-1711279800@belconnen.lutheran.org.au
SUMMARY:Worship with Holy Communion
DESCRIPTION:Please join us for  Worship every Sunday at 10.00 am \nWorship with Holy Communion is  held every Sunday morning at 10.00 am \nGuidelines in relation to Covid safe behaviours are followed. \n \nOur Bulletin for this week may be read here
URL:https://belconnen.lutheran.org.au/event/worship-with-holy-communion-2022-01-30-2022-02-20-2022-07-10-2022-11-27-2023-01-01-2023-07-16-2023-07-23-2023-12-31-2024-03-24/
LOCATION:Holy Cross Lutheran Church\, 9 Emu Bank\, Belconnen\, ACT\, 2616\, Australia
CATEGORIES:Worship
ATTACH;FMTTYPE=image/jpeg:https://belconnen.lutheran.org.au/wp-content/uploads/sites/194/2018/03/HCB3-Copy.jpg
ORGANIZER;CN="Pastor Darren Jaensch":MAILTO:darren.jaensch@lca.org.au
GEO:-35.2396675;149.07367
X-APPLE-STRUCTURED-LOCATION;VALUE=URI;X-ADDRESS=Holy Cross Lutheran Church 9 Emu Bank Belconnen ACT 2616 Australia;X-APPLE-RADIUS=500;X-TITLE=9 Emu Bank:geo:149.07367,-35.2396675
END:VEVENT
BEGIN:VEVENT
DTSTART;TZID=Australia/Sydney:20240328T183000
DTEND;TZID=Australia/Sydney:20240328T203000
DTSTAMP:20260425T062501
CREATED:20240110T061346Z
LAST-MODIFIED:20240328T103930Z
UID:11337-1711650600-1711657800@belconnen.lutheran.org.au
SUMMARY:Maundy Thursday
DESCRIPTION:6:30pm Seder Meal\, 7:15pm service (reflective\, with HC)
URL:https://belconnen.lutheran.org.au/event/maundy-thursday/
LOCATION:Holy Cross Lutheran Church\, 9 Emu Bank\, Belconnen\, ACT\, 2616\, Australia
CATEGORIES:Worship
ORGANIZER;CN="Pastor Darren Jaensch":MAILTO:darren.jaensch@lca.org.au
GEO:-35.2396675;149.07367
X-APPLE-STRUCTURED-LOCATION;VALUE=URI;X-ADDRESS=Holy Cross Lutheran Church 9 Emu Bank Belconnen ACT 2616 Australia;X-APPLE-RADIUS=500;X-TITLE=9 Emu Bank:geo:149.07367,-35.2396675
END:VEVENT
BEGIN:VEVENT
DTSTART;TZID=Australia/Sydney:20240329T100000
DTEND;TZID=Australia/Sydney:20240329T113000
DTSTAMP:20260425T062501
CREATED:20240110T061121Z
LAST-MODIFIED:20240328T225811Z
UID:11335-1711706400-1711711800@belconnen.lutheran.org.au
SUMMARY:Good Friday
DESCRIPTION:Worship 10.00 am
URL:https://belconnen.lutheran.org.au/event/good-friday/
LOCATION:Holy Cross Lutheran Church\, 9 Emu Bank\, Belconnen\, ACT\, 2616\, Australia
ORGANIZER;CN="Pastor Darren Jaensch":MAILTO:darren.jaensch@lca.org.au
GEO:-35.2396675;149.07367
X-APPLE-STRUCTURED-LOCATION;VALUE=URI;X-ADDRESS=Holy Cross Lutheran Church 9 Emu Bank Belconnen ACT 2616 Australia;X-APPLE-RADIUS=500;X-TITLE=9 Emu Bank:geo:149.07367,-35.2396675
END:VEVENT
BEGIN:VEVENT
DTSTART;TZID=Australia/Sydney:20240329T123000
DTEND;TZID=Australia/Sydney:20240329T150000
DTSTAMP:20260425T062501
CREATED:20240221T090051Z
LAST-MODIFIED:20240221T090051Z
UID:11616-1711715400-1711724400@belconnen.lutheran.org.au
SUMMARY:Good Friday Service
DESCRIPTION:Free Wesleyan Church of Tonga Canberra congregation Good Friday Service
URL:https://belconnen.lutheran.org.au/event/good-friday-service-2/
LOCATION:Holy Cross Lutheran Church\, 9 Emu Bank\, Belconnen\, ACT\, 2616\, Australia
ORGANIZER;CN="Robert Steve Vave":MAILTO:Robertandrenata@hotmail.com
GEO:-35.2396675;149.07367
X-APPLE-STRUCTURED-LOCATION;VALUE=URI;X-ADDRESS=Holy Cross Lutheran Church 9 Emu Bank Belconnen ACT 2616 Australia;X-APPLE-RADIUS=500;X-TITLE=9 Emu Bank:geo:149.07367,-35.2396675
END:VEVENT
BEGIN:VEVENT
DTSTART;TZID=Australia/Sydney:20240331T100000
DTEND;TZID=Australia/Sydney:20240331T113000
DTSTAMP:20260425T062501
CREATED:20240327T060324Z
LAST-MODIFIED:20240331T031648Z
UID:10843-1711879200-1711884600@belconnen.lutheran.org.au
SUMMARY:Worship with Holy Communion
DESCRIPTION:Please join us for  Worship every Sunday at 10.00 am \nWorship with Holy Communion is  held every Sunday morning at 10.00 am \nGuidelines in relation to Covid safe behaviours are followed. \n \nOur Bulletin for Easter may be read here
URL:https://belconnen.lutheran.org.au/event/worship-with-holy-communion-2022-01-30-2022-02-20-2022-07-10-2022-11-27-2023-01-01-2023-07-16-2023-07-23-2023-12-31-2024-03-31/
LOCATION:Holy Cross Lutheran Church\, 9 Emu Bank\, Belconnen\, ACT\, 2616\, Australia
CATEGORIES:Worship
ATTACH;FMTTYPE=image/jpeg:https://belconnen.lutheran.org.au/wp-content/uploads/sites/194/2018/03/HCB3-Copy.jpg
ORGANIZER;CN="Pastor Darren Jaensch":MAILTO:darren.jaensch@lca.org.au
GEO:-35.2396675;149.07367
X-APPLE-STRUCTURED-LOCATION;VALUE=URI;X-ADDRESS=Holy Cross Lutheran Church 9 Emu Bank Belconnen ACT 2616 Australia;X-APPLE-RADIUS=500;X-TITLE=9 Emu Bank:geo:149.07367,-35.2396675
END:VEVENT
BEGIN:VEVENT
DTSTART;TZID=Australia/Sydney:20240402T123000
DTEND;TZID=Australia/Sydney:20240402T140000
DTSTAMP:20260425T062501
CREATED:20240327T060925Z
LAST-MODIFIED:20240327T060925Z
UID:11728-1712061000-1712066400@belconnen.lutheran.org.au
SUMMARY:Family Support Group
DESCRIPTION:meets at 12.30pm on the first Tuesday of each month. \nFor info contact Sara  0403404571
URL:https://belconnen.lutheran.org.au/event/family-support-group/
LOCATION:Meeting Room at Holy Cross
CATEGORIES:External Hire
END:VEVENT
BEGIN:VEVENT
DTSTART;TZID=Australia/Sydney:20240407T100000
DTEND;TZID=Australia/Sydney:20240407T113000
DTSTAMP:20260425T062501
CREATED:20240405T024824Z
LAST-MODIFIED:20240407T034648Z
UID:10844-1712484000-1712489400@belconnen.lutheran.org.au
SUMMARY:Worship with Holy Communion
DESCRIPTION:Please join us for  Worship every Sunday at 10.00 am \nWorship with Holy Communion is  held every Sunday morning at 10.00 am \nGuidelines in relation to Covid safe behaviours are followed. \n \nOur Bulletin for this week may be read here
URL:https://belconnen.lutheran.org.au/event/worship-with-holy-communion-2022-01-30-2022-02-20-2022-07-10-2022-11-27-2023-01-01-2023-07-16-2023-07-23-2023-12-31-2024-04-07/
LOCATION:Holy Cross Lutheran Church\, 9 Emu Bank\, Belconnen\, ACT\, 2616\, Australia
CATEGORIES:Worship
ATTACH;FMTTYPE=image/jpeg:https://belconnen.lutheran.org.au/wp-content/uploads/sites/194/2018/03/HCB3-Copy.jpg
ORGANIZER;CN="Pastor Darren Jaensch":MAILTO:darren.jaensch@lca.org.au
GEO:-35.2396675;149.07367
X-APPLE-STRUCTURED-LOCATION;VALUE=URI;X-ADDRESS=Holy Cross Lutheran Church 9 Emu Bank Belconnen ACT 2616 Australia;X-APPLE-RADIUS=500;X-TITLE=9 Emu Bank:geo:149.07367,-35.2396675
END:VEVENT
BEGIN:VEVENT
DTSTART;TZID=Australia/Sydney:20240409T100000
DTEND;TZID=Australia/Sydney:20240409T120000
DTSTAMP:20260425T062501
CREATED:20240407T035135Z
LAST-MODIFIED:20240407T035205Z
UID:11759-1712656800-1712664000@belconnen.lutheran.org.au
SUMMARY:Ladies Fellowship
DESCRIPTION:Our ladies get together for fellowship and discussion
URL:https://belconnen.lutheran.org.au/event/ladies-fellowship/2024-04-09/
LOCATION:Holy Cross Lutheran Church\, 9 Emu Bank\, Belconnen\, ACT\, 2616\, Australia
CATEGORIES:Ladies fellowship
GEO:-35.2396675;149.07367
X-APPLE-STRUCTURED-LOCATION;VALUE=URI;X-ADDRESS=Holy Cross Lutheran Church 9 Emu Bank Belconnen ACT 2616 Australia;X-APPLE-RADIUS=500;X-TITLE=9 Emu Bank:geo:149.07367,-35.2396675
END:VEVENT
BEGIN:VEVENT
DTSTART;TZID=Australia/Sydney:20240411T180000
DTEND;TZID=Australia/Sydney:20240411T210000
DTSTAMP:20260425T062501
CREATED:20240331T045426Z
LAST-MODIFIED:20240331T045426Z
UID:11750-1712858400-1712869200@belconnen.lutheran.org.au
SUMMARY:Canberra Telugu Christian Fellowship
DESCRIPTION:Prayer meeting held bt Canberra Telugu Christian Fellowship
URL:https://belconnen.lutheran.org.au/event/canberra-telugu-christian-fellowship-2/
LOCATION:Holy Cross Lutheran Church\, 9 Emu Bank\, Belconnen\, ACT\, 2616\, Australia
CATEGORIES:External Hire
GEO:-35.2396675;149.07367
X-APPLE-STRUCTURED-LOCATION;VALUE=URI;X-ADDRESS=Holy Cross Lutheran Church 9 Emu Bank Belconnen ACT 2616 Australia;X-APPLE-RADIUS=500;X-TITLE=9 Emu Bank:geo:149.07367,-35.2396675
END:VEVENT
END:VCALENDAR