BEGIN:VCALENDAR
VERSION:2.0
PRODID:-//Belconnen Holy Cross Congregation, ACT - ECPv6.8.1//NONSGML v1.0//EN
CALSCALE:GREGORIAN
METHOD:PUBLISH
X-ORIGINAL-URL:https://belconnen.lutheran.org.au
X-WR-CALDESC:Events for Belconnen Holy Cross Congregation, ACT
REFRESH-INTERVAL;VALUE=DURATION:PT1H
X-Robots-Tag:noindex
X-PUBLISHED-TTL:PT1H
BEGIN:VTIMEZONE
TZID:Australia/Sydney
BEGIN:STANDARD
TZOFFSETFROM:+1100
TZOFFSETTO:+1000
TZNAME:AEST
DTSTART:20240406T160000
END:STANDARD
BEGIN:DAYLIGHT
TZOFFSETFROM:+1000
TZOFFSETTO:+1100
TZNAME:AEDT
DTSTART:20241005T160000
END:DAYLIGHT
END:VTIMEZONE
BEGIN:VEVENT
DTSTART;TZID=Australia/Sydney:20240913T100000
DTEND;TZID=Australia/Sydney:20240913T120000
DTSTAMP:20260425T230811
CREATED:20240110T034829Z
LAST-MODIFIED:20240122T103345Z
UID:10911-1726221600-1726228800@belconnen.lutheran.org.au
SUMMARY:Playgroup
DESCRIPTION:Playgroup meets each Tuesday and Friday from 10.00 am to 12.00pm
URL:https://belconnen.lutheran.org.au/event/playgroup-3/2024-09-13/
LOCATION:Holy Cross Lutheran Church\, 9 Emu Bank\, Belconnen\, ACT\, 2616\, Australia
CATEGORIES:Children
ATTACH;FMTTYPE=image/jpeg:https://belconnen.lutheran.org.au/wp-content/uploads/sites/194/2022/11/play-e1674968560858.jpg
GEO:-35.2396675;149.07367
X-APPLE-STRUCTURED-LOCATION;VALUE=URI;X-ADDRESS=Holy Cross Lutheran Church 9 Emu Bank Belconnen ACT 2616 Australia;X-APPLE-RADIUS=500;X-TITLE=9 Emu Bank:geo:149.07367,-35.2396675
END:VEVENT
BEGIN:VEVENT
DTSTART;TZID=Australia/Sydney:20240914T170000
DTEND;TZID=Australia/Sydney:20240914T200000
DTSTAMP:20260425T230811
CREATED:20240107T032004Z
LAST-MODIFIED:20240107T032004Z
UID:12608-1726333200-1726344000@belconnen.lutheran.org.au
SUMMARY:ACT Telugu Christian Fellowship (ACTCF)
DESCRIPTION:The ACT Telugu Christian Fellowship meets at Holy Cross on then second saturday of each month
URL:https://belconnen.lutheran.org.au/event/act-telugu-christian-fellowship-actcf/2024-09-14/
LOCATION:Holy Cross Lutheran Church\, 9 Emu Bank\, Belconnen\, ACT\, 2616\, Australia
ORGANIZER;CN="Vinod Kaki":MAILTO:actchristiantelugufellowship@gmail.com
GEO:-35.2396675;149.07367
X-APPLE-STRUCTURED-LOCATION;VALUE=URI;X-ADDRESS=Holy Cross Lutheran Church 9 Emu Bank Belconnen ACT 2616 Australia;X-APPLE-RADIUS=500;X-TITLE=9 Emu Bank:geo:149.07367,-35.2396675
END:VEVENT
BEGIN:VEVENT
DTSTART;TZID=Australia/Sydney:20240915T100000
DTEND;TZID=Australia/Sydney:20240915T113000
DTSTAMP:20260425T230811
CREATED:20240913T042224Z
LAST-MODIFIED:20240915T043020Z
UID:10867-1726394400-1726399800@belconnen.lutheran.org.au
SUMMARY:Worship with Holy Communion
DESCRIPTION:Please join us for  Worship every Sunday at 10.00 am \nWorship with Holy Communion is  held every Sunday morning at 10.00 am \nGuidelines in relation to Covid safe behaviours are followed. \n \nOur Bulletin for this week may be read here
URL:https://belconnen.lutheran.org.au/event/worship-with-holy-communion-2022-01-30-2022-02-20-2022-07-10-2022-11-27-2023-01-01-2023-07-16-2023-07-23-2023-12-31-2024-09-15/
LOCATION:Holy Cross Lutheran Church\, 9 Emu Bank\, Belconnen\, ACT\, 2616\, Australia
CATEGORIES:Worship
ATTACH;FMTTYPE=image/jpeg:https://belconnen.lutheran.org.au/wp-content/uploads/sites/194/2018/03/HCB3-Copy.jpg
ORGANIZER;CN="Pastor Darren Jaensch":MAILTO:darren.jaensch@lca.org.au
GEO:-35.2396675;149.07367
X-APPLE-STRUCTURED-LOCATION;VALUE=URI;X-ADDRESS=Holy Cross Lutheran Church 9 Emu Bank Belconnen ACT 2616 Australia;X-APPLE-RADIUS=500;X-TITLE=9 Emu Bank:geo:149.07367,-35.2396675
END:VEVENT
BEGIN:VEVENT
DTSTART;TZID=Australia/Sydney:20240915T101000
DTEND;TZID=Australia/Sydney:20240915T104000
DTSTAMP:20260425T230811
CREATED:20240515T085026Z
LAST-MODIFIED:20240515T085026Z
UID:11901-1726395000-1726396800@belconnen.lutheran.org.au
SUMMARY:Kids Club
DESCRIPTION:A time for our children on Sunday morning on the third Sunday of each month
URL:https://belconnen.lutheran.org.au/event/kids-club/2024-09-15/
CATEGORIES:Children
END:VEVENT
BEGIN:VEVENT
DTSTART;TZID=Australia/Sydney:20240917T100000
DTEND;TZID=Australia/Sydney:20240917T120000
DTSTAMP:20260425T230811
CREATED:20221119T080803Z
LAST-MODIFIED:20221119T080803Z
UID:11060-1726567200-1726574400@belconnen.lutheran.org.au
SUMMARY:Playgroup
DESCRIPTION:Playgroup meets each Tuesday and Friday from 10.00 am to 12.00pm \n \n 
URL:https://belconnen.lutheran.org.au/event/playgroup-2/2024-09-17/
LOCATION:Holy Cross Lutheran Church\, 9 Emu Bank\, Belconnen\, ACT\, 2616\, Australia
ATTACH;FMTTYPE=image/jpeg:https://belconnen.lutheran.org.au/wp-content/uploads/sites/194/2022/11/play-e1674968560858.jpg
GEO:-35.2396675;149.07367
X-APPLE-STRUCTURED-LOCATION;VALUE=URI;X-ADDRESS=Holy Cross Lutheran Church 9 Emu Bank Belconnen ACT 2616 Australia;X-APPLE-RADIUS=500;X-TITLE=9 Emu Bank:geo:149.07367,-35.2396675
END:VEVENT
BEGIN:VEVENT
DTSTART;TZID=Australia/Sydney:20240917T170000
DTEND;TZID=Australia/Sydney:20240917T213000
DTSTAMP:20260425T230811
CREATED:20240205T073950Z
LAST-MODIFIED:20240205T073950Z
UID:11579-1726592400-1726608600@belconnen.lutheran.org.au
SUMMARY:Belconnen Community Council
DESCRIPTION:Belconnen Community Council meeting
URL:https://belconnen.lutheran.org.au/event/belconnen-community-council-5/2024-09-17/
LOCATION:Holy Cross Lutheran Church\, 9 Emu Bank\, Belconnen\, ACT\, 2616\, Australia
CATEGORIES:External Hire,Meeting
GEO:-35.2396675;149.07367
X-APPLE-STRUCTURED-LOCATION;VALUE=URI;X-ADDRESS=Holy Cross Lutheran Church 9 Emu Bank Belconnen ACT 2616 Australia;X-APPLE-RADIUS=500;X-TITLE=9 Emu Bank:geo:149.07367,-35.2396675
END:VEVENT
BEGIN:VEVENT
DTSTART;TZID=Australia/Sydney:20240919T093000
DTEND;TZID=Australia/Sydney:20240919T113000
DTSTAMP:20260425T230811
CREATED:20240110T055938Z
LAST-MODIFIED:20241122T040605Z
UID:12022-1726738200-1726745400@belconnen.lutheran.org.au
SUMMARY:Sing Australia
DESCRIPTION:Sing Australia Belconnen Choir meets at 9.30 am each Thursday. For further information see https://www.singaustralia.com.au/sing-australia-groups/
URL:https://belconnen.lutheran.org.au/event/sing-australia-2/2024-09-19/
CATEGORIES:External Hire
END:VEVENT
BEGIN:VEVENT
DTSTART;TZID=Australia/Sydney:20240920T100000
DTEND;TZID=Australia/Sydney:20240920T120000
DTSTAMP:20260425T230811
CREATED:20240110T034829Z
LAST-MODIFIED:20240122T103347Z
UID:10912-1726826400-1726833600@belconnen.lutheran.org.au
SUMMARY:Playgroup
DESCRIPTION:Playgroup meets each Tuesday and Friday from 10.00 am to 12.00pm
URL:https://belconnen.lutheran.org.au/event/playgroup-3/2024-09-20/
LOCATION:Holy Cross Lutheran Church\, 9 Emu Bank\, Belconnen\, ACT\, 2616\, Australia
CATEGORIES:Children
ATTACH;FMTTYPE=image/jpeg:https://belconnen.lutheran.org.au/wp-content/uploads/sites/194/2022/11/play-e1674968560858.jpg
GEO:-35.2396675;149.07367
X-APPLE-STRUCTURED-LOCATION;VALUE=URI;X-ADDRESS=Holy Cross Lutheran Church 9 Emu Bank Belconnen ACT 2616 Australia;X-APPLE-RADIUS=500;X-TITLE=9 Emu Bank:geo:149.07367,-35.2396675
END:VEVENT
BEGIN:VEVENT
DTSTART;TZID=Australia/Sydney:20240921T170000
DTEND;TZID=Australia/Sydney:20240921T210000
DTSTAMP:20260425T230811
CREATED:20240107T030633Z
LAST-MODIFIED:20240107T030633Z
UID:11122-1726938000-1726952400@belconnen.lutheran.org.au
SUMMARY:Canberra Telugu Christian Fellowship
DESCRIPTION:The Canberra Telugu Christian Fellowship meets at Holy Cross in the evening of the third Saturday of each month
URL:https://belconnen.lutheran.org.au/event/canberra-telugu-christian-fellowship/2024-09-21/
END:VEVENT
BEGIN:VEVENT
DTSTART;TZID=Australia/Sydney:20240922T100000
DTEND;TZID=Australia/Sydney:20240922T113000
DTSTAMP:20260425T230811
CREATED:20240920T035524Z
LAST-MODIFIED:20240922T045148Z
UID:10868-1726999200-1727004600@belconnen.lutheran.org.au
SUMMARY:Worship with Holy Communion
DESCRIPTION:Please join us for  Worship every Sunday at 10.00 am \nWorship with Holy Communion is  held every Sunday morning at 10.00 am \nGuidelines in relation to Covid safe behaviours are followed. \n \nOur Bulletin for this week may be read here
URL:https://belconnen.lutheran.org.au/event/worship-with-holy-communion-2022-01-30-2022-02-20-2022-07-10-2022-11-27-2023-01-01-2023-07-16-2023-07-23-2023-12-31-2024-09-22/
LOCATION:Holy Cross Lutheran Church\, 9 Emu Bank\, Belconnen\, ACT\, 2616\, Australia
CATEGORIES:Worship
ATTACH;FMTTYPE=image/jpeg:https://belconnen.lutheran.org.au/wp-content/uploads/sites/194/2018/03/HCB3-Copy.jpg
ORGANIZER;CN="Pastor Darren Jaensch":MAILTO:darren.jaensch@lca.org.au
GEO:-35.2396675;149.07367
X-APPLE-STRUCTURED-LOCATION;VALUE=URI;X-ADDRESS=Holy Cross Lutheran Church 9 Emu Bank Belconnen ACT 2616 Australia;X-APPLE-RADIUS=500;X-TITLE=9 Emu Bank:geo:149.07367,-35.2396675
END:VEVENT
BEGIN:VEVENT
DTSTART;TZID=Australia/Sydney:20240924T100000
DTEND;TZID=Australia/Sydney:20240924T120000
DTSTAMP:20260425T230811
CREATED:20221119T080803Z
LAST-MODIFIED:20221119T080803Z
UID:11061-1727172000-1727179200@belconnen.lutheran.org.au
SUMMARY:Playgroup
DESCRIPTION:Playgroup meets each Tuesday and Friday from 10.00 am to 12.00pm \n \n 
URL:https://belconnen.lutheran.org.au/event/playgroup-2/2024-09-24/
LOCATION:Holy Cross Lutheran Church\, 9 Emu Bank\, Belconnen\, ACT\, 2616\, Australia
ATTACH;FMTTYPE=image/jpeg:https://belconnen.lutheran.org.au/wp-content/uploads/sites/194/2022/11/play-e1674968560858.jpg
GEO:-35.2396675;149.07367
X-APPLE-STRUCTURED-LOCATION;VALUE=URI;X-ADDRESS=Holy Cross Lutheran Church 9 Emu Bank Belconnen ACT 2616 Australia;X-APPLE-RADIUS=500;X-TITLE=9 Emu Bank:geo:149.07367,-35.2396675
END:VEVENT
BEGIN:VEVENT
DTSTART;TZID=Australia/Sydney:20240926T093000
DTEND;TZID=Australia/Sydney:20240926T113000
DTSTAMP:20260425T230811
CREATED:20240110T055938Z
LAST-MODIFIED:20241122T040607Z
UID:12023-1727343000-1727350200@belconnen.lutheran.org.au
SUMMARY:Sing Australia
DESCRIPTION:Sing Australia Belconnen Choir meets at 9.30 am each Thursday. For further information see https://www.singaustralia.com.au/sing-australia-groups/
URL:https://belconnen.lutheran.org.au/event/sing-australia-2/2024-09-26/
CATEGORIES:External Hire
END:VEVENT
BEGIN:VEVENT
DTSTART;TZID=Australia/Sydney:20240927T100000
DTEND;TZID=Australia/Sydney:20240927T120000
DTSTAMP:20260425T230811
CREATED:20240110T034829Z
LAST-MODIFIED:20240122T103348Z
UID:10913-1727431200-1727438400@belconnen.lutheran.org.au
SUMMARY:Playgroup
DESCRIPTION:Playgroup meets each Tuesday and Friday from 10.00 am to 12.00pm
URL:https://belconnen.lutheran.org.au/event/playgroup-3/2024-09-27/
LOCATION:Holy Cross Lutheran Church\, 9 Emu Bank\, Belconnen\, ACT\, 2616\, Australia
CATEGORIES:Children
ATTACH;FMTTYPE=image/jpeg:https://belconnen.lutheran.org.au/wp-content/uploads/sites/194/2022/11/play-e1674968560858.jpg
GEO:-35.2396675;149.07367
X-APPLE-STRUCTURED-LOCATION;VALUE=URI;X-ADDRESS=Holy Cross Lutheran Church 9 Emu Bank Belconnen ACT 2616 Australia;X-APPLE-RADIUS=500;X-TITLE=9 Emu Bank:geo:149.07367,-35.2396675
END:VEVENT
BEGIN:VEVENT
DTSTART;TZID=Australia/Sydney:20240928T080000
DTEND;TZID=Australia/Sydney:20241014T170000
DTSTAMP:20260425T230811
CREATED:20240110T063127Z
LAST-MODIFIED:20240110T063127Z
UID:11356-1727510400-1728925200@belconnen.lutheran.org.au
SUMMARY:School Holidays
DESCRIPTION:school holidays
URL:https://belconnen.lutheran.org.au/event/school-holidays-4/
END:VEVENT
BEGIN:VEVENT
DTSTART;TZID=Australia/Sydney:20240929T100000
DTEND;TZID=Australia/Sydney:20240929T113000
DTSTAMP:20260425T230811
CREATED:20240929T042024Z
LAST-MODIFIED:20240929T042101Z
UID:10869-1727604000-1727609400@belconnen.lutheran.org.au
SUMMARY:Worship with Holy Communion
DESCRIPTION:Please join us for  Worship every Sunday at 10.00 am \nWorship with Holy Communion is  held every Sunday morning at 10.00 am \nGuidelines in relation to Covid safe behaviours are followed. \n \nOur Bulletin for this week may be read here
URL:https://belconnen.lutheran.org.au/event/worship-with-holy-communion-2022-01-30-2022-02-20-2022-07-10-2022-11-27-2023-01-01-2023-07-16-2023-07-23-2023-12-31-2024-09-29/
LOCATION:Holy Cross Lutheran Church\, 9 Emu Bank\, Belconnen\, ACT\, 2616\, Australia
CATEGORIES:Worship
ATTACH;FMTTYPE=image/jpeg:https://belconnen.lutheran.org.au/wp-content/uploads/sites/194/2018/03/HCB3-Copy.jpg
ORGANIZER;CN="Pastor Darren Jaensch":MAILTO:darren.jaensch@lca.org.au
GEO:-35.2396675;149.07367
X-APPLE-STRUCTURED-LOCATION;VALUE=URI;X-ADDRESS=Holy Cross Lutheran Church 9 Emu Bank Belconnen ACT 2616 Australia;X-APPLE-RADIUS=500;X-TITLE=9 Emu Bank:geo:149.07367,-35.2396675
END:VEVENT
BEGIN:VEVENT
DTSTART;TZID=Australia/Sydney:20241001T100000
DTEND;TZID=Australia/Sydney:20241001T120000
DTSTAMP:20260425T230811
CREATED:20221119T080803Z
LAST-MODIFIED:20221119T080803Z
UID:11062-1727776800-1727784000@belconnen.lutheran.org.au
SUMMARY:Playgroup
DESCRIPTION:Playgroup meets each Tuesday and Friday from 10.00 am to 12.00pm \n \n 
URL:https://belconnen.lutheran.org.au/event/playgroup-2/2024-10-01/
LOCATION:Holy Cross Lutheran Church\, 9 Emu Bank\, Belconnen\, ACT\, 2616\, Australia
ATTACH;FMTTYPE=image/jpeg:https://belconnen.lutheran.org.au/wp-content/uploads/sites/194/2022/11/play-e1674968560858.jpg
GEO:-35.2396675;149.07367
X-APPLE-STRUCTURED-LOCATION;VALUE=URI;X-ADDRESS=Holy Cross Lutheran Church 9 Emu Bank Belconnen ACT 2616 Australia;X-APPLE-RADIUS=500;X-TITLE=9 Emu Bank:geo:149.07367,-35.2396675
END:VEVENT
BEGIN:VEVENT
DTSTART;TZID=Australia/Sydney:20241001T123000
DTEND;TZID=Australia/Sydney:20241001T140000
DTSTAMP:20260425T230811
CREATED:20240327T060925Z
LAST-MODIFIED:20240327T060925Z
UID:11734-1727785800-1727791200@belconnen.lutheran.org.au
SUMMARY:Family Support Group
DESCRIPTION:meets at 12.30pm on the first Tuesday of each month. \nFor info contact Sara  0403404571
URL:https://belconnen.lutheran.org.au/event/family-support-group/2024-10-01/
LOCATION:Meeting Room at Holy Cross
CATEGORIES:External Hire
END:VEVENT
BEGIN:VEVENT
DTSTART;TZID=Australia/Sydney:20241003T093000
DTEND;TZID=Australia/Sydney:20241003T113000
DTSTAMP:20260425T230811
CREATED:20240110T055938Z
LAST-MODIFIED:20241122T040608Z
UID:12024-1727947800-1727955000@belconnen.lutheran.org.au
SUMMARY:Sing Australia
DESCRIPTION:Sing Australia Belconnen Choir meets at 9.30 am each Thursday. For further information see https://www.singaustralia.com.au/sing-australia-groups/
URL:https://belconnen.lutheran.org.au/event/sing-australia-2/2024-10-03/
CATEGORIES:External Hire
END:VEVENT
BEGIN:VEVENT
DTSTART;TZID=Australia/Sydney:20241003T130000
DTEND;TZID=Australia/Sydney:20241003T150000
DTSTAMP:20260425T230811
CREATED:20240322T034321Z
LAST-MODIFIED:20241216T065407Z
UID:12054-1727960400-1727967600@belconnen.lutheran.org.au
SUMMARY:Life Drawing Workshop
DESCRIPTION:THE LIFE DRAWING WORKSHOP\n– Creating Better Drawings through Clarity of Thought\, Mind and Focus \nThe Life Drawing Workshop has its own new YouTube Channel.\nPlease share it to help improve the Workshop’s numbers…\nhttps://youtu.be/PP6S_Nt39fw \nAlso\, please share this Life Drawing Workshop link…\nLife Drawing Workshop Info www.pazolli.com/lifedrawing \nLIFE DRAWING WORKSHOP\, – every THURSDAY –  1pm – 3pm. \nCREATE YOUR OWN DRAWING WORLD ….. BY DOING IT YOUR WAY…\n~ only you know how to find your creative pathway to better drawing. \nAthina Pazolli\nArtist; Painting; Drawing\nm: 0414 271311\ne: athina@pazolli.com\nart: www.pazolli.com\nDraw: www.pazolli.com/lifedrawing\nfb art: www.facebook.com/athina.pazolli\nfb draw: facebook.com/groups/2246575525649553/
URL:https://belconnen.lutheran.org.au/event/life-drawing-workshop-2-2024-10-03/
CATEGORIES:External Hire
END:VEVENT
BEGIN:VEVENT
DTSTART;TZID=Australia/Sydney:20241004T100000
DTEND;TZID=Australia/Sydney:20241004T120000
DTSTAMP:20260425T230811
CREATED:20240110T034829Z
LAST-MODIFIED:20240122T103349Z
UID:10914-1728036000-1728043200@belconnen.lutheran.org.au
SUMMARY:Playgroup
DESCRIPTION:Playgroup meets each Tuesday and Friday from 10.00 am to 12.00pm
URL:https://belconnen.lutheran.org.au/event/playgroup-3/2024-10-04/
LOCATION:Holy Cross Lutheran Church\, 9 Emu Bank\, Belconnen\, ACT\, 2616\, Australia
CATEGORIES:Children
ATTACH;FMTTYPE=image/jpeg:https://belconnen.lutheran.org.au/wp-content/uploads/sites/194/2022/11/play-e1674968560858.jpg
GEO:-35.2396675;149.07367
X-APPLE-STRUCTURED-LOCATION;VALUE=URI;X-ADDRESS=Holy Cross Lutheran Church 9 Emu Bank Belconnen ACT 2616 Australia;X-APPLE-RADIUS=500;X-TITLE=9 Emu Bank:geo:149.07367,-35.2396675
END:VEVENT
BEGIN:VEVENT
DTSTART;TZID=Australia/Sydney:20241006T100000
DTEND;TZID=Australia/Sydney:20241006T113000
DTSTAMP:20260425T230811
CREATED:20221004T032324Z
LAST-MODIFIED:20241010T233453Z
UID:10870-1728208800-1728214200@belconnen.lutheran.org.au
SUMMARY:Worship with Holy Communion
DESCRIPTION:Please join us for  Worship every Sunday at 10.00 am \nWorship with Holy Communion is  held every Sunday morning at 10.00 am \nGuidelines in relation to Covid safe behaviours are followed. \n \nOur Bulletin for this week may be read here
URL:https://belconnen.lutheran.org.au/event/worship-with-holy-communion-2022-01-30-2022-02-20-2022-07-10-2022-11-27-2023-01-01-2023-07-16-2023-07-23-2023-12-31-2024-10-06/
LOCATION:Holy Cross Lutheran Church\, 9 Emu Bank\, Belconnen\, ACT\, 2616\, Australia
CATEGORIES:Worship
ATTACH;FMTTYPE=image/jpeg:https://belconnen.lutheran.org.au/wp-content/uploads/sites/194/2018/03/HCB3-Copy.jpg
ORGANIZER;CN="Pastor Darren Jaensch":MAILTO:darren.jaensch@lca.org.au
GEO:-35.2396675;149.07367
X-APPLE-STRUCTURED-LOCATION;VALUE=URI;X-ADDRESS=Holy Cross Lutheran Church 9 Emu Bank Belconnen ACT 2616 Australia;X-APPLE-RADIUS=500;X-TITLE=9 Emu Bank:geo:149.07367,-35.2396675
END:VEVENT
BEGIN:VEVENT
DTSTART;TZID=Australia/Sydney:20241008T100000
DTEND;TZID=Australia/Sydney:20241008T120000
DTSTAMP:20260425T230811
CREATED:20221119T080803Z
LAST-MODIFIED:20241004T041727Z
UID:11063-1728381600-1728388800@belconnen.lutheran.org.au
SUMMARY:Playgroup
DESCRIPTION:Playgroup meets each Tuesday and Friday from 10.00 am to 12.00pm. except in school holidays \n \n 
URL:https://belconnen.lutheran.org.au/event/playgroup-2-2024-10-08/
LOCATION:Holy Cross Lutheran Church\, 9 Emu Bank\, Belconnen\, ACT\, 2616\, Australia
ATTACH;FMTTYPE=image/jpeg:https://belconnen.lutheran.org.au/wp-content/uploads/sites/194/2022/11/play-e1674968560858.jpg
GEO:-35.2396675;149.07367
X-APPLE-STRUCTURED-LOCATION;VALUE=URI;X-ADDRESS=Holy Cross Lutheran Church 9 Emu Bank Belconnen ACT 2616 Australia;X-APPLE-RADIUS=500;X-TITLE=9 Emu Bank:geo:149.07367,-35.2396675
END:VEVENT
BEGIN:VEVENT
DTSTART;TZID=Australia/Sydney:20241008T100000
DTEND;TZID=Australia/Sydney:20241008T120000
DTSTAMP:20260425T230811
CREATED:20240407T035135Z
LAST-MODIFIED:20240407T035211Z
UID:11768-1728381600-1728388800@belconnen.lutheran.org.au
SUMMARY:Ladies Fellowship
DESCRIPTION:Our ladies get together for fellowship and discussion
URL:https://belconnen.lutheran.org.au/event/ladies-fellowship/2024-10-08/
LOCATION:Holy Cross Lutheran Church\, 9 Emu Bank\, Belconnen\, ACT\, 2616\, Australia
CATEGORIES:Ladies fellowship
GEO:-35.2396675;149.07367
X-APPLE-STRUCTURED-LOCATION;VALUE=URI;X-ADDRESS=Holy Cross Lutheran Church 9 Emu Bank Belconnen ACT 2616 Australia;X-APPLE-RADIUS=500;X-TITLE=9 Emu Bank:geo:149.07367,-35.2396675
END:VEVENT
BEGIN:VEVENT
DTSTART;TZID=Australia/Sydney:20241010T093000
DTEND;TZID=Australia/Sydney:20241010T113000
DTSTAMP:20260425T230811
CREATED:20240110T055938Z
LAST-MODIFIED:20241122T040650Z
UID:12025-1728552600-1728559800@belconnen.lutheran.org.au
SUMMARY:Sing Australia
DESCRIPTION:Sing Australia Belconnen Choir meets at 9.30 am each Thursday. For further information see https://www.singaustralia.com.au/sing-australia-groups/
URL:https://belconnen.lutheran.org.au/event/sing-australia-2/2024-10-10/
CATEGORIES:External Hire
END:VEVENT
BEGIN:VEVENT
DTSTART;TZID=Australia/Sydney:20241011T100000
DTEND;TZID=Australia/Sydney:20241011T120000
DTSTAMP:20260425T230811
CREATED:20240110T034829Z
LAST-MODIFIED:20240122T103351Z
UID:10915-1728640800-1728648000@belconnen.lutheran.org.au
SUMMARY:Playgroup
DESCRIPTION:Playgroup meets each Tuesday and Friday from 10.00 am to 12.00pm
URL:https://belconnen.lutheran.org.au/event/playgroup-3/2024-10-11/
LOCATION:Holy Cross Lutheran Church\, 9 Emu Bank\, Belconnen\, ACT\, 2616\, Australia
CATEGORIES:Children
ATTACH;FMTTYPE=image/jpeg:https://belconnen.lutheran.org.au/wp-content/uploads/sites/194/2022/11/play-e1674968560858.jpg
GEO:-35.2396675;149.07367
X-APPLE-STRUCTURED-LOCATION;VALUE=URI;X-ADDRESS=Holy Cross Lutheran Church 9 Emu Bank Belconnen ACT 2616 Australia;X-APPLE-RADIUS=500;X-TITLE=9 Emu Bank:geo:149.07367,-35.2396675
END:VEVENT
BEGIN:VEVENT
DTSTART;TZID=Australia/Sydney:20241012T170000
DTEND;TZID=Australia/Sydney:20241012T200000
DTSTAMP:20260425T230811
CREATED:20240107T032004Z
LAST-MODIFIED:20240107T032004Z
UID:12609-1728752400-1728763200@belconnen.lutheran.org.au
SUMMARY:ACT Telugu Christian Fellowship (ACTCF)
DESCRIPTION:The ACT Telugu Christian Fellowship meets at Holy Cross on then second saturday of each month
URL:https://belconnen.lutheran.org.au/event/act-telugu-christian-fellowship-actcf/2024-10-12/
LOCATION:Holy Cross Lutheran Church\, 9 Emu Bank\, Belconnen\, ACT\, 2616\, Australia
ORGANIZER;CN="Vinod Kaki":MAILTO:actchristiantelugufellowship@gmail.com
GEO:-35.2396675;149.07367
X-APPLE-STRUCTURED-LOCATION;VALUE=URI;X-ADDRESS=Holy Cross Lutheran Church 9 Emu Bank Belconnen ACT 2616 Australia;X-APPLE-RADIUS=500;X-TITLE=9 Emu Bank:geo:149.07367,-35.2396675
END:VEVENT
BEGIN:VEVENT
DTSTART;TZID=Australia/Sydney:20241013T100000
DTEND;TZID=Australia/Sydney:20241013T113000
DTSTAMP:20260425T230811
CREATED:20241013T050324Z
LAST-MODIFIED:20241013T050325Z
UID:10871-1728813600-1728819000@belconnen.lutheran.org.au
SUMMARY:Worship with Holy Communion
DESCRIPTION:Please join us for  Worship every Sunday at 10.00 am \nWorship with Holy Communion is  held every Sunday morning at 10.00 am \nGuidelines in relation to Covid safe behaviours are followed. \n \nOur Bulletin for this week may be read here
URL:https://belconnen.lutheran.org.au/event/worship-with-holy-communion-2022-01-30-2022-02-20-2022-07-10-2022-11-27-2023-01-01-2023-07-16-2023-07-23-2023-12-31-2024-10-13/
LOCATION:Holy Cross Lutheran Church\, 9 Emu Bank\, Belconnen\, ACT\, 2616\, Australia
CATEGORIES:Worship
ATTACH;FMTTYPE=image/jpeg:https://belconnen.lutheran.org.au/wp-content/uploads/sites/194/2018/03/HCB3-Copy.jpg
ORGANIZER;CN="Pastor Darren Jaensch":MAILTO:darren.jaensch@lca.org.au
GEO:-35.2396675;149.07367
X-APPLE-STRUCTURED-LOCATION;VALUE=URI;X-ADDRESS=Holy Cross Lutheran Church 9 Emu Bank Belconnen ACT 2616 Australia;X-APPLE-RADIUS=500;X-TITLE=9 Emu Bank:geo:149.07367,-35.2396675
END:VEVENT
BEGIN:VEVENT
DTSTART;TZID=Australia/Sydney:20241015T100000
DTEND;TZID=Australia/Sydney:20241015T120000
DTSTAMP:20260425T230811
CREATED:20221119T080803Z
LAST-MODIFIED:20221119T080803Z
UID:11064-1728986400-1728993600@belconnen.lutheran.org.au
SUMMARY:Playgroup
DESCRIPTION:Playgroup meets each Tuesday and Friday from 10.00 am to 12.00pm \n \n 
URL:https://belconnen.lutheran.org.au/event/playgroup-2/2024-10-15/
LOCATION:Holy Cross Lutheran Church\, 9 Emu Bank\, Belconnen\, ACT\, 2616\, Australia
ATTACH;FMTTYPE=image/jpeg:https://belconnen.lutheran.org.au/wp-content/uploads/sites/194/2022/11/play-e1674968560858.jpg
GEO:-35.2396675;149.07367
X-APPLE-STRUCTURED-LOCATION;VALUE=URI;X-ADDRESS=Holy Cross Lutheran Church 9 Emu Bank Belconnen ACT 2616 Australia;X-APPLE-RADIUS=500;X-TITLE=9 Emu Bank:geo:149.07367,-35.2396675
END:VEVENT
BEGIN:VEVENT
DTSTART;TZID=Australia/Sydney:20241017T093000
DTEND;TZID=Australia/Sydney:20241017T113000
DTSTAMP:20260425T230811
CREATED:20240110T055938Z
LAST-MODIFIED:20241122T040652Z
UID:12026-1729157400-1729164600@belconnen.lutheran.org.au
SUMMARY:Sing Australia
DESCRIPTION:Sing Australia Belconnen Choir meets at 9.30 am each Thursday. For further information see https://www.singaustralia.com.au/sing-australia-groups/
URL:https://belconnen.lutheran.org.au/event/sing-australia-2/2024-10-17/
CATEGORIES:External Hire
END:VEVENT
BEGIN:VEVENT
DTSTART;TZID=Australia/Sydney:20241018T100000
DTEND;TZID=Australia/Sydney:20241018T120000
DTSTAMP:20260425T230811
CREATED:20240110T034829Z
LAST-MODIFIED:20240122T103352Z
UID:10916-1729245600-1729252800@belconnen.lutheran.org.au
SUMMARY:Playgroup
DESCRIPTION:Playgroup meets each Tuesday and Friday from 10.00 am to 12.00pm
URL:https://belconnen.lutheran.org.au/event/playgroup-3/2024-10-18/
LOCATION:Holy Cross Lutheran Church\, 9 Emu Bank\, Belconnen\, ACT\, 2616\, Australia
CATEGORIES:Children
ATTACH;FMTTYPE=image/jpeg:https://belconnen.lutheran.org.au/wp-content/uploads/sites/194/2022/11/play-e1674968560858.jpg
GEO:-35.2396675;149.07367
X-APPLE-STRUCTURED-LOCATION;VALUE=URI;X-ADDRESS=Holy Cross Lutheran Church 9 Emu Bank Belconnen ACT 2616 Australia;X-APPLE-RADIUS=500;X-TITLE=9 Emu Bank:geo:149.07367,-35.2396675
END:VEVENT
END:VCALENDAR