BEGIN:VCALENDAR
VERSION:2.0
PRODID:-//Belconnen Holy Cross Congregation, ACT - ECPv6.8.1//NONSGML v1.0//EN
CALSCALE:GREGORIAN
METHOD:PUBLISH
X-WR-CALNAME:Belconnen Holy Cross Congregation, ACT
X-ORIGINAL-URL:https://belconnen.lutheran.org.au
X-WR-CALDESC:Events for Belconnen Holy Cross Congregation, ACT
REFRESH-INTERVAL;VALUE=DURATION:PT1H
X-Robots-Tag:noindex
X-PUBLISHED-TTL:PT1H
BEGIN:VTIMEZONE
TZID:Australia/Sydney
BEGIN:STANDARD
TZOFFSETFROM:+1100
TZOFFSETTO:+1000
TZNAME:AEST
DTSTART:20250405T160000
END:STANDARD
BEGIN:DAYLIGHT
TZOFFSETFROM:+1000
TZOFFSETTO:+1100
TZNAME:AEDT
DTSTART:20251004T160000
END:DAYLIGHT
END:VTIMEZONE
BEGIN:VEVENT
DTSTART;TZID=Australia/Sydney:20251203T180000
DTEND;TZID=Australia/Sydney:20251203T200000
DTSTAMP:20260420T023325
CREATED:20250801T040742Z
LAST-MODIFIED:20250801T040742Z
UID:14438-1764784800-1764792000@belconnen.lutheran.org.au
SUMMARY:Samoan SDA Youth Bible Study
DESCRIPTION:Samoan youth meet for Bible study at 6.00pm
URL:https://belconnen.lutheran.org.au/event/samoan-sda-youth-bible-study-2/2025-12-03/
LOCATION:Holy Cross Lutheran Church\, 9 Emu Bank\, Belconnen\, ACT\, 2616\, Australia
GEO:-35.2396675;149.07367
X-APPLE-STRUCTURED-LOCATION;VALUE=URI;X-ADDRESS=Holy Cross Lutheran Church 9 Emu Bank Belconnen ACT 2616 Australia;X-APPLE-RADIUS=500;X-TITLE=9 Emu Bank:geo:149.07367,-35.2396675
END:VEVENT
BEGIN:VEVENT
DTSTART;TZID=Australia/Sydney:20251203T180000
DTEND;TZID=Australia/Sydney:20251203T200000
DTSTAMP:20260420T023325
CREATED:20240515T084026Z
LAST-MODIFIED:20250801T040237Z
UID:13852-1764784800-1764792000@belconnen.lutheran.org.au
SUMMARY:Samoan SDA Youth Bible Study
DESCRIPTION:Samoan youth meet for Bible study at 6.00pm
URL:https://belconnen.lutheran.org.au/event/samoan-sda-youth-bible-study-2024-10-23/2025-12-03/
LOCATION:Holy Cross Lutheran Church\, 9 Emu Bank\, Belconnen\, ACT\, 2616\, Australia
GEO:-35.2396675;149.07367
X-APPLE-STRUCTURED-LOCATION;VALUE=URI;X-ADDRESS=Holy Cross Lutheran Church 9 Emu Bank Belconnen ACT 2616 Australia;X-APPLE-RADIUS=500;X-TITLE=9 Emu Bank:geo:149.07367,-35.2396675
END:VEVENT
BEGIN:VEVENT
DTSTART;TZID=Australia/Sydney:20251203T143000
DTEND;TZID=Australia/Sydney:20251203T163000
DTSTAMP:20260420T023325
CREATED:20251117T095825Z
LAST-MODIFIED:20251224T053803Z
UID:14632-1764772200-1764779400@belconnen.lutheran.org.au
SUMMARY:DAACS Group
DESCRIPTION:meets fortnightly from 2.30pm to 4.30pm
URL:https://belconnen.lutheran.org.au/event/daacs-group/2025-12-03/
LOCATION:Holy Cross Lutheran Church\, 9 Emu Bank\, Belconnen\, ACT\, 2616\, Australia
CATEGORIES:External Hire
GEO:-35.2396675;149.07367
X-APPLE-STRUCTURED-LOCATION;VALUE=URI;X-ADDRESS=Holy Cross Lutheran Church 9 Emu Bank Belconnen ACT 2616 Australia;X-APPLE-RADIUS=500;X-TITLE=9 Emu Bank:geo:149.07367,-35.2396675
END:VEVENT
BEGIN:VEVENT
DTSTART;TZID=Australia/Sydney:20251203T100000
DTEND;TZID=Australia/Sydney:20251203T140000
DTSTAMP:20260420T023325
CREATED:20241216T064722Z
LAST-MODIFIED:20241216T064722Z
UID:12915-1764756000-1764770400@belconnen.lutheran.org.au
SUMMARY:NDIS Support Group
DESCRIPTION:A support group for disabled individuals conducted by Disability Aging and Community Care Services. \n\n\nIf you need help or information simply contact DAACCS \n\n\n\nADDRESS:  G04 120 Eastern Valley Way\, Belconnen\, ACT 2617\nPHONE:  (02) 8004 8412\nEMAIL: admin@daaccs.com.au
URL:https://belconnen.lutheran.org.au/event/ndis-support-group-4/2025-12-03/
LOCATION:Holy Cross Lutheran Church\, 9 Emu Bank\, Belconnen\, ACT\, 2616\, Australia
CATEGORIES:External Hire
GEO:-35.2396675;149.07367
X-APPLE-STRUCTURED-LOCATION;VALUE=URI;X-ADDRESS=Holy Cross Lutheran Church 9 Emu Bank Belconnen ACT 2616 Australia;X-APPLE-RADIUS=500;X-TITLE=9 Emu Bank:geo:149.07367,-35.2396675
END:VEVENT
BEGIN:VEVENT
DTSTART;TZID=Australia/Sydney:20251202T100000
DTEND;TZID=Australia/Sydney:20251202T120000
DTSTAMP:20260420T023325
CREATED:20251224T055210Z
LAST-MODIFIED:20251226T033934Z
UID:13447-1764669600-1764676800@belconnen.lutheran.org.au
SUMMARY:Ladies Discussion Group
DESCRIPTION:Ladies are invited to join the Tuesday discussion group held in the church \nmeeting room the first Tuesday of each month from 10am to 12 noon. \nContact person – Pam McMahon 0401137097
URL:https://belconnen.lutheran.org.au/event/ladies-discussion-group/2025-12-02/
LOCATION:Meeting Room at Holy Cross
CATEGORIES:Bible Study,Ladies fellowship
END:VEVENT
BEGIN:VEVENT
DTSTART;TZID=Australia/Sydney:20251202T100000
DTEND;TZID=Australia/Sydney:20251202T120000
DTSTAMP:20260420T023325
CREATED:20241216T063039Z
LAST-MODIFIED:20241216T063039Z
UID:12774-1764669600-1764676800@belconnen.lutheran.org.au
SUMMARY:Playgroup
DESCRIPTION:Playgroup meets each Tuesday and Friday from 10.00 am to 12.00pm
URL:https://belconnen.lutheran.org.au/event/playgroup/2025-12-02/
LOCATION:Holy Cross Lutheran Church\, 9 Emu Bank\, Belconnen\, ACT\, 2616\, Australia
CATEGORIES:Children
ATTACH;FMTTYPE=image/jpeg:https://belconnen.lutheran.org.au/wp-content/uploads/sites/194/2022/11/play-e1674968560858.jpg
GEO:-35.2396675;149.07367
X-APPLE-STRUCTURED-LOCATION;VALUE=URI;X-ADDRESS=Holy Cross Lutheran Church 9 Emu Bank Belconnen ACT 2616 Australia;X-APPLE-RADIUS=500;X-TITLE=9 Emu Bank:geo:149.07367,-35.2396675
END:VEVENT
BEGIN:VEVENT
DTSTART;TZID=Australia/Sydney:20251201T100000
DTEND;TZID=Australia/Sydney:20251201T140000
DTSTAMP:20260420T023325
CREATED:20241216T064524Z
LAST-MODIFIED:20241216T064524Z
UID:12864-1764583200-1764597600@belconnen.lutheran.org.au
SUMMARY:NDIS Support Group
DESCRIPTION:A support group for disabled individuals conducted by Disability Aging and Community Care Services. \n\n\nIf you need help or information simply contact DAACCS \n\n\n\nADDRESS:  G04 120 Eastern Valley Way\, Belconnen\, ACT 2617\nPHONE:  (02) 8004 8412\nEMAIL: admin@daaccs.com.au
URL:https://belconnen.lutheran.org.au/event/ndis-support-group-3/2025-12-01/
LOCATION:Holy Cross Lutheran Church\, 9 Emu Bank\, Belconnen\, ACT\, 2616\, Australia
CATEGORIES:External Hire
GEO:-35.2396675;149.07367
X-APPLE-STRUCTURED-LOCATION;VALUE=URI;X-ADDRESS=Holy Cross Lutheran Church 9 Emu Bank Belconnen ACT 2616 Australia;X-APPLE-RADIUS=500;X-TITLE=9 Emu Bank:geo:149.07367,-35.2396675
END:VEVENT
BEGIN:VEVENT
DTSTART;TZID=Australia/Sydney:20251130T130000
DTEND;TZID=Australia/Sydney:20251130T153000
DTSTAMP:20260420T023325
CREATED:20251224T051904Z
LAST-MODIFIED:20251224T052005Z
UID:13033-1764507600-1764516600@belconnen.lutheran.org.au
SUMMARY:Free Wesleyan Church of Tonga
DESCRIPTION:The Free Wesleyan Church of Tonga worships at Holy Cross each Sunday at 1.00 pm \nFurther information contact 0499868628
URL:https://belconnen.lutheran.org.au/event/free-wesleyan-church-of-tonga-2/2025-11-30/
LOCATION:Holy Cross Lutheran Church\, 9 Emu Bank\, Belconnen\, ACT\, 2616\, Australia
CATEGORIES:External Hire
GEO:-35.2396675;149.07367
X-APPLE-STRUCTURED-LOCATION;VALUE=URI;X-ADDRESS=Holy Cross Lutheran Church 9 Emu Bank Belconnen ACT 2616 Australia;X-APPLE-RADIUS=500;X-TITLE=9 Emu Bank:geo:149.07367,-35.2396675
END:VEVENT
BEGIN:VEVENT
DTSTART;TZID=Australia/Sydney:20251130T113000
DTEND;TZID=Australia/Sydney:20251130T123000
DTSTAMP:20260420T023325
CREATED:20241216T083622Z
LAST-MODIFIED:20251107T035424Z
UID:13217-1764502200-1764505800@belconnen.lutheran.org.au
SUMMARY:Half Yearly General Meeting
DESCRIPTION:
URL:https://belconnen.lutheran.org.au/event/half-yearly-general-meeting/
LOCATION:ACT
CATEGORIES:Meeting
END:VEVENT
BEGIN:VEVENT
DTSTART;TZID=Australia/Sydney:20251130T100000
DTEND;TZID=Australia/Sydney:20251130T113000
DTSTAMP:20260420T023325
CREATED:20251130T063904Z
LAST-MODIFIED:20251202T082858Z
UID:14180-1764496800-1764502200@belconnen.lutheran.org.au
SUMMARY:Worship with Holy Communion
DESCRIPTION:Please join us for  Worship every Sunday at 10.00 am \nWorship with Holy Communion is  held every Sunday morning at 10.00 am \nGuidelines in relation to Covid safe behaviours are followed. \n \nOur Bulletin for this week may be read here \n 
URL:https://belconnen.lutheran.org.au/event/worship-with-holy-communion-2-2025-06-15-2025-11-30/
LOCATION:Holy Cross Lutheran Church\, 9 Emu Bank\, Belconnen\, ACT\, 2616\, Australia
ORGANIZER;CN="Pastor Darren Jaensch":MAILTO:darren.jaensch@lca.org.au
GEO:-35.2396675;149.07367
X-APPLE-STRUCTURED-LOCATION;VALUE=URI;X-ADDRESS=Holy Cross Lutheran Church 9 Emu Bank Belconnen ACT 2616 Australia;X-APPLE-RADIUS=500;X-TITLE=9 Emu Bank:geo:149.07367,-35.2396675
END:VEVENT
BEGIN:VEVENT
DTSTART;TZID=Australia/Sydney:20251129T143000
DTEND;TZID=Australia/Sydney:20251129T170000
DTSTAMP:20260420T023326
CREATED:20250113T060425Z
LAST-MODIFIED:20250113T060425Z
UID:13985-1764426600-1764435600@belconnen.lutheran.org.au
SUMMARY:Church Setup
DESCRIPTION:time reserved for setup of church for Sunday Service
URL:https://belconnen.lutheran.org.au/event/church-setup/2025-11-29/
LOCATION:Holy Cross Lutheran Church\, 9 Emu Bank\, Belconnen\, ACT\, 2616\, Australia
GEO:-35.2396675;149.07367
X-APPLE-STRUCTURED-LOCATION;VALUE=URI;X-ADDRESS=Holy Cross Lutheran Church 9 Emu Bank Belconnen ACT 2616 Australia;X-APPLE-RADIUS=500;X-TITLE=9 Emu Bank:geo:149.07367,-35.2396675
END:VEVENT
BEGIN:VEVENT
DTSTART;TZID=Australia/Sydney:20251129T133000
DTEND;TZID=Australia/Sydney:20251129T153000
DTSTAMP:20260420T023326
CREATED:20250312T081627Z
LAST-MODIFIED:20250312T081627Z
UID:13751-1764423000-1764430200@belconnen.lutheran.org.au
SUMMARY:AA Group Meeting
DESCRIPTION:
URL:https://belconnen.lutheran.org.au/event/aa-group-meeting/2025-11-29/
LOCATION:Meeting Room at Holy Cross
END:VEVENT
BEGIN:VEVENT
DTSTART;TZID=Australia/Sydney:20251129T093000
DTEND;TZID=Australia/Sydney:20251129T143000
DTSTAMP:20260420T023326
CREATED:20251224T052219Z
LAST-MODIFIED:20251224T052233Z
UID:13107-1764408600-1764426600@belconnen.lutheran.org.au
SUMMARY:The Seeking Salvation Samoan Seventh-Day Church
DESCRIPTION:The Seeking Salvation Samoan Seventh-Day Church holds its weekly service at Holy Cross
URL:https://belconnen.lutheran.org.au/event/samoan-independent-seventh-day-adventist-church/2025-11-29/
LOCATION:Holy Cross Lutheran Church\, 9 Emu Bank\, Belconnen\, ACT\, 2616\, Australia
CATEGORIES:External Hire
GEO:-35.2396675;149.07367
X-APPLE-STRUCTURED-LOCATION;VALUE=URI;X-ADDRESS=Holy Cross Lutheran Church 9 Emu Bank Belconnen ACT 2616 Australia;X-APPLE-RADIUS=500;X-TITLE=9 Emu Bank:geo:149.07367,-35.2396675
END:VEVENT
BEGIN:VEVENT
DTSTART;TZID=Australia/Sydney:20251128T190000
DTEND;TZID=Australia/Sydney:20251128T220000
DTSTAMP:20260420T023326
CREATED:20250113T060202Z
LAST-MODIFIED:20250206T011201Z
UID:13373-1764356400-1764367200@belconnen.lutheran.org.au
SUMMARY:Free Wesleyan Church of Tonga Youth Group
DESCRIPTION:The Free Wesleyan Church of Tonga Youth Group meets weekly at Holy Cross
URL:https://belconnen.lutheran.org.au/event/free-wesleyan-church-of-tonga-youth-group-2-2025-02-14/2025-11-28/
LOCATION:Holy Cross Lutheran Church\, 9 Emu Bank\, Belconnen\, ACT\, 2616\, Australia
ORGANIZER;CN="Robert Steve Vave":MAILTO:Robertandrenata@hotmail.com
GEO:-35.2396675;149.07367
X-APPLE-STRUCTURED-LOCATION;VALUE=URI;X-ADDRESS=Holy Cross Lutheran Church 9 Emu Bank Belconnen ACT 2616 Australia;X-APPLE-RADIUS=500;X-TITLE=9 Emu Bank:geo:149.07367,-35.2396675
END:VEVENT
BEGIN:VEVENT
DTSTART;TZID=Australia/Sydney:20251128T100000
DTEND;TZID=Australia/Sydney:20251128T120000
DTSTAMP:20260420T023326
CREATED:20241216T063507Z
LAST-MODIFIED:20250131T035656Z
UID:12817-1764324000-1764331200@belconnen.lutheran.org.au
SUMMARY:Playgroup
DESCRIPTION:Playgroup meets each Tuesday and Friday from 10.00 am to 12.00pm
URL:https://belconnen.lutheran.org.au/event/playgroup-4/2025-11-28/
LOCATION:Holy Cross Lutheran Church\, 9 Emu Bank\, Belconnen\, ACT\, 2616\, Australia
CATEGORIES:Children
ATTACH;FMTTYPE=image/jpeg:https://belconnen.lutheran.org.au/wp-content/uploads/sites/194/2022/11/play-e1674968560858.jpg
GEO:-35.2396675;149.07367
X-APPLE-STRUCTURED-LOCATION;VALUE=URI;X-ADDRESS=Holy Cross Lutheran Church 9 Emu Bank Belconnen ACT 2616 Australia;X-APPLE-RADIUS=500;X-TITLE=9 Emu Bank:geo:149.07367,-35.2396675
END:VEVENT
BEGIN:VEVENT
DTSTART;TZID=Australia/Sydney:20251127T130000
DTEND;TZID=Australia/Sydney:20251127T150000
DTSTAMP:20260420T023326
CREATED:20250717T043059Z
LAST-MODIFIED:20251120T080741Z
UID:14349-1764248400-1764255600@belconnen.lutheran.org.au
SUMMARY:Life Drawing Workshop - last session for 2025
DESCRIPTION:THE LIFE DRAWING WORKSHOP\n– Creating Better Drawings through Clarity of Thought\, Mind and Focus \nThe Life Drawing Workshop has its own new YouTube Channel.\nPlease share it to help improve the Workshop’s numbers…\nhttps://youtu.be/PP6S_Nt39fw \nAlso\, please share this Life Drawing Workshop link…\nLife Drawing Workshop Info www.pazolli.com/lifedrawing \nLIFE DRAWING WORKSHOP\, – every THURSDAY –  1pm – 3pm. \nCREATE YOUR OWN DRAWING WORLD ….. BY DOING IT YOUR WAY…\n~ only you know how to find your creative pathway to better drawing. \nAthina Pazolli\nArtist; Painting; Drawing\nm: 0414 271311\ne: athina@pazolli.com\nart: www.pazolli.com\nDraw: www.pazolli.com/lifedrawing\nfb art: www.facebook.com/athina.pazolli\nfb draw: facebook.com/groups/2246575525649553/
URL:https://belconnen.lutheran.org.au/event/life-drawing-workshop-3-2025-11-27/
LOCATION:Holy Cross Lutheran Church\, 9 Emu Bank\, Belconnen\, ACT\, 2616\, Australia
GEO:-35.2396675;149.07367
X-APPLE-STRUCTURED-LOCATION;VALUE=URI;X-ADDRESS=Holy Cross Lutheran Church 9 Emu Bank Belconnen ACT 2616 Australia;X-APPLE-RADIUS=500;X-TITLE=9 Emu Bank:geo:149.07367,-35.2396675
END:VEVENT
BEGIN:VEVENT
DTSTART;TZID=Australia/Sydney:20251126T180000
DTEND;TZID=Australia/Sydney:20251126T200000
DTSTAMP:20260420T023326
CREATED:20250801T040742Z
LAST-MODIFIED:20250801T040742Z
UID:14437-1764180000-1764187200@belconnen.lutheran.org.au
SUMMARY:Samoan SDA Youth Bible Study
DESCRIPTION:Samoan youth meet for Bible study at 6.00pm
URL:https://belconnen.lutheran.org.au/event/samoan-sda-youth-bible-study-2/2025-11-26/
LOCATION:Holy Cross Lutheran Church\, 9 Emu Bank\, Belconnen\, ACT\, 2616\, Australia
GEO:-35.2396675;149.07367
X-APPLE-STRUCTURED-LOCATION;VALUE=URI;X-ADDRESS=Holy Cross Lutheran Church 9 Emu Bank Belconnen ACT 2616 Australia;X-APPLE-RADIUS=500;X-TITLE=9 Emu Bank:geo:149.07367,-35.2396675
END:VEVENT
BEGIN:VEVENT
DTSTART;TZID=Australia/Sydney:20251126T180000
DTEND;TZID=Australia/Sydney:20251126T200000
DTSTAMP:20260420T023326
CREATED:20240515T084026Z
LAST-MODIFIED:20250801T040236Z
UID:13851-1764180000-1764187200@belconnen.lutheran.org.au
SUMMARY:Samoan SDA Youth Bible Study
DESCRIPTION:Samoan youth meet for Bible study at 6.00pm
URL:https://belconnen.lutheran.org.au/event/samoan-sda-youth-bible-study-2024-10-23/2025-11-26/
LOCATION:Holy Cross Lutheran Church\, 9 Emu Bank\, Belconnen\, ACT\, 2616\, Australia
GEO:-35.2396675;149.07367
X-APPLE-STRUCTURED-LOCATION;VALUE=URI;X-ADDRESS=Holy Cross Lutheran Church 9 Emu Bank Belconnen ACT 2616 Australia;X-APPLE-RADIUS=500;X-TITLE=9 Emu Bank:geo:149.07367,-35.2396675
END:VEVENT
BEGIN:VEVENT
DTSTART;TZID=Australia/Sydney:20251126T100000
DTEND;TZID=Australia/Sydney:20251126T140000
DTSTAMP:20260420T023326
CREATED:20241216T064722Z
LAST-MODIFIED:20241216T064722Z
UID:12914-1764151200-1764165600@belconnen.lutheran.org.au
SUMMARY:NDIS Support Group
DESCRIPTION:A support group for disabled individuals conducted by Disability Aging and Community Care Services. \n\n\nIf you need help or information simply contact DAACCS \n\n\n\nADDRESS:  G04 120 Eastern Valley Way\, Belconnen\, ACT 2617\nPHONE:  (02) 8004 8412\nEMAIL: admin@daaccs.com.au
URL:https://belconnen.lutheran.org.au/event/ndis-support-group-4/2025-11-26/
LOCATION:Holy Cross Lutheran Church\, 9 Emu Bank\, Belconnen\, ACT\, 2616\, Australia
CATEGORIES:External Hire
GEO:-35.2396675;149.07367
X-APPLE-STRUCTURED-LOCATION;VALUE=URI;X-ADDRESS=Holy Cross Lutheran Church 9 Emu Bank Belconnen ACT 2616 Australia;X-APPLE-RADIUS=500;X-TITLE=9 Emu Bank:geo:149.07367,-35.2396675
END:VEVENT
BEGIN:VEVENT
DTSTART;TZID=Australia/Sydney:20251125T100000
DTEND;TZID=Australia/Sydney:20251125T120000
DTSTAMP:20260420T023326
CREATED:20241216T063039Z
LAST-MODIFIED:20241216T063039Z
UID:12773-1764064800-1764072000@belconnen.lutheran.org.au
SUMMARY:Playgroup
DESCRIPTION:Playgroup meets each Tuesday and Friday from 10.00 am to 12.00pm
URL:https://belconnen.lutheran.org.au/event/playgroup/2025-11-25/
LOCATION:Holy Cross Lutheran Church\, 9 Emu Bank\, Belconnen\, ACT\, 2616\, Australia
CATEGORIES:Children
ATTACH;FMTTYPE=image/jpeg:https://belconnen.lutheran.org.au/wp-content/uploads/sites/194/2022/11/play-e1674968560858.jpg
GEO:-35.2396675;149.07367
X-APPLE-STRUCTURED-LOCATION;VALUE=URI;X-ADDRESS=Holy Cross Lutheran Church 9 Emu Bank Belconnen ACT 2616 Australia;X-APPLE-RADIUS=500;X-TITLE=9 Emu Bank:geo:149.07367,-35.2396675
END:VEVENT
BEGIN:VEVENT
DTSTART;TZID=Australia/Sydney:20251124T100000
DTEND;TZID=Australia/Sydney:20251124T140000
DTSTAMP:20260420T023326
CREATED:20241216T064524Z
LAST-MODIFIED:20241216T064524Z
UID:12863-1763978400-1763992800@belconnen.lutheran.org.au
SUMMARY:NDIS Support Group
DESCRIPTION:A support group for disabled individuals conducted by Disability Aging and Community Care Services. \n\n\nIf you need help or information simply contact DAACCS \n\n\n\nADDRESS:  G04 120 Eastern Valley Way\, Belconnen\, ACT 2617\nPHONE:  (02) 8004 8412\nEMAIL: admin@daaccs.com.au
URL:https://belconnen.lutheran.org.au/event/ndis-support-group-3/2025-11-24/
LOCATION:Holy Cross Lutheran Church\, 9 Emu Bank\, Belconnen\, ACT\, 2616\, Australia
CATEGORIES:External Hire
GEO:-35.2396675;149.07367
X-APPLE-STRUCTURED-LOCATION;VALUE=URI;X-ADDRESS=Holy Cross Lutheran Church 9 Emu Bank Belconnen ACT 2616 Australia;X-APPLE-RADIUS=500;X-TITLE=9 Emu Bank:geo:149.07367,-35.2396675
END:VEVENT
BEGIN:VEVENT
DTSTART;TZID=Australia/Sydney:20251123T130000
DTEND;TZID=Australia/Sydney:20251123T153000
DTSTAMP:20260420T023326
CREATED:20251224T051904Z
LAST-MODIFIED:20251224T052005Z
UID:13032-1763902800-1763911800@belconnen.lutheran.org.au
SUMMARY:Free Wesleyan Church of Tonga
DESCRIPTION:The Free Wesleyan Church of Tonga worships at Holy Cross each Sunday at 1.00 pm \nFurther information contact 0499868628
URL:https://belconnen.lutheran.org.au/event/free-wesleyan-church-of-tonga-2/2025-11-23/
LOCATION:Holy Cross Lutheran Church\, 9 Emu Bank\, Belconnen\, ACT\, 2616\, Australia
CATEGORIES:External Hire
GEO:-35.2396675;149.07367
X-APPLE-STRUCTURED-LOCATION;VALUE=URI;X-ADDRESS=Holy Cross Lutheran Church 9 Emu Bank Belconnen ACT 2616 Australia;X-APPLE-RADIUS=500;X-TITLE=9 Emu Bank:geo:149.07367,-35.2396675
END:VEVENT
BEGIN:VEVENT
DTSTART;TZID=Australia/Sydney:20251123T100000
DTEND;TZID=Australia/Sydney:20251123T113000
DTSTAMP:20260420T023326
CREATED:20251121T051704Z
LAST-MODIFIED:20251125T080434Z
UID:14179-1763892000-1763897400@belconnen.lutheran.org.au
SUMMARY:Worship with Holy Communion
DESCRIPTION:Please join us for  Worship every Sunday at 10.00 am \nWorship with Holy Communion is  held every Sunday morning at 10.00 am \nGuidelines in relation to Covid safe behaviours are followed. \n \nOur Bulletin for this week may be read here \n 
URL:https://belconnen.lutheran.org.au/event/worship-with-holy-communion-2-2025-06-15-2025-11-23/
LOCATION:Holy Cross Lutheran Church\, 9 Emu Bank\, Belconnen\, ACT\, 2616\, Australia
ORGANIZER;CN="Pastor Darren Jaensch":MAILTO:darren.jaensch@lca.org.au
GEO:-35.2396675;149.07367
X-APPLE-STRUCTURED-LOCATION;VALUE=URI;X-ADDRESS=Holy Cross Lutheran Church 9 Emu Bank Belconnen ACT 2616 Australia;X-APPLE-RADIUS=500;X-TITLE=9 Emu Bank:geo:149.07367,-35.2396675
END:VEVENT
BEGIN:VEVENT
DTSTART;TZID=Australia/Sydney:20251122T143000
DTEND;TZID=Australia/Sydney:20251122T170000
DTSTAMP:20260420T023326
CREATED:20250113T060425Z
LAST-MODIFIED:20250113T060425Z
UID:13984-1763821800-1763830800@belconnen.lutheran.org.au
SUMMARY:Church Setup
DESCRIPTION:time reserved for setup of church for Sunday Service
URL:https://belconnen.lutheran.org.au/event/church-setup/2025-11-22/
LOCATION:Holy Cross Lutheran Church\, 9 Emu Bank\, Belconnen\, ACT\, 2616\, Australia
GEO:-35.2396675;149.07367
X-APPLE-STRUCTURED-LOCATION;VALUE=URI;X-ADDRESS=Holy Cross Lutheran Church 9 Emu Bank Belconnen ACT 2616 Australia;X-APPLE-RADIUS=500;X-TITLE=9 Emu Bank:geo:149.07367,-35.2396675
END:VEVENT
BEGIN:VEVENT
DTSTART;TZID=Australia/Sydney:20251122T133000
DTEND;TZID=Australia/Sydney:20251122T153000
DTSTAMP:20260420T023326
CREATED:20250312T081627Z
LAST-MODIFIED:20250312T081627Z
UID:13750-1763818200-1763825400@belconnen.lutheran.org.au
SUMMARY:AA Group Meeting
DESCRIPTION:
URL:https://belconnen.lutheran.org.au/event/aa-group-meeting/2025-11-22/
LOCATION:Meeting Room at Holy Cross
END:VEVENT
BEGIN:VEVENT
DTSTART;TZID=Australia/Sydney:20251122T100000
DTEND;TZID=Australia/Sydney:20251122T113000
DTSTAMP:20260420T023326
CREATED:20251117T062619Z
LAST-MODIFIED:20251117T062619Z
UID:14629-1763805600-1763811000@belconnen.lutheran.org.au
SUMMARY:Funeral of Helen Hills
DESCRIPTION:The funeral servcie for Heleln Hills will take plave at 10.00am
URL:https://belconnen.lutheran.org.au/event/funeral-of-helen-hills/
LOCATION:Holy Cross Lutheran Church\, 9 Emu Bank\, Belconnen\, ACT\, 2616\, Australia
ORGANIZER;CN="Pastor Darren Jaensch":MAILTO:darren.jaensch@lca.org.au
GEO:-35.2396675;149.07367
X-APPLE-STRUCTURED-LOCATION;VALUE=URI;X-ADDRESS=Holy Cross Lutheran Church 9 Emu Bank Belconnen ACT 2616 Australia;X-APPLE-RADIUS=500;X-TITLE=9 Emu Bank:geo:149.07367,-35.2396675
END:VEVENT
BEGIN:VEVENT
DTSTART;TZID=Australia/Sydney:20251122T093000
DTEND;TZID=Australia/Sydney:20251122T143000
DTSTAMP:20260420T023326
CREATED:20251224T052219Z
LAST-MODIFIED:20251224T052233Z
UID:13106-1763803800-1763821800@belconnen.lutheran.org.au
SUMMARY:The Seeking Salvation Samoan Seventh-Day Church
DESCRIPTION:The Seeking Salvation Samoan Seventh-Day Church holds its weekly service at Holy Cross
URL:https://belconnen.lutheran.org.au/event/samoan-independent-seventh-day-adventist-church/2025-11-22/
LOCATION:Holy Cross Lutheran Church\, 9 Emu Bank\, Belconnen\, ACT\, 2616\, Australia
CATEGORIES:External Hire
GEO:-35.2396675;149.07367
X-APPLE-STRUCTURED-LOCATION;VALUE=URI;X-ADDRESS=Holy Cross Lutheran Church 9 Emu Bank Belconnen ACT 2616 Australia;X-APPLE-RADIUS=500;X-TITLE=9 Emu Bank:geo:149.07367,-35.2396675
END:VEVENT
BEGIN:VEVENT
DTSTART;TZID=Australia/Sydney:20251121T190000
DTEND;TZID=Australia/Sydney:20251121T220000
DTSTAMP:20260420T023326
CREATED:20250113T060202Z
LAST-MODIFIED:20250206T011201Z
UID:13372-1763751600-1763762400@belconnen.lutheran.org.au
SUMMARY:Free Wesleyan Church of Tonga Youth Group
DESCRIPTION:The Free Wesleyan Church of Tonga Youth Group meets weekly at Holy Cross
URL:https://belconnen.lutheran.org.au/event/free-wesleyan-church-of-tonga-youth-group-2-2025-02-14/2025-11-21/
LOCATION:Holy Cross Lutheran Church\, 9 Emu Bank\, Belconnen\, ACT\, 2616\, Australia
ORGANIZER;CN="Robert Steve Vave":MAILTO:Robertandrenata@hotmail.com
GEO:-35.2396675;149.07367
X-APPLE-STRUCTURED-LOCATION;VALUE=URI;X-ADDRESS=Holy Cross Lutheran Church 9 Emu Bank Belconnen ACT 2616 Australia;X-APPLE-RADIUS=500;X-TITLE=9 Emu Bank:geo:149.07367,-35.2396675
END:VEVENT
BEGIN:VEVENT
DTSTART;TZID=Australia/Sydney:20251121T100000
DTEND;TZID=Australia/Sydney:20251121T120000
DTSTAMP:20260420T023326
CREATED:20241216T063507Z
LAST-MODIFIED:20250131T035656Z
UID:12816-1763719200-1763726400@belconnen.lutheran.org.au
SUMMARY:Playgroup
DESCRIPTION:Playgroup meets each Tuesday and Friday from 10.00 am to 12.00pm
URL:https://belconnen.lutheran.org.au/event/playgroup-4/2025-11-21/
LOCATION:Holy Cross Lutheran Church\, 9 Emu Bank\, Belconnen\, ACT\, 2616\, Australia
CATEGORIES:Children
ATTACH;FMTTYPE=image/jpeg:https://belconnen.lutheran.org.au/wp-content/uploads/sites/194/2022/11/play-e1674968560858.jpg
GEO:-35.2396675;149.07367
X-APPLE-STRUCTURED-LOCATION;VALUE=URI;X-ADDRESS=Holy Cross Lutheran Church 9 Emu Bank Belconnen ACT 2616 Australia;X-APPLE-RADIUS=500;X-TITLE=9 Emu Bank:geo:149.07367,-35.2396675
END:VEVENT
BEGIN:VEVENT
DTSTART;TZID=Australia/Sydney:20251120T193000
DTEND;TZID=Australia/Sydney:20251120T210000
DTSTAMP:20260420T023326
CREATED:20241216T065127Z
LAST-MODIFIED:20250717T040557Z
UID:12926-1763667000-1763672400@belconnen.lutheran.org.au
SUMMARY:Ladies Evening Fellowship
DESCRIPTION:Our ladies meet for fellowship and bible study at 7.30 pm on the third Thursday of each month\, usually in the homes of the group members. Each month’s venue is advertised in our weekly bulletin.
URL:https://belconnen.lutheran.org.au/event/ladies-evening-fellowship-3-2025-07-17/2025-11-20/
LOCATION:ACT
CATEGORIES:Ladies fellowship
END:VEVENT
END:VCALENDAR