BEGIN:VCALENDAR
VERSION:2.0
PRODID:-//Belconnen Holy Cross Congregation, ACT - ECPv6.8.1//NONSGML v1.0//EN
CALSCALE:GREGORIAN
METHOD:PUBLISH
X-WR-CALNAME:Belconnen Holy Cross Congregation, ACT
X-ORIGINAL-URL:https://belconnen.lutheran.org.au
X-WR-CALDESC:Events for Belconnen Holy Cross Congregation, ACT
REFRESH-INTERVAL;VALUE=DURATION:PT1H
X-Robots-Tag:noindex
X-PUBLISHED-TTL:PT1H
BEGIN:VTIMEZONE
TZID:Australia/Sydney
BEGIN:STANDARD
TZOFFSETFROM:+1100
TZOFFSETTO:+1000
TZNAME:AEST
DTSTART:20250405T160000
END:STANDARD
BEGIN:DAYLIGHT
TZOFFSETFROM:+1000
TZOFFSETTO:+1100
TZNAME:AEDT
DTSTART:20251004T160000
END:DAYLIGHT
END:VTIMEZONE
BEGIN:VEVENT
DTSTART;TZID=Australia/Sydney:20251107T190000
DTEND;TZID=Australia/Sydney:20251107T220000
DTSTAMP:20260420T131659
CREATED:20250113T060202Z
LAST-MODIFIED:20250206T011201Z
UID:13370-1762542000-1762552800@belconnen.lutheran.org.au
SUMMARY:Free Wesleyan Church of Tonga Youth Group
DESCRIPTION:The Free Wesleyan Church of Tonga Youth Group meets weekly at Holy Cross
URL:https://belconnen.lutheran.org.au/event/free-wesleyan-church-of-tonga-youth-group-2-2025-02-14/2025-11-07/
LOCATION:Holy Cross Lutheran Church\, 9 Emu Bank\, Belconnen\, ACT\, 2616\, Australia
ORGANIZER;CN="Robert Steve Vave":MAILTO:Robertandrenata@hotmail.com
GEO:-35.2396675;149.07367
X-APPLE-STRUCTURED-LOCATION;VALUE=URI;X-ADDRESS=Holy Cross Lutheran Church 9 Emu Bank Belconnen ACT 2616 Australia;X-APPLE-RADIUS=500;X-TITLE=9 Emu Bank:geo:149.07367,-35.2396675
END:VEVENT
BEGIN:VEVENT
DTSTART;TZID=Australia/Sydney:20251107T100000
DTEND;TZID=Australia/Sydney:20251107T120000
DTSTAMP:20260420T131659
CREATED:20241216T063507Z
LAST-MODIFIED:20250131T035656Z
UID:12814-1762509600-1762516800@belconnen.lutheran.org.au
SUMMARY:Playgroup
DESCRIPTION:Playgroup meets each Tuesday and Friday from 10.00 am to 12.00pm
URL:https://belconnen.lutheran.org.au/event/playgroup-4/2025-11-07/
LOCATION:Holy Cross Lutheran Church\, 9 Emu Bank\, Belconnen\, ACT\, 2616\, Australia
CATEGORIES:Children
ATTACH;FMTTYPE=image/jpeg:https://belconnen.lutheran.org.au/wp-content/uploads/sites/194/2022/11/play-e1674968560858.jpg
GEO:-35.2396675;149.07367
X-APPLE-STRUCTURED-LOCATION;VALUE=URI;X-ADDRESS=Holy Cross Lutheran Church 9 Emu Bank Belconnen ACT 2616 Australia;X-APPLE-RADIUS=500;X-TITLE=9 Emu Bank:geo:149.07367,-35.2396675
END:VEVENT
BEGIN:VEVENT
DTSTART;TZID=Australia/Sydney:20251106T130000
DTEND;TZID=Australia/Sydney:20251106T150000
DTSTAMP:20260420T131659
CREATED:20250717T043059Z
LAST-MODIFIED:20250717T043059Z
UID:14345-1762434000-1762441200@belconnen.lutheran.org.au
SUMMARY:Life Drawing Workshop
DESCRIPTION:THE LIFE DRAWING WORKSHOP\n– Creating Better Drawings through Clarity of Thought\, Mind and Focus \nThe Life Drawing Workshop has its own new YouTube Channel.\nPlease share it to help improve the Workshop’s numbers…\nhttps://youtu.be/PP6S_Nt39fw \nAlso\, please share this Life Drawing Workshop link…\nLife Drawing Workshop Info www.pazolli.com/lifedrawing \nLIFE DRAWING WORKSHOP\, – every THURSDAY –  1pm – 3pm. \nCREATE YOUR OWN DRAWING WORLD ….. BY DOING IT YOUR WAY…\n~ only you know how to find your creative pathway to better drawing. \nAthina Pazolli\nArtist; Painting; Drawing\nm: 0414 271311\ne: athina@pazolli.com\nart: www.pazolli.com\nDraw: www.pazolli.com/lifedrawing\nfb art: www.facebook.com/athina.pazolli\nfb draw: facebook.com/groups/2246575525649553/
URL:https://belconnen.lutheran.org.au/event/life-drawing-workshop-3/2025-11-06/
LOCATION:Holy Cross Lutheran Church\, 9 Emu Bank\, Belconnen\, ACT\, 2616\, Australia
GEO:-35.2396675;149.07367
X-APPLE-STRUCTURED-LOCATION;VALUE=URI;X-ADDRESS=Holy Cross Lutheran Church 9 Emu Bank Belconnen ACT 2616 Australia;X-APPLE-RADIUS=500;X-TITLE=9 Emu Bank:geo:149.07367,-35.2396675
END:VEVENT
BEGIN:VEVENT
DTSTART;TZID=Australia/Sydney:20251105T200000
DTEND;TZID=Australia/Sydney:20251105T213000
DTSTAMP:20260420T131659
CREATED:20241216T080817Z
LAST-MODIFIED:20241216T080817Z
UID:13119-1762372800-1762378200@belconnen.lutheran.org.au
SUMMARY:Men's Fellowship Group
DESCRIPTION:Our Men’s Fellowship Group meets on the first Wednesday of each month in the homes of meembers. See weekly Bulletin for the venue for each month.
URL:https://belconnen.lutheran.org.au/event/mens-fellowship-group-3/2025-11-05/
LOCATION:ACT
CATEGORIES:Men's Fellowship
END:VEVENT
BEGIN:VEVENT
DTSTART;TZID=Australia/Sydney:20251105T180000
DTEND;TZID=Australia/Sydney:20251105T200000
DTSTAMP:20260420T131659
CREATED:20250801T040742Z
LAST-MODIFIED:20250801T040742Z
UID:14433-1762365600-1762372800@belconnen.lutheran.org.au
SUMMARY:Samoan SDA Youth Bible Study
DESCRIPTION:Samoan youth meet for Bible study at 6.00pm
URL:https://belconnen.lutheran.org.au/event/samoan-sda-youth-bible-study-2/2025-11-05/
LOCATION:Holy Cross Lutheran Church\, 9 Emu Bank\, Belconnen\, ACT\, 2616\, Australia
GEO:-35.2396675;149.07367
X-APPLE-STRUCTURED-LOCATION;VALUE=URI;X-ADDRESS=Holy Cross Lutheran Church 9 Emu Bank Belconnen ACT 2616 Australia;X-APPLE-RADIUS=500;X-TITLE=9 Emu Bank:geo:149.07367,-35.2396675
END:VEVENT
BEGIN:VEVENT
DTSTART;TZID=Australia/Sydney:20251105T180000
DTEND;TZID=Australia/Sydney:20251105T200000
DTSTAMP:20260420T131659
CREATED:20240515T084026Z
LAST-MODIFIED:20250801T040232Z
UID:13848-1762365600-1762372800@belconnen.lutheran.org.au
SUMMARY:Samoan SDA Youth Bible Study
DESCRIPTION:Samoan youth meet for Bible study at 6.00pm
URL:https://belconnen.lutheran.org.au/event/samoan-sda-youth-bible-study-2024-10-23/2025-11-05/
LOCATION:Holy Cross Lutheran Church\, 9 Emu Bank\, Belconnen\, ACT\, 2616\, Australia
GEO:-35.2396675;149.07367
X-APPLE-STRUCTURED-LOCATION;VALUE=URI;X-ADDRESS=Holy Cross Lutheran Church 9 Emu Bank Belconnen ACT 2616 Australia;X-APPLE-RADIUS=500;X-TITLE=9 Emu Bank:geo:149.07367,-35.2396675
END:VEVENT
BEGIN:VEVENT
DTSTART;TZID=Australia/Sydney:20251105T100000
DTEND;TZID=Australia/Sydney:20251105T140000
DTSTAMP:20260420T131659
CREATED:20241216T064722Z
LAST-MODIFIED:20241216T064722Z
UID:12911-1762336800-1762351200@belconnen.lutheran.org.au
SUMMARY:NDIS Support Group
DESCRIPTION:A support group for disabled individuals conducted by Disability Aging and Community Care Services. \n\n\nIf you need help or information simply contact DAACCS \n\n\n\nADDRESS:  G04 120 Eastern Valley Way\, Belconnen\, ACT 2617\nPHONE:  (02) 8004 8412\nEMAIL: admin@daaccs.com.au
URL:https://belconnen.lutheran.org.au/event/ndis-support-group-4/2025-11-05/
LOCATION:Holy Cross Lutheran Church\, 9 Emu Bank\, Belconnen\, ACT\, 2616\, Australia
CATEGORIES:External Hire
GEO:-35.2396675;149.07367
X-APPLE-STRUCTURED-LOCATION;VALUE=URI;X-ADDRESS=Holy Cross Lutheran Church 9 Emu Bank Belconnen ACT 2616 Australia;X-APPLE-RADIUS=500;X-TITLE=9 Emu Bank:geo:149.07367,-35.2396675
END:VEVENT
BEGIN:VEVENT
DTSTART;TZID=Australia/Sydney:20251104T100000
DTEND;TZID=Australia/Sydney:20251104T120000
DTSTAMP:20260420T131659
CREATED:20251224T055210Z
LAST-MODIFIED:20251226T033932Z
UID:13446-1762250400-1762257600@belconnen.lutheran.org.au
SUMMARY:Ladies Discussion Group
DESCRIPTION:Ladies are invited to join the Tuesday discussion group held in the church \nmeeting room the first Tuesday of each month from 10am to 12 noon. \nContact person – Pam McMahon 0401137097
URL:https://belconnen.lutheran.org.au/event/ladies-discussion-group/2025-11-04/
LOCATION:Meeting Room at Holy Cross
CATEGORIES:Bible Study,Ladies fellowship
END:VEVENT
BEGIN:VEVENT
DTSTART;TZID=Australia/Sydney:20251104T100000
DTEND;TZID=Australia/Sydney:20251104T120000
DTSTAMP:20260420T131659
CREATED:20241216T063039Z
LAST-MODIFIED:20250131T035554Z
UID:12770-1762250400-1762257600@belconnen.lutheran.org.au
SUMMARY:Playgroup
DESCRIPTION:Playgroup meets each Tuesday and Friday from 10.00 am to 12.00pm
URL:https://belconnen.lutheran.org.au/event/playgroup/2025-11-04/
LOCATION:Holy Cross Lutheran Church\, 9 Emu Bank\, Belconnen\, ACT\, 2616\, Australia
CATEGORIES:Children
ATTACH;FMTTYPE=image/jpeg:https://belconnen.lutheran.org.au/wp-content/uploads/sites/194/2022/11/play-e1674968560858.jpg
GEO:-35.2396675;149.07367
X-APPLE-STRUCTURED-LOCATION;VALUE=URI;X-ADDRESS=Holy Cross Lutheran Church 9 Emu Bank Belconnen ACT 2616 Australia;X-APPLE-RADIUS=500;X-TITLE=9 Emu Bank:geo:149.07367,-35.2396675
END:VEVENT
BEGIN:VEVENT
DTSTART;TZID=Australia/Sydney:20251103T113000
DTEND;TZID=Australia/Sydney:20251103T130000
DTSTAMP:20260420T131659
CREATED:20250916T043532Z
LAST-MODIFIED:20250916T043532Z
UID:14541-1762169400-1762174800@belconnen.lutheran.org.au
SUMMARY:“Vicarious Trauma” workshop for AVA
DESCRIPTION:
URL:https://belconnen.lutheran.org.au/event/vicarious-trauma-workshop-for-ava/
LOCATION:Meeting Room at Holy Cross
ORGANIZER;CN="Pastor Darren Jaensch":MAILTO:darren.jaensch@lca.org.au
END:VEVENT
BEGIN:VEVENT
DTSTART;TZID=Australia/Sydney:20251103T100000
DTEND;TZID=Australia/Sydney:20251103T140000
DTSTAMP:20260420T131659
CREATED:20241216T064524Z
LAST-MODIFIED:20241216T064524Z
UID:12860-1762164000-1762178400@belconnen.lutheran.org.au
SUMMARY:NDIS Support Group
DESCRIPTION:A support group for disabled individuals conducted by Disability Aging and Community Care Services. \n\n\nIf you need help or information simply contact DAACCS \n\n\n\nADDRESS:  G04 120 Eastern Valley Way\, Belconnen\, ACT 2617\nPHONE:  (02) 8004 8412\nEMAIL: admin@daaccs.com.au
URL:https://belconnen.lutheran.org.au/event/ndis-support-group-3/2025-11-03/
LOCATION:Holy Cross Lutheran Church\, 9 Emu Bank\, Belconnen\, ACT\, 2616\, Australia
CATEGORIES:External Hire
GEO:-35.2396675;149.07367
X-APPLE-STRUCTURED-LOCATION;VALUE=URI;X-ADDRESS=Holy Cross Lutheran Church 9 Emu Bank Belconnen ACT 2616 Australia;X-APPLE-RADIUS=500;X-TITLE=9 Emu Bank:geo:149.07367,-35.2396675
END:VEVENT
BEGIN:VEVENT
DTSTART;TZID=Australia/Sydney:20251102T130000
DTEND;TZID=Australia/Sydney:20251102T153000
DTSTAMP:20260420T131659
CREATED:20251224T051904Z
LAST-MODIFIED:20251224T052004Z
UID:13029-1762088400-1762097400@belconnen.lutheran.org.au
SUMMARY:Free Wesleyan Church of Tonga
DESCRIPTION:The Free Wesleyan Church of Tonga worships at Holy Cross each Sunday at 1.00 pm \nFurther information contact 0499868628
URL:https://belconnen.lutheran.org.au/event/free-wesleyan-church-of-tonga-2/2025-11-02/
LOCATION:Holy Cross Lutheran Church\, 9 Emu Bank\, Belconnen\, ACT\, 2616\, Australia
CATEGORIES:External Hire
GEO:-35.2396675;149.07367
X-APPLE-STRUCTURED-LOCATION;VALUE=URI;X-ADDRESS=Holy Cross Lutheran Church 9 Emu Bank Belconnen ACT 2616 Australia;X-APPLE-RADIUS=500;X-TITLE=9 Emu Bank:geo:149.07367,-35.2396675
END:VEVENT
BEGIN:VEVENT
DTSTART;TZID=Australia/Sydney:20251102T100000
DTEND;TZID=Australia/Sydney:20251102T113000
DTSTAMP:20260420T131659
CREATED:20251031T025204Z
LAST-MODIFIED:20251103T102857Z
UID:14176-1762077600-1762083000@belconnen.lutheran.org.au
SUMMARY:Worship with Holy Communion
DESCRIPTION:Please join us for  Worship every Sunday at 10.00 am \nWorship with Holy Communion is  held every Sunday morning at 10.00 am \nGuidelines in relation to Covid safe behaviours are followed. \n \nOur Bulletin for this week may be read here
URL:https://belconnen.lutheran.org.au/event/worship-with-holy-communion-2-2025-06-15-2025-11-02/
LOCATION:Holy Cross Lutheran Church\, 9 Emu Bank\, Belconnen\, ACT\, 2616\, Australia
ORGANIZER;CN="Pastor Darren Jaensch":MAILTO:darren.jaensch@lca.org.au
GEO:-35.2396675;149.07367
X-APPLE-STRUCTURED-LOCATION;VALUE=URI;X-ADDRESS=Holy Cross Lutheran Church 9 Emu Bank Belconnen ACT 2616 Australia;X-APPLE-RADIUS=500;X-TITLE=9 Emu Bank:geo:149.07367,-35.2396675
END:VEVENT
BEGIN:VEVENT
DTSTART;TZID=Australia/Sydney:20251101T143000
DTEND;TZID=Australia/Sydney:20251101T170000
DTSTAMP:20260420T131659
CREATED:20250113T060425Z
LAST-MODIFIED:20250113T060425Z
UID:13981-1762007400-1762016400@belconnen.lutheran.org.au
SUMMARY:Church Setup
DESCRIPTION:time reserved for setup of church for Sunday Service
URL:https://belconnen.lutheran.org.au/event/church-setup/2025-11-01/
LOCATION:Holy Cross Lutheran Church\, 9 Emu Bank\, Belconnen\, ACT\, 2616\, Australia
GEO:-35.2396675;149.07367
X-APPLE-STRUCTURED-LOCATION;VALUE=URI;X-ADDRESS=Holy Cross Lutheran Church 9 Emu Bank Belconnen ACT 2616 Australia;X-APPLE-RADIUS=500;X-TITLE=9 Emu Bank:geo:149.07367,-35.2396675
END:VEVENT
BEGIN:VEVENT
DTSTART;TZID=Australia/Sydney:20251101T133000
DTEND;TZID=Australia/Sydney:20251101T153000
DTSTAMP:20260420T131659
CREATED:20250312T081627Z
LAST-MODIFIED:20250312T081627Z
UID:13747-1762003800-1762011000@belconnen.lutheran.org.au
SUMMARY:AA Group Meeting
DESCRIPTION:
URL:https://belconnen.lutheran.org.au/event/aa-group-meeting/2025-11-01/
LOCATION:Meeting Room at Holy Cross
END:VEVENT
BEGIN:VEVENT
DTSTART;TZID=Australia/Sydney:20251101T093000
DTEND;TZID=Australia/Sydney:20251101T143000
DTSTAMP:20260420T131659
CREATED:20251224T052219Z
LAST-MODIFIED:20251224T052231Z
UID:13103-1761989400-1762007400@belconnen.lutheran.org.au
SUMMARY:The Seeking Salvation Samoan Seventh-Day Church
DESCRIPTION:The Seeking Salvation Samoan Seventh-Day Church holds its weekly service at Holy Cross
URL:https://belconnen.lutheran.org.au/event/samoan-independent-seventh-day-adventist-church/2025-11-01/
LOCATION:Holy Cross Lutheran Church\, 9 Emu Bank\, Belconnen\, ACT\, 2616\, Australia
CATEGORIES:External Hire
GEO:-35.2396675;149.07367
X-APPLE-STRUCTURED-LOCATION;VALUE=URI;X-ADDRESS=Holy Cross Lutheran Church 9 Emu Bank Belconnen ACT 2616 Australia;X-APPLE-RADIUS=500;X-TITLE=9 Emu Bank:geo:149.07367,-35.2396675
END:VEVENT
BEGIN:VEVENT
DTSTART;TZID=Australia/Sydney:20251101T090000
DTEND;TZID=Australia/Sydney:20251101T160000
DTSTAMP:20260420T131659
CREATED:20250509T063548Z
LAST-MODIFIED:20251006T075422Z
UID:14061-1761987600-1762012800@belconnen.lutheran.org.au
SUMMARY:Wedding
DESCRIPTION:
URL:https://belconnen.lutheran.org.au/event/wedding/
LOCATION:Holy Cross Lutheran Church\, 9 Emu Bank\, Belconnen\, ACT\, 2616\, Australia
ORGANIZER;CN="Pastor Darren Jaensch":MAILTO:darren.jaensch@lca.org.au
GEO:-35.2396675;149.07367
X-APPLE-STRUCTURED-LOCATION;VALUE=URI;X-ADDRESS=Holy Cross Lutheran Church 9 Emu Bank Belconnen ACT 2616 Australia;X-APPLE-RADIUS=500;X-TITLE=9 Emu Bank:geo:149.07367,-35.2396675
END:VEVENT
BEGIN:VEVENT
DTSTART;TZID=Australia/Sydney:20251031T190000
DTEND;TZID=Australia/Sydney:20251031T220000
DTSTAMP:20260420T131659
CREATED:20250113T060202Z
LAST-MODIFIED:20250206T011201Z
UID:13369-1761937200-1761948000@belconnen.lutheran.org.au
SUMMARY:Free Wesleyan Church of Tonga Youth Group
DESCRIPTION:The Free Wesleyan Church of Tonga Youth Group meets weekly at Holy Cross
URL:https://belconnen.lutheran.org.au/event/free-wesleyan-church-of-tonga-youth-group-2-2025-02-14/2025-10-31/
LOCATION:Holy Cross Lutheran Church\, 9 Emu Bank\, Belconnen\, ACT\, 2616\, Australia
ORGANIZER;CN="Robert Steve Vave":MAILTO:Robertandrenata@hotmail.com
GEO:-35.2396675;149.07367
X-APPLE-STRUCTURED-LOCATION;VALUE=URI;X-ADDRESS=Holy Cross Lutheran Church 9 Emu Bank Belconnen ACT 2616 Australia;X-APPLE-RADIUS=500;X-TITLE=9 Emu Bank:geo:149.07367,-35.2396675
END:VEVENT
BEGIN:VEVENT
DTSTART;TZID=Australia/Sydney:20251031T100000
DTEND;TZID=Australia/Sydney:20251031T120000
DTSTAMP:20260420T131659
CREATED:20241216T063507Z
LAST-MODIFIED:20250131T035656Z
UID:12813-1761904800-1761912000@belconnen.lutheran.org.au
SUMMARY:Playgroup
DESCRIPTION:Playgroup meets each Tuesday and Friday from 10.00 am to 12.00pm
URL:https://belconnen.lutheran.org.au/event/playgroup-4/2025-10-31/
LOCATION:Holy Cross Lutheran Church\, 9 Emu Bank\, Belconnen\, ACT\, 2616\, Australia
CATEGORIES:Children
ATTACH;FMTTYPE=image/jpeg:https://belconnen.lutheran.org.au/wp-content/uploads/sites/194/2022/11/play-e1674968560858.jpg
GEO:-35.2396675;149.07367
X-APPLE-STRUCTURED-LOCATION;VALUE=URI;X-ADDRESS=Holy Cross Lutheran Church 9 Emu Bank Belconnen ACT 2616 Australia;X-APPLE-RADIUS=500;X-TITLE=9 Emu Bank:geo:149.07367,-35.2396675
END:VEVENT
BEGIN:VEVENT
DTSTART;TZID=Australia/Sydney:20251030T130000
DTEND;TZID=Australia/Sydney:20251030T150000
DTSTAMP:20260420T131659
CREATED:20250717T043059Z
LAST-MODIFIED:20250717T043059Z
UID:14344-1761829200-1761836400@belconnen.lutheran.org.au
SUMMARY:Life Drawing Workshop
DESCRIPTION:THE LIFE DRAWING WORKSHOP\n– Creating Better Drawings through Clarity of Thought\, Mind and Focus \nThe Life Drawing Workshop has its own new YouTube Channel.\nPlease share it to help improve the Workshop’s numbers…\nhttps://youtu.be/PP6S_Nt39fw \nAlso\, please share this Life Drawing Workshop link…\nLife Drawing Workshop Info www.pazolli.com/lifedrawing \nLIFE DRAWING WORKSHOP\, – every THURSDAY –  1pm – 3pm. \nCREATE YOUR OWN DRAWING WORLD ….. BY DOING IT YOUR WAY…\n~ only you know how to find your creative pathway to better drawing. \nAthina Pazolli\nArtist; Painting; Drawing\nm: 0414 271311\ne: athina@pazolli.com\nart: www.pazolli.com\nDraw: www.pazolli.com/lifedrawing\nfb art: www.facebook.com/athina.pazolli\nfb draw: facebook.com/groups/2246575525649553/
URL:https://belconnen.lutheran.org.au/event/life-drawing-workshop-3/2025-10-30/
LOCATION:Holy Cross Lutheran Church\, 9 Emu Bank\, Belconnen\, ACT\, 2616\, Australia
GEO:-35.2396675;149.07367
X-APPLE-STRUCTURED-LOCATION;VALUE=URI;X-ADDRESS=Holy Cross Lutheran Church 9 Emu Bank Belconnen ACT 2616 Australia;X-APPLE-RADIUS=500;X-TITLE=9 Emu Bank:geo:149.07367,-35.2396675
END:VEVENT
BEGIN:VEVENT
DTSTART;TZID=Australia/Sydney:20251029T180000
DTEND;TZID=Australia/Sydney:20251029T200000
DTSTAMP:20260420T131659
CREATED:20250801T040742Z
LAST-MODIFIED:20250801T040742Z
UID:14432-1761760800-1761768000@belconnen.lutheran.org.au
SUMMARY:Samoan SDA Youth Bible Study
DESCRIPTION:Samoan youth meet for Bible study at 6.00pm
URL:https://belconnen.lutheran.org.au/event/samoan-sda-youth-bible-study-2/2025-10-29/
LOCATION:Holy Cross Lutheran Church\, 9 Emu Bank\, Belconnen\, ACT\, 2616\, Australia
GEO:-35.2396675;149.07367
X-APPLE-STRUCTURED-LOCATION;VALUE=URI;X-ADDRESS=Holy Cross Lutheran Church 9 Emu Bank Belconnen ACT 2616 Australia;X-APPLE-RADIUS=500;X-TITLE=9 Emu Bank:geo:149.07367,-35.2396675
END:VEVENT
BEGIN:VEVENT
DTSTART;TZID=Australia/Sydney:20251029T180000
DTEND;TZID=Australia/Sydney:20251029T200000
DTSTAMP:20260420T131659
CREATED:20240515T084026Z
LAST-MODIFIED:20250801T040231Z
UID:13847-1761760800-1761768000@belconnen.lutheran.org.au
SUMMARY:Samoan SDA Youth Bible Study
DESCRIPTION:Samoan youth meet for Bible study at 6.00pm
URL:https://belconnen.lutheran.org.au/event/samoan-sda-youth-bible-study-2024-10-23/2025-10-29/
LOCATION:Holy Cross Lutheran Church\, 9 Emu Bank\, Belconnen\, ACT\, 2616\, Australia
GEO:-35.2396675;149.07367
X-APPLE-STRUCTURED-LOCATION;VALUE=URI;X-ADDRESS=Holy Cross Lutheran Church 9 Emu Bank Belconnen ACT 2616 Australia;X-APPLE-RADIUS=500;X-TITLE=9 Emu Bank:geo:149.07367,-35.2396675
END:VEVENT
BEGIN:VEVENT
DTSTART;TZID=Australia/Sydney:20251029T100000
DTEND;TZID=Australia/Sydney:20251029T140000
DTSTAMP:20260420T131659
CREATED:20241216T064722Z
LAST-MODIFIED:20241216T064722Z
UID:12910-1761732000-1761746400@belconnen.lutheran.org.au
SUMMARY:NDIS Support Group
DESCRIPTION:A support group for disabled individuals conducted by Disability Aging and Community Care Services. \n\n\nIf you need help or information simply contact DAACCS \n\n\n\nADDRESS:  G04 120 Eastern Valley Way\, Belconnen\, ACT 2617\nPHONE:  (02) 8004 8412\nEMAIL: admin@daaccs.com.au
URL:https://belconnen.lutheran.org.au/event/ndis-support-group-4/2025-10-29/
LOCATION:Holy Cross Lutheran Church\, 9 Emu Bank\, Belconnen\, ACT\, 2616\, Australia
CATEGORIES:External Hire
GEO:-35.2396675;149.07367
X-APPLE-STRUCTURED-LOCATION;VALUE=URI;X-ADDRESS=Holy Cross Lutheran Church 9 Emu Bank Belconnen ACT 2616 Australia;X-APPLE-RADIUS=500;X-TITLE=9 Emu Bank:geo:149.07367,-35.2396675
END:VEVENT
BEGIN:VEVENT
DTSTART;TZID=Australia/Sydney:20251028T100000
DTEND;TZID=Australia/Sydney:20251028T120000
DTSTAMP:20260420T131659
CREATED:20241216T063039Z
LAST-MODIFIED:20250131T035554Z
UID:12769-1761645600-1761652800@belconnen.lutheran.org.au
SUMMARY:Playgroup
DESCRIPTION:Playgroup meets each Tuesday and Friday from 10.00 am to 12.00pm
URL:https://belconnen.lutheran.org.au/event/playgroup/2025-10-28/
LOCATION:Holy Cross Lutheran Church\, 9 Emu Bank\, Belconnen\, ACT\, 2616\, Australia
CATEGORIES:Children
ATTACH;FMTTYPE=image/jpeg:https://belconnen.lutheran.org.au/wp-content/uploads/sites/194/2022/11/play-e1674968560858.jpg
GEO:-35.2396675;149.07367
X-APPLE-STRUCTURED-LOCATION;VALUE=URI;X-ADDRESS=Holy Cross Lutheran Church 9 Emu Bank Belconnen ACT 2616 Australia;X-APPLE-RADIUS=500;X-TITLE=9 Emu Bank:geo:149.07367,-35.2396675
END:VEVENT
BEGIN:VEVENT
DTSTART;TZID=Australia/Sydney:20251027T100000
DTEND;TZID=Australia/Sydney:20251027T140000
DTSTAMP:20260420T131659
CREATED:20241216T064524Z
LAST-MODIFIED:20241216T064524Z
UID:12859-1761559200-1761573600@belconnen.lutheran.org.au
SUMMARY:NDIS Support Group
DESCRIPTION:A support group for disabled individuals conducted by Disability Aging and Community Care Services. \n\n\nIf you need help or information simply contact DAACCS \n\n\n\nADDRESS:  G04 120 Eastern Valley Way\, Belconnen\, ACT 2617\nPHONE:  (02) 8004 8412\nEMAIL: admin@daaccs.com.au
URL:https://belconnen.lutheran.org.au/event/ndis-support-group-3/2025-10-27/
LOCATION:Holy Cross Lutheran Church\, 9 Emu Bank\, Belconnen\, ACT\, 2616\, Australia
CATEGORIES:External Hire
GEO:-35.2396675;149.07367
X-APPLE-STRUCTURED-LOCATION;VALUE=URI;X-ADDRESS=Holy Cross Lutheran Church 9 Emu Bank Belconnen ACT 2616 Australia;X-APPLE-RADIUS=500;X-TITLE=9 Emu Bank:geo:149.07367,-35.2396675
END:VEVENT
BEGIN:VEVENT
DTSTART;TZID=Australia/Sydney:20251026T130000
DTEND;TZID=Australia/Sydney:20251026T153000
DTSTAMP:20260420T131659
CREATED:20251224T051904Z
LAST-MODIFIED:20251224T052004Z
UID:13028-1761483600-1761492600@belconnen.lutheran.org.au
SUMMARY:Free Wesleyan Church of Tonga
DESCRIPTION:The Free Wesleyan Church of Tonga worships at Holy Cross each Sunday at 1.00 pm \nFurther information contact 0499868628
URL:https://belconnen.lutheran.org.au/event/free-wesleyan-church-of-tonga-2/2025-10-26/
LOCATION:Holy Cross Lutheran Church\, 9 Emu Bank\, Belconnen\, ACT\, 2616\, Australia
CATEGORIES:External Hire
GEO:-35.2396675;149.07367
X-APPLE-STRUCTURED-LOCATION;VALUE=URI;X-ADDRESS=Holy Cross Lutheran Church 9 Emu Bank Belconnen ACT 2616 Australia;X-APPLE-RADIUS=500;X-TITLE=9 Emu Bank:geo:149.07367,-35.2396675
END:VEVENT
BEGIN:VEVENT
DTSTART;TZID=Australia/Sydney:20251026T100000
DTEND;TZID=Australia/Sydney:20251026T113000
DTSTAMP:20260420T131659
CREATED:20251024T030104Z
LAST-MODIFIED:20251027T084129Z
UID:14175-1761472800-1761478200@belconnen.lutheran.org.au
SUMMARY:Worship with Holy Communion
DESCRIPTION:Please join us for  Worship every Sunday at 10.00 am \nWorship with Holy Communion is  held every Sunday morning at 10.00 am \nGuidelines in relation to Covid safe behaviours are followed. \n \nOur Bulletin for this week may be read here \n 
URL:https://belconnen.lutheran.org.au/event/worship-with-holy-communion-2-2025-06-15-2025-10-26/
LOCATION:Holy Cross Lutheran Church\, 9 Emu Bank\, Belconnen\, ACT\, 2616\, Australia
ORGANIZER;CN="Pastor Darren Jaensch":MAILTO:darren.jaensch@lca.org.au
GEO:-35.2396675;149.07367
X-APPLE-STRUCTURED-LOCATION;VALUE=URI;X-ADDRESS=Holy Cross Lutheran Church 9 Emu Bank Belconnen ACT 2616 Australia;X-APPLE-RADIUS=500;X-TITLE=9 Emu Bank:geo:149.07367,-35.2396675
END:VEVENT
BEGIN:VEVENT
DTSTART;TZID=Australia/Sydney:20251025T143000
DTEND;TZID=Australia/Sydney:20251025T170000
DTSTAMP:20260420T131659
CREATED:20250113T060425Z
LAST-MODIFIED:20250113T060425Z
UID:13980-1761402600-1761411600@belconnen.lutheran.org.au
SUMMARY:Church Setup
DESCRIPTION:time reserved for setup of church for Sunday Service
URL:https://belconnen.lutheran.org.au/event/church-setup/2025-10-25/
LOCATION:Holy Cross Lutheran Church\, 9 Emu Bank\, Belconnen\, ACT\, 2616\, Australia
GEO:-35.2396675;149.07367
X-APPLE-STRUCTURED-LOCATION;VALUE=URI;X-ADDRESS=Holy Cross Lutheran Church 9 Emu Bank Belconnen ACT 2616 Australia;X-APPLE-RADIUS=500;X-TITLE=9 Emu Bank:geo:149.07367,-35.2396675
END:VEVENT
BEGIN:VEVENT
DTSTART;TZID=Australia/Sydney:20251025T133000
DTEND;TZID=Australia/Sydney:20251025T153000
DTSTAMP:20260420T131659
CREATED:20250312T081627Z
LAST-MODIFIED:20250312T081627Z
UID:13746-1761399000-1761406200@belconnen.lutheran.org.au
SUMMARY:AA Group Meeting
DESCRIPTION:
URL:https://belconnen.lutheran.org.au/event/aa-group-meeting/2025-10-25/
LOCATION:Meeting Room at Holy Cross
END:VEVENT
BEGIN:VEVENT
DTSTART;TZID=Australia/Sydney:20251025T093000
DTEND;TZID=Australia/Sydney:20251025T143000
DTSTAMP:20260420T131659
CREATED:20251224T052219Z
LAST-MODIFIED:20251224T052231Z
UID:13102-1761384600-1761402600@belconnen.lutheran.org.au
SUMMARY:The Seeking Salvation Samoan Seventh-Day Church
DESCRIPTION:The Seeking Salvation Samoan Seventh-Day Church holds its weekly service at Holy Cross
URL:https://belconnen.lutheran.org.au/event/samoan-independent-seventh-day-adventist-church/2025-10-25/
LOCATION:Holy Cross Lutheran Church\, 9 Emu Bank\, Belconnen\, ACT\, 2616\, Australia
CATEGORIES:External Hire
GEO:-35.2396675;149.07367
X-APPLE-STRUCTURED-LOCATION;VALUE=URI;X-ADDRESS=Holy Cross Lutheran Church 9 Emu Bank Belconnen ACT 2616 Australia;X-APPLE-RADIUS=500;X-TITLE=9 Emu Bank:geo:149.07367,-35.2396675
END:VEVENT
END:VCALENDAR