BEGIN:VCALENDAR
VERSION:2.0
PRODID:-//Belconnen Holy Cross Congregation, ACT - ECPv6.8.1//NONSGML v1.0//EN
CALSCALE:GREGORIAN
METHOD:PUBLISH
X-WR-CALNAME:Belconnen Holy Cross Congregation, ACT
X-ORIGINAL-URL:https://belconnen.lutheran.org.au
X-WR-CALDESC:Events for Belconnen Holy Cross Congregation, ACT
REFRESH-INTERVAL;VALUE=DURATION:PT1H
X-Robots-Tag:noindex
X-PUBLISHED-TTL:PT1H
BEGIN:VTIMEZONE
TZID:Australia/Sydney
BEGIN:STANDARD
TZOFFSETFROM:+1100
TZOFFSETTO:+1000
TZNAME:AEST
DTSTART:20250405T160000
END:STANDARD
BEGIN:DAYLIGHT
TZOFFSETFROM:+1000
TZOFFSETTO:+1100
TZNAME:AEDT
DTSTART:20251004T160000
END:DAYLIGHT
END:VTIMEZONE
BEGIN:VEVENT
DTSTART;TZID=Australia/Sydney:20251011T133000
DTEND;TZID=Australia/Sydney:20251011T153000
DTSTAMP:20260421T000257
CREATED:20250312T081627Z
LAST-MODIFIED:20250312T081627Z
UID:13744-1760189400-1760196600@belconnen.lutheran.org.au
SUMMARY:AA Group Meeting
DESCRIPTION:
URL:https://belconnen.lutheran.org.au/event/aa-group-meeting/2025-10-11/
LOCATION:Meeting Room at Holy Cross
END:VEVENT
BEGIN:VEVENT
DTSTART;TZID=Australia/Sydney:20251011T093000
DTEND;TZID=Australia/Sydney:20251011T143000
DTSTAMP:20260421T000257
CREATED:20251224T052219Z
LAST-MODIFIED:20251224T052231Z
UID:13100-1760175000-1760193000@belconnen.lutheran.org.au
SUMMARY:The Seeking Salvation Samoan Seventh-Day Church
DESCRIPTION:The Seeking Salvation Samoan Seventh-Day Church holds its weekly service at Holy Cross
URL:https://belconnen.lutheran.org.au/event/samoan-independent-seventh-day-adventist-church/2025-10-11/
LOCATION:Holy Cross Lutheran Church\, 9 Emu Bank\, Belconnen\, ACT\, 2616\, Australia
CATEGORIES:External Hire
GEO:-35.2396675;149.07367
X-APPLE-STRUCTURED-LOCATION;VALUE=URI;X-ADDRESS=Holy Cross Lutheran Church 9 Emu Bank Belconnen ACT 2616 Australia;X-APPLE-RADIUS=500;X-TITLE=9 Emu Bank:geo:149.07367,-35.2396675
END:VEVENT
BEGIN:VEVENT
DTSTART;TZID=Australia/Sydney:20251010T190000
DTEND;TZID=Australia/Sydney:20251010T220000
DTSTAMP:20260421T000257
CREATED:20250113T060202Z
LAST-MODIFIED:20250206T011200Z
UID:13366-1760122800-1760133600@belconnen.lutheran.org.au
SUMMARY:Free Wesleyan Church of Tonga Youth Group
DESCRIPTION:The Free Wesleyan Church of Tonga Youth Group meets weekly at Holy Cross
URL:https://belconnen.lutheran.org.au/event/free-wesleyan-church-of-tonga-youth-group-2-2025-02-14/2025-10-10/
LOCATION:Holy Cross Lutheran Church\, 9 Emu Bank\, Belconnen\, ACT\, 2616\, Australia
ORGANIZER;CN="Robert Steve Vave":MAILTO:Robertandrenata@hotmail.com
GEO:-35.2396675;149.07367
X-APPLE-STRUCTURED-LOCATION;VALUE=URI;X-ADDRESS=Holy Cross Lutheran Church 9 Emu Bank Belconnen ACT 2616 Australia;X-APPLE-RADIUS=500;X-TITLE=9 Emu Bank:geo:149.07367,-35.2396675
END:VEVENT
BEGIN:VEVENT
DTSTART;TZID=Australia/Sydney:20251010T100000
DTEND;TZID=Australia/Sydney:20251010T120000
DTSTAMP:20260421T000257
CREATED:20241216T063507Z
LAST-MODIFIED:20250131T035656Z
UID:12810-1760090400-1760097600@belconnen.lutheran.org.au
SUMMARY:Playgroup
DESCRIPTION:Playgroup meets each Tuesday and Friday from 10.00 am to 12.00pm
URL:https://belconnen.lutheran.org.au/event/playgroup-4/2025-10-10/
LOCATION:Holy Cross Lutheran Church\, 9 Emu Bank\, Belconnen\, ACT\, 2616\, Australia
CATEGORIES:Children
ATTACH;FMTTYPE=image/jpeg:https://belconnen.lutheran.org.au/wp-content/uploads/sites/194/2022/11/play-e1674968560858.jpg
GEO:-35.2396675;149.07367
X-APPLE-STRUCTURED-LOCATION;VALUE=URI;X-ADDRESS=Holy Cross Lutheran Church 9 Emu Bank Belconnen ACT 2616 Australia;X-APPLE-RADIUS=500;X-TITLE=9 Emu Bank:geo:149.07367,-35.2396675
END:VEVENT
BEGIN:VEVENT
DTSTART;TZID=Australia/Sydney:20251009T130000
DTEND;TZID=Australia/Sydney:20251009T150000
DTSTAMP:20260421T000257
CREATED:20250717T043059Z
LAST-MODIFIED:20250717T043059Z
UID:14341-1760014800-1760022000@belconnen.lutheran.org.au
SUMMARY:Life Drawing Workshop
DESCRIPTION:THE LIFE DRAWING WORKSHOP\n– Creating Better Drawings through Clarity of Thought\, Mind and Focus \nThe Life Drawing Workshop has its own new YouTube Channel.\nPlease share it to help improve the Workshop’s numbers…\nhttps://youtu.be/PP6S_Nt39fw \nAlso\, please share this Life Drawing Workshop link…\nLife Drawing Workshop Info www.pazolli.com/lifedrawing \nLIFE DRAWING WORKSHOP\, – every THURSDAY –  1pm – 3pm. \nCREATE YOUR OWN DRAWING WORLD ….. BY DOING IT YOUR WAY…\n~ only you know how to find your creative pathway to better drawing. \nAthina Pazolli\nArtist; Painting; Drawing\nm: 0414 271311\ne: athina@pazolli.com\nart: www.pazolli.com\nDraw: www.pazolli.com/lifedrawing\nfb art: www.facebook.com/athina.pazolli\nfb draw: facebook.com/groups/2246575525649553/
URL:https://belconnen.lutheran.org.au/event/life-drawing-workshop-3/2025-10-09/
LOCATION:Holy Cross Lutheran Church\, 9 Emu Bank\, Belconnen\, ACT\, 2616\, Australia
GEO:-35.2396675;149.07367
X-APPLE-STRUCTURED-LOCATION;VALUE=URI;X-ADDRESS=Holy Cross Lutheran Church 9 Emu Bank Belconnen ACT 2616 Australia;X-APPLE-RADIUS=500;X-TITLE=9 Emu Bank:geo:149.07367,-35.2396675
END:VEVENT
BEGIN:VEVENT
DTSTART;TZID=Australia/Sydney:20251008T180000
DTEND;TZID=Australia/Sydney:20251008T200000
DTSTAMP:20260421T000257
CREATED:20250801T040742Z
LAST-MODIFIED:20250801T040742Z
UID:14429-1759946400-1759953600@belconnen.lutheran.org.au
SUMMARY:Samoan SDA Youth Bible Study
DESCRIPTION:Samoan youth meet for Bible study at 6.00pm
URL:https://belconnen.lutheran.org.au/event/samoan-sda-youth-bible-study-2/2025-10-08/
LOCATION:Holy Cross Lutheran Church\, 9 Emu Bank\, Belconnen\, ACT\, 2616\, Australia
GEO:-35.2396675;149.07367
X-APPLE-STRUCTURED-LOCATION;VALUE=URI;X-ADDRESS=Holy Cross Lutheran Church 9 Emu Bank Belconnen ACT 2616 Australia;X-APPLE-RADIUS=500;X-TITLE=9 Emu Bank:geo:149.07367,-35.2396675
END:VEVENT
BEGIN:VEVENT
DTSTART;TZID=Australia/Sydney:20251008T180000
DTEND;TZID=Australia/Sydney:20251008T200000
DTSTAMP:20260421T000257
CREATED:20240515T084026Z
LAST-MODIFIED:20250801T040225Z
UID:13843-1759946400-1759953600@belconnen.lutheran.org.au
SUMMARY:Samoan SDA Youth Bible Study
DESCRIPTION:Samoan youth meet for Bible study at 6.00pm
URL:https://belconnen.lutheran.org.au/event/samoan-sda-youth-bible-study-2024-10-23/2025-10-08/
LOCATION:Holy Cross Lutheran Church\, 9 Emu Bank\, Belconnen\, ACT\, 2616\, Australia
GEO:-35.2396675;149.07367
X-APPLE-STRUCTURED-LOCATION;VALUE=URI;X-ADDRESS=Holy Cross Lutheran Church 9 Emu Bank Belconnen ACT 2616 Australia;X-APPLE-RADIUS=500;X-TITLE=9 Emu Bank:geo:149.07367,-35.2396675
END:VEVENT
BEGIN:VEVENT
DTSTART;TZID=Australia/Sydney:20251008T100000
DTEND;TZID=Australia/Sydney:20251008T140000
DTSTAMP:20260421T000257
CREATED:20241216T064722Z
LAST-MODIFIED:20241216T064722Z
UID:12907-1759917600-1759932000@belconnen.lutheran.org.au
SUMMARY:NDIS Support Group
DESCRIPTION:A support group for disabled individuals conducted by Disability Aging and Community Care Services. \n\n\nIf you need help or information simply contact DAACCS \n\n\n\nADDRESS:  G04 120 Eastern Valley Way\, Belconnen\, ACT 2617\nPHONE:  (02) 8004 8412\nEMAIL: admin@daaccs.com.au
URL:https://belconnen.lutheran.org.au/event/ndis-support-group-4/2025-10-08/
LOCATION:Holy Cross Lutheran Church\, 9 Emu Bank\, Belconnen\, ACT\, 2616\, Australia
CATEGORIES:External Hire
GEO:-35.2396675;149.07367
X-APPLE-STRUCTURED-LOCATION;VALUE=URI;X-ADDRESS=Holy Cross Lutheran Church 9 Emu Bank Belconnen ACT 2616 Australia;X-APPLE-RADIUS=500;X-TITLE=9 Emu Bank:geo:149.07367,-35.2396675
END:VEVENT
BEGIN:VEVENT
DTSTART;TZID=Australia/Sydney:20251007T100000
DTEND;TZID=Australia/Sydney:20251007T120000
DTSTAMP:20260421T000257
CREATED:20251224T055210Z
LAST-MODIFIED:20251226T033931Z
UID:13445-1759831200-1759838400@belconnen.lutheran.org.au
SUMMARY:Ladies Discussion Group
DESCRIPTION:Ladies are invited to join the Tuesday discussion group held in the church \nmeeting room the first Tuesday of each month from 10am to 12 noon. \nContact person – Pam McMahon 0401137097
URL:https://belconnen.lutheran.org.au/event/ladies-discussion-group/2025-10-07/
LOCATION:Meeting Room at Holy Cross
CATEGORIES:Bible Study,Ladies fellowship
END:VEVENT
BEGIN:VEVENT
DTSTART;TZID=Australia/Sydney:20251007T100000
DTEND;TZID=Australia/Sydney:20251007T120000
DTSTAMP:20260421T000257
CREATED:20241216T063039Z
LAST-MODIFIED:20250131T035554Z
UID:12766-1759831200-1759838400@belconnen.lutheran.org.au
SUMMARY:Playgroup
DESCRIPTION:Playgroup meets each Tuesday and Friday from 10.00 am to 12.00pm
URL:https://belconnen.lutheran.org.au/event/playgroup/2025-10-07/
LOCATION:Holy Cross Lutheran Church\, 9 Emu Bank\, Belconnen\, ACT\, 2616\, Australia
CATEGORIES:Children
ATTACH;FMTTYPE=image/jpeg:https://belconnen.lutheran.org.au/wp-content/uploads/sites/194/2022/11/play-e1674968560858.jpg
GEO:-35.2396675;149.07367
X-APPLE-STRUCTURED-LOCATION;VALUE=URI;X-ADDRESS=Holy Cross Lutheran Church 9 Emu Bank Belconnen ACT 2616 Australia;X-APPLE-RADIUS=500;X-TITLE=9 Emu Bank:geo:149.07367,-35.2396675
END:VEVENT
BEGIN:VEVENT
DTSTART;TZID=Australia/Sydney:20251005T130000
DTEND;TZID=Australia/Sydney:20251005T153000
DTSTAMP:20260421T000257
CREATED:20250922T062704Z
LAST-MODIFIED:20250922T062735Z
UID:13025-1759669200-1759678200@belconnen.lutheran.org.au
SUMMARY:Free Wesleyan Church of Tonga
DESCRIPTION:The Free Wesleyan Church of Tonga worships at Holy Cross each Sunday at 1.00 pm \nFurther information contact 0499868628 \nThis event will not occur today
URL:https://belconnen.lutheran.org.au/event/free-wesleyan-church-of-tonga-2-2025-10-05/
LOCATION:Holy Cross Lutheran Church\, 9 Emu Bank\, Belconnen\, ACT\, 2616\, Australia
CATEGORIES:External Hire
GEO:-35.2396675;149.07367
X-APPLE-STRUCTURED-LOCATION;VALUE=URI;X-ADDRESS=Holy Cross Lutheran Church 9 Emu Bank Belconnen ACT 2616 Australia;X-APPLE-RADIUS=500;X-TITLE=9 Emu Bank:geo:149.07367,-35.2396675
END:VEVENT
BEGIN:VEVENT
DTSTART;TZID=Australia/Sydney:20251005T100000
DTEND;TZID=Australia/Sydney:20251005T113000
DTSTAMP:20260421T000257
CREATED:20251003T084004Z
LAST-MODIFIED:20251006T084042Z
UID:14172-1759658400-1759663800@belconnen.lutheran.org.au
SUMMARY:Worship with Holy Communion
DESCRIPTION:Please join us for  Worship every Sunday at 10.00 am \nWorship with Holy Communion is  held every Sunday morning at 10.00 am \nGuidelines in relation to Covid safe behaviours are followed. \n \nOur Bulletin for this week may be read here \n 
URL:https://belconnen.lutheran.org.au/event/worship-with-holy-communion-2-2025-06-15-2025-10-05/
LOCATION:Holy Cross Lutheran Church\, 9 Emu Bank\, Belconnen\, ACT\, 2616\, Australia
ORGANIZER;CN="Pastor Darren Jaensch":MAILTO:darren.jaensch@lca.org.au
GEO:-35.2396675;149.07367
X-APPLE-STRUCTURED-LOCATION;VALUE=URI;X-ADDRESS=Holy Cross Lutheran Church 9 Emu Bank Belconnen ACT 2616 Australia;X-APPLE-RADIUS=500;X-TITLE=9 Emu Bank:geo:149.07367,-35.2396675
END:VEVENT
BEGIN:VEVENT
DTSTART;TZID=Australia/Sydney:20251004T143000
DTEND;TZID=Australia/Sydney:20251004T170000
DTSTAMP:20260421T000257
CREATED:20250113T060425Z
LAST-MODIFIED:20250113T060425Z
UID:13977-1759588200-1759597200@belconnen.lutheran.org.au
SUMMARY:Church Setup
DESCRIPTION:time reserved for setup of church for Sunday Service
URL:https://belconnen.lutheran.org.au/event/church-setup/2025-10-04/
LOCATION:Holy Cross Lutheran Church\, 9 Emu Bank\, Belconnen\, ACT\, 2616\, Australia
GEO:-35.2396675;149.07367
X-APPLE-STRUCTURED-LOCATION;VALUE=URI;X-ADDRESS=Holy Cross Lutheran Church 9 Emu Bank Belconnen ACT 2616 Australia;X-APPLE-RADIUS=500;X-TITLE=9 Emu Bank:geo:149.07367,-35.2396675
END:VEVENT
BEGIN:VEVENT
DTSTART;TZID=Australia/Sydney:20251004T133000
DTEND;TZID=Australia/Sydney:20251004T153000
DTSTAMP:20260421T000257
CREATED:20250312T081627Z
LAST-MODIFIED:20250312T081627Z
UID:13743-1759584600-1759591800@belconnen.lutheran.org.au
SUMMARY:AA Group Meeting
DESCRIPTION:
URL:https://belconnen.lutheran.org.au/event/aa-group-meeting/2025-10-04/
LOCATION:Meeting Room at Holy Cross
END:VEVENT
BEGIN:VEVENT
DTSTART;TZID=Australia/Sydney:20251004T093000
DTEND;TZID=Australia/Sydney:20251004T143000
DTSTAMP:20260421T000257
CREATED:20251224T052219Z
LAST-MODIFIED:20251224T052231Z
UID:13099-1759570200-1759588200@belconnen.lutheran.org.au
SUMMARY:The Seeking Salvation Samoan Seventh-Day Church
DESCRIPTION:The Seeking Salvation Samoan Seventh-Day Church holds its weekly service at Holy Cross
URL:https://belconnen.lutheran.org.au/event/samoan-independent-seventh-day-adventist-church/2025-10-04/
LOCATION:Holy Cross Lutheran Church\, 9 Emu Bank\, Belconnen\, ACT\, 2616\, Australia
CATEGORIES:External Hire
GEO:-35.2396675;149.07367
X-APPLE-STRUCTURED-LOCATION;VALUE=URI;X-ADDRESS=Holy Cross Lutheran Church 9 Emu Bank Belconnen ACT 2616 Australia;X-APPLE-RADIUS=500;X-TITLE=9 Emu Bank:geo:149.07367,-35.2396675
END:VEVENT
BEGIN:VEVENT
DTSTART;TZID=Australia/Sydney:20251003T190000
DTEND;TZID=Australia/Sydney:20251003T220000
DTSTAMP:20260421T000257
CREATED:20250113T060202Z
LAST-MODIFIED:20250206T011200Z
UID:13365-1759518000-1759528800@belconnen.lutheran.org.au
SUMMARY:Free Wesleyan Church of Tonga Youth Group
DESCRIPTION:The Free Wesleyan Church of Tonga Youth Group meets weekly at Holy Cross
URL:https://belconnen.lutheran.org.au/event/free-wesleyan-church-of-tonga-youth-group-2-2025-02-14/2025-10-03/
LOCATION:Holy Cross Lutheran Church\, 9 Emu Bank\, Belconnen\, ACT\, 2616\, Australia
ORGANIZER;CN="Robert Steve Vave":MAILTO:Robertandrenata@hotmail.com
GEO:-35.2396675;149.07367
X-APPLE-STRUCTURED-LOCATION;VALUE=URI;X-ADDRESS=Holy Cross Lutheran Church 9 Emu Bank Belconnen ACT 2616 Australia;X-APPLE-RADIUS=500;X-TITLE=9 Emu Bank:geo:149.07367,-35.2396675
END:VEVENT
BEGIN:VEVENT
DTSTART;TZID=Australia/Sydney:20251003T100000
DTEND;TZID=Australia/Sydney:20251003T120000
DTSTAMP:20260421T000257
CREATED:20241216T063507Z
LAST-MODIFIED:20250131T035655Z
UID:12809-1759485600-1759492800@belconnen.lutheran.org.au
SUMMARY:Playgroup
DESCRIPTION:Playgroup meets each Tuesday and Friday from 10.00 am to 12.00pm
URL:https://belconnen.lutheran.org.au/event/playgroup-4/2025-10-03/
LOCATION:Holy Cross Lutheran Church\, 9 Emu Bank\, Belconnen\, ACT\, 2616\, Australia
CATEGORIES:Children
ATTACH;FMTTYPE=image/jpeg:https://belconnen.lutheran.org.au/wp-content/uploads/sites/194/2022/11/play-e1674968560858.jpg
GEO:-35.2396675;149.07367
X-APPLE-STRUCTURED-LOCATION;VALUE=URI;X-ADDRESS=Holy Cross Lutheran Church 9 Emu Bank Belconnen ACT 2616 Australia;X-APPLE-RADIUS=500;X-TITLE=9 Emu Bank:geo:149.07367,-35.2396675
END:VEVENT
BEGIN:VEVENT
DTSTART;TZID=Australia/Sydney:20251002T130000
DTEND;TZID=Australia/Sydney:20251002T150000
DTSTAMP:20260421T000257
CREATED:20250717T043059Z
LAST-MODIFIED:20250717T043059Z
UID:14340-1759410000-1759417200@belconnen.lutheran.org.au
SUMMARY:Life Drawing Workshop
DESCRIPTION:THE LIFE DRAWING WORKSHOP\n– Creating Better Drawings through Clarity of Thought\, Mind and Focus \nThe Life Drawing Workshop has its own new YouTube Channel.\nPlease share it to help improve the Workshop’s numbers…\nhttps://youtu.be/PP6S_Nt39fw \nAlso\, please share this Life Drawing Workshop link…\nLife Drawing Workshop Info www.pazolli.com/lifedrawing \nLIFE DRAWING WORKSHOP\, – every THURSDAY –  1pm – 3pm. \nCREATE YOUR OWN DRAWING WORLD ….. BY DOING IT YOUR WAY…\n~ only you know how to find your creative pathway to better drawing. \nAthina Pazolli\nArtist; Painting; Drawing\nm: 0414 271311\ne: athina@pazolli.com\nart: www.pazolli.com\nDraw: www.pazolli.com/lifedrawing\nfb art: www.facebook.com/athina.pazolli\nfb draw: facebook.com/groups/2246575525649553/
URL:https://belconnen.lutheran.org.au/event/life-drawing-workshop-3/2025-10-02/
LOCATION:Holy Cross Lutheran Church\, 9 Emu Bank\, Belconnen\, ACT\, 2616\, Australia
GEO:-35.2396675;149.07367
X-APPLE-STRUCTURED-LOCATION;VALUE=URI;X-ADDRESS=Holy Cross Lutheran Church 9 Emu Bank Belconnen ACT 2616 Australia;X-APPLE-RADIUS=500;X-TITLE=9 Emu Bank:geo:149.07367,-35.2396675
END:VEVENT
BEGIN:VEVENT
DTSTART;TZID=Australia/Sydney:20251001T200000
DTEND;TZID=Australia/Sydney:20251001T213000
DTSTAMP:20260421T000257
CREATED:20241216T080817Z
LAST-MODIFIED:20241216T080817Z
UID:13118-1759348800-1759354200@belconnen.lutheran.org.au
SUMMARY:Men's Fellowship Group
DESCRIPTION:Our Men’s Fellowship Group meets on the first Wednesday of each month in the homes of meembers. See weekly Bulletin for the venue for each month.
URL:https://belconnen.lutheran.org.au/event/mens-fellowship-group-3/2025-10-01/
LOCATION:ACT
CATEGORIES:Men's Fellowship
END:VEVENT
BEGIN:VEVENT
DTSTART;TZID=Australia/Sydney:20251001T180000
DTEND;TZID=Australia/Sydney:20251001T200000
DTSTAMP:20260421T000257
CREATED:20250801T040742Z
LAST-MODIFIED:20250801T040742Z
UID:14428-1759341600-1759348800@belconnen.lutheran.org.au
SUMMARY:Samoan SDA Youth Bible Study
DESCRIPTION:Samoan youth meet for Bible study at 6.00pm
URL:https://belconnen.lutheran.org.au/event/samoan-sda-youth-bible-study-2/2025-10-01/
LOCATION:Holy Cross Lutheran Church\, 9 Emu Bank\, Belconnen\, ACT\, 2616\, Australia
GEO:-35.2396675;149.07367
X-APPLE-STRUCTURED-LOCATION;VALUE=URI;X-ADDRESS=Holy Cross Lutheran Church 9 Emu Bank Belconnen ACT 2616 Australia;X-APPLE-RADIUS=500;X-TITLE=9 Emu Bank:geo:149.07367,-35.2396675
END:VEVENT
BEGIN:VEVENT
DTSTART;TZID=Australia/Sydney:20251001T180000
DTEND;TZID=Australia/Sydney:20251001T200000
DTSTAMP:20260421T000257
CREATED:20240515T084026Z
LAST-MODIFIED:20250801T040224Z
UID:13842-1759341600-1759348800@belconnen.lutheran.org.au
SUMMARY:Samoan SDA Youth Bible Study
DESCRIPTION:Samoan youth meet for Bible study at 6.00pm
URL:https://belconnen.lutheran.org.au/event/samoan-sda-youth-bible-study-2024-10-23/2025-10-01/
LOCATION:Holy Cross Lutheran Church\, 9 Emu Bank\, Belconnen\, ACT\, 2616\, Australia
GEO:-35.2396675;149.07367
X-APPLE-STRUCTURED-LOCATION;VALUE=URI;X-ADDRESS=Holy Cross Lutheran Church 9 Emu Bank Belconnen ACT 2616 Australia;X-APPLE-RADIUS=500;X-TITLE=9 Emu Bank:geo:149.07367,-35.2396675
END:VEVENT
BEGIN:VEVENT
DTSTART;TZID=Australia/Sydney:20251001T100000
DTEND;TZID=Australia/Sydney:20251001T140000
DTSTAMP:20260421T000257
CREATED:20241216T064722Z
LAST-MODIFIED:20241216T064722Z
UID:12906-1759312800-1759327200@belconnen.lutheran.org.au
SUMMARY:NDIS Support Group
DESCRIPTION:A support group for disabled individuals conducted by Disability Aging and Community Care Services. \n\n\nIf you need help or information simply contact DAACCS \n\n\n\nADDRESS:  G04 120 Eastern Valley Way\, Belconnen\, ACT 2617\nPHONE:  (02) 8004 8412\nEMAIL: admin@daaccs.com.au
URL:https://belconnen.lutheran.org.au/event/ndis-support-group-4/2025-10-01/
LOCATION:Holy Cross Lutheran Church\, 9 Emu Bank\, Belconnen\, ACT\, 2616\, Australia
CATEGORIES:External Hire
GEO:-35.2396675;149.07367
X-APPLE-STRUCTURED-LOCATION;VALUE=URI;X-ADDRESS=Holy Cross Lutheran Church 9 Emu Bank Belconnen ACT 2616 Australia;X-APPLE-RADIUS=500;X-TITLE=9 Emu Bank:geo:149.07367,-35.2396675
END:VEVENT
BEGIN:VEVENT
DTSTART;TZID=Australia/Sydney:20250930T100000
DTEND;TZID=Australia/Sydney:20250930T120000
DTSTAMP:20260421T000257
CREATED:20241216T063039Z
LAST-MODIFIED:20250131T035554Z
UID:12765-1759226400-1759233600@belconnen.lutheran.org.au
SUMMARY:Playgroup
DESCRIPTION:Playgroup meets each Tuesday and Friday from 10.00 am to 12.00pm
URL:https://belconnen.lutheran.org.au/event/playgroup/2025-09-30/
LOCATION:Holy Cross Lutheran Church\, 9 Emu Bank\, Belconnen\, ACT\, 2616\, Australia
CATEGORIES:Children
ATTACH;FMTTYPE=image/jpeg:https://belconnen.lutheran.org.au/wp-content/uploads/sites/194/2022/11/play-e1674968560858.jpg
GEO:-35.2396675;149.07367
X-APPLE-STRUCTURED-LOCATION;VALUE=URI;X-ADDRESS=Holy Cross Lutheran Church 9 Emu Bank Belconnen ACT 2616 Australia;X-APPLE-RADIUS=500;X-TITLE=9 Emu Bank:geo:149.07367,-35.2396675
END:VEVENT
BEGIN:VEVENT
DTSTART;TZID=Australia/Sydney:20250929T100000
DTEND;TZID=Australia/Sydney:20250929T140000
DTSTAMP:20260421T000257
CREATED:20241216T064524Z
LAST-MODIFIED:20241216T064524Z
UID:12856-1759140000-1759154400@belconnen.lutheran.org.au
SUMMARY:NDIS Support Group
DESCRIPTION:A support group for disabled individuals conducted by Disability Aging and Community Care Services. \n\n\nIf you need help or information simply contact DAACCS \n\n\n\nADDRESS:  G04 120 Eastern Valley Way\, Belconnen\, ACT 2617\nPHONE:  (02) 8004 8412\nEMAIL: admin@daaccs.com.au
URL:https://belconnen.lutheran.org.au/event/ndis-support-group-3/2025-09-29/
LOCATION:Holy Cross Lutheran Church\, 9 Emu Bank\, Belconnen\, ACT\, 2616\, Australia
CATEGORIES:External Hire
GEO:-35.2396675;149.07367
X-APPLE-STRUCTURED-LOCATION;VALUE=URI;X-ADDRESS=Holy Cross Lutheran Church 9 Emu Bank Belconnen ACT 2616 Australia;X-APPLE-RADIUS=500;X-TITLE=9 Emu Bank:geo:149.07367,-35.2396675
END:VEVENT
BEGIN:VEVENT
DTSTART;TZID=Australia/Sydney:20250928T130000
DTEND;TZID=Australia/Sydney:20250928T153000
DTSTAMP:20260421T000257
CREATED:20250922T062604Z
LAST-MODIFIED:20250922T062629Z
UID:13024-1759064400-1759073400@belconnen.lutheran.org.au
SUMMARY:Free Wesleyan Church of Tonga
DESCRIPTION:The Free Wesleyan Church of Tonga worships at Holy Cross each Sunday at 1.00 pm \nFurther information contact 0499868628 \nThis event will not occur today
URL:https://belconnen.lutheran.org.au/event/free-wesleyan-church-of-tonga-2-2025-09-28/
LOCATION:Holy Cross Lutheran Church\, 9 Emu Bank\, Belconnen\, ACT\, 2616\, Australia
CATEGORIES:External Hire
GEO:-35.2396675;149.07367
X-APPLE-STRUCTURED-LOCATION;VALUE=URI;X-ADDRESS=Holy Cross Lutheran Church 9 Emu Bank Belconnen ACT 2616 Australia;X-APPLE-RADIUS=500;X-TITLE=9 Emu Bank:geo:149.07367,-35.2396675
END:VEVENT
BEGIN:VEVENT
DTSTART;TZID=Australia/Sydney:20250928T100000
DTEND;TZID=Australia/Sydney:20250928T113000
DTSTAMP:20260421T000257
CREATED:20250928T055404Z
LAST-MODIFIED:20250929T084913Z
UID:14171-1759053600-1759059000@belconnen.lutheran.org.au
SUMMARY:Worship with Holy Communion
DESCRIPTION:Please join us for  Worship every Sunday at 10.00 am \nWorship with Holy Communion is  held every Sunday morning at 10.00 am \nGuidelines in relation to Covid safe behaviours are followed. \nOur Bulletin for this week may be read here \n \n 
URL:https://belconnen.lutheran.org.au/event/worship-with-holy-communion-2-2025-06-15-2025-09-28/
LOCATION:Holy Cross Lutheran Church\, 9 Emu Bank\, Belconnen\, ACT\, 2616\, Australia
ORGANIZER;CN="Pastor Darren Jaensch":MAILTO:darren.jaensch@lca.org.au
GEO:-35.2396675;149.07367
X-APPLE-STRUCTURED-LOCATION;VALUE=URI;X-ADDRESS=Holy Cross Lutheran Church 9 Emu Bank Belconnen ACT 2616 Australia;X-APPLE-RADIUS=500;X-TITLE=9 Emu Bank:geo:149.07367,-35.2396675
END:VEVENT
BEGIN:VEVENT
DTSTART;TZID=Australia/Sydney:20250927T143000
DTEND;TZID=Australia/Sydney:20250927T170000
DTSTAMP:20260421T000257
CREATED:20250113T060425Z
LAST-MODIFIED:20250113T060425Z
UID:13976-1758983400-1758992400@belconnen.lutheran.org.au
SUMMARY:Church Setup
DESCRIPTION:time reserved for setup of church for Sunday Service
URL:https://belconnen.lutheran.org.au/event/church-setup/2025-09-27/
LOCATION:Holy Cross Lutheran Church\, 9 Emu Bank\, Belconnen\, ACT\, 2616\, Australia
GEO:-35.2396675;149.07367
X-APPLE-STRUCTURED-LOCATION;VALUE=URI;X-ADDRESS=Holy Cross Lutheran Church 9 Emu Bank Belconnen ACT 2616 Australia;X-APPLE-RADIUS=500;X-TITLE=9 Emu Bank:geo:149.07367,-35.2396675
END:VEVENT
BEGIN:VEVENT
DTSTART;TZID=Australia/Sydney:20250927T133000
DTEND;TZID=Australia/Sydney:20250927T153000
DTSTAMP:20260421T000257
CREATED:20250312T081627Z
LAST-MODIFIED:20250312T081627Z
UID:13742-1758979800-1758987000@belconnen.lutheran.org.au
SUMMARY:AA Group Meeting
DESCRIPTION:
URL:https://belconnen.lutheran.org.au/event/aa-group-meeting/2025-09-27/
LOCATION:Meeting Room at Holy Cross
END:VEVENT
BEGIN:VEVENT
DTSTART;TZID=Australia/Sydney:20250927T093000
DTEND;TZID=Australia/Sydney:20250927T143000
DTSTAMP:20260421T000257
CREATED:20251224T052219Z
LAST-MODIFIED:20251224T052230Z
UID:13098-1758965400-1758983400@belconnen.lutheran.org.au
SUMMARY:The Seeking Salvation Samoan Seventh-Day Church
DESCRIPTION:The Seeking Salvation Samoan Seventh-Day Church holds its weekly service at Holy Cross
URL:https://belconnen.lutheran.org.au/event/samoan-independent-seventh-day-adventist-church/2025-09-27/
LOCATION:Holy Cross Lutheran Church\, 9 Emu Bank\, Belconnen\, ACT\, 2616\, Australia
CATEGORIES:External Hire
GEO:-35.2396675;149.07367
X-APPLE-STRUCTURED-LOCATION;VALUE=URI;X-ADDRESS=Holy Cross Lutheran Church 9 Emu Bank Belconnen ACT 2616 Australia;X-APPLE-RADIUS=500;X-TITLE=9 Emu Bank:geo:149.07367,-35.2396675
END:VEVENT
BEGIN:VEVENT
DTSTART;TZID=Australia/Sydney:20250926T190000
DTEND;TZID=Australia/Sydney:20250926T220000
DTSTAMP:20260421T000257
CREATED:20250113T060202Z
LAST-MODIFIED:20250206T011200Z
UID:13364-1758913200-1758924000@belconnen.lutheran.org.au
SUMMARY:Free Wesleyan Church of Tonga Youth Group
DESCRIPTION:The Free Wesleyan Church of Tonga Youth Group meets weekly at Holy Cross
URL:https://belconnen.lutheran.org.au/event/free-wesleyan-church-of-tonga-youth-group-2-2025-02-14/2025-09-26/
LOCATION:Holy Cross Lutheran Church\, 9 Emu Bank\, Belconnen\, ACT\, 2616\, Australia
ORGANIZER;CN="Robert Steve Vave":MAILTO:Robertandrenata@hotmail.com
GEO:-35.2396675;149.07367
X-APPLE-STRUCTURED-LOCATION;VALUE=URI;X-ADDRESS=Holy Cross Lutheran Church 9 Emu Bank Belconnen ACT 2616 Australia;X-APPLE-RADIUS=500;X-TITLE=9 Emu Bank:geo:149.07367,-35.2396675
END:VEVENT
END:VCALENDAR