BEGIN:VCALENDAR
VERSION:2.0
PRODID:-//Belconnen Holy Cross Congregation, ACT - ECPv6.8.1//NONSGML v1.0//EN
CALSCALE:GREGORIAN
METHOD:PUBLISH
X-ORIGINAL-URL:https://belconnen.lutheran.org.au
X-WR-CALDESC:Events for Belconnen Holy Cross Congregation, ACT
REFRESH-INTERVAL;VALUE=DURATION:PT1H
X-Robots-Tag:noindex
X-PUBLISHED-TTL:PT1H
BEGIN:VTIMEZONE
TZID:Australia/Sydney
BEGIN:STANDARD
TZOFFSETFROM:+1100
TZOFFSETTO:+1000
TZNAME:AEST
DTSTART:20250405T160000
END:STANDARD
BEGIN:DAYLIGHT
TZOFFSETFROM:+1000
TZOFFSETTO:+1100
TZNAME:AEDT
DTSTART:20251004T160000
END:DAYLIGHT
END:VTIMEZONE
BEGIN:VEVENT
DTSTART;TZID=Australia/Sydney:20250508T130000
DTEND;TZID=Australia/Sydney:20250508T150000
DTSTAMP:20260422T222341
CREATED:20241216T065639Z
LAST-MODIFIED:20250128T034754Z
UID:12946-1746709200-1746716400@belconnen.lutheran.org.au
SUMMARY:Life Drawing Workshop
DESCRIPTION:THE LIFE DRAWING WORKSHOP\n– Creating Better Drawings through Clarity of Thought\, Mind and Focus \nThe Life Drawing Workshop has its own new YouTube Channel.\nPlease share it to help improve the Workshop’s numbers…\nhttps://youtu.be/PP6S_Nt39fw \nAlso\, please share this Life Drawing Workshop link…\nLife Drawing Workshop Info www.pazolli.com/lifedrawing \nLIFE DRAWING WORKSHOP\, – every THURSDAY –  1pm – 3pm. \nCREATE YOUR OWN DRAWING WORLD ….. BY DOING IT YOUR WAY…\n~ only you know how to find your creative pathway to better drawing. \nAthina Pazolli\nArtist; Painting; Drawing\nm: 0414 271311\ne: athina@pazolli.com\nart: www.pazolli.com\nDraw: www.pazolli.com/lifedrawing\nfb art: www.facebook.com/athina.pazolli\nfb draw: facebook.com/groups/2246575525649553/
URL:https://belconnen.lutheran.org.au/event/life-drawing-workshop-4/2025-05-08/
LOCATION:Holy Cross Lutheran Church\, 9 Emu Bank\, Belconnen\, ACT\, 2616\, Australia
CATEGORIES:External Hire
GEO:-35.2396675;149.07367
X-APPLE-STRUCTURED-LOCATION;VALUE=URI;X-ADDRESS=Holy Cross Lutheran Church 9 Emu Bank Belconnen ACT 2616 Australia;X-APPLE-RADIUS=500;X-TITLE=9 Emu Bank:geo:149.07367,-35.2396675
END:VEVENT
BEGIN:VEVENT
DTSTART;TZID=Australia/Sydney:20250507T200000
DTEND;TZID=Australia/Sydney:20250507T213000
DTSTAMP:20260422T222341
CREATED:20241216T080817Z
LAST-MODIFIED:20241216T080817Z
UID:13113-1746648000-1746653400@belconnen.lutheran.org.au
SUMMARY:Men's Fellowship Group
DESCRIPTION:Our Men’s Fellowship Group meets on the first Wednesday of each month in the homes of meembers. See weekly Bulletin for the venue for each month.
URL:https://belconnen.lutheran.org.au/event/mens-fellowship-group-3/2025-05-07/
LOCATION:ACT
CATEGORIES:Men's Fellowship
END:VEVENT
BEGIN:VEVENT
DTSTART;TZID=Australia/Sydney:20250507T100000
DTEND;TZID=Australia/Sydney:20250507T140000
DTSTAMP:20260422T222341
CREATED:20241216T064722Z
LAST-MODIFIED:20241216T064722Z
UID:12885-1746612000-1746626400@belconnen.lutheran.org.au
SUMMARY:NDIS Support Group
DESCRIPTION:A support group for disabled individuals conducted by Disability Aging and Community Care Services. \n\n\nIf you need help or information simply contact DAACCS \n\n\n\nADDRESS:  G04 120 Eastern Valley Way\, Belconnen\, ACT 2617\nPHONE:  (02) 8004 8412\nEMAIL: admin@daaccs.com.au
URL:https://belconnen.lutheran.org.au/event/ndis-support-group-4/2025-05-07/
LOCATION:Holy Cross Lutheran Church\, 9 Emu Bank\, Belconnen\, ACT\, 2616\, Australia
CATEGORIES:External Hire
GEO:-35.2396675;149.07367
X-APPLE-STRUCTURED-LOCATION;VALUE=URI;X-ADDRESS=Holy Cross Lutheran Church 9 Emu Bank Belconnen ACT 2616 Australia;X-APPLE-RADIUS=500;X-TITLE=9 Emu Bank:geo:149.07367,-35.2396675
END:VEVENT
BEGIN:VEVENT
DTSTART;TZID=Australia/Sydney:20250506T100000
DTEND;TZID=Australia/Sydney:20250506T120000
DTSTAMP:20260422T222341
CREATED:20251224T055210Z
LAST-MODIFIED:20251226T033928Z
UID:13440-1746525600-1746532800@belconnen.lutheran.org.au
SUMMARY:Ladies Discussion Group
DESCRIPTION:Ladies are invited to join the Tuesday discussion group held in the church \nmeeting room the first Tuesday of each month from 10am to 12 noon. \nContact person – Pam McMahon 0401137097
URL:https://belconnen.lutheran.org.au/event/ladies-discussion-group/2025-05-06/
LOCATION:Meeting Room at Holy Cross
CATEGORIES:Bible Study,Ladies fellowship
END:VEVENT
BEGIN:VEVENT
DTSTART;TZID=Australia/Sydney:20250506T100000
DTEND;TZID=Australia/Sydney:20250506T120000
DTSTAMP:20260422T222341
CREATED:20241216T063039Z
LAST-MODIFIED:20250131T035547Z
UID:12744-1746525600-1746532800@belconnen.lutheran.org.au
SUMMARY:Playgroup
DESCRIPTION:Playgroup meets each Tuesday and Friday from 10.00 am to 12.00pm
URL:https://belconnen.lutheran.org.au/event/playgroup/2025-05-06/
LOCATION:Holy Cross Lutheran Church\, 9 Emu Bank\, Belconnen\, ACT\, 2616\, Australia
CATEGORIES:Children
ATTACH;FMTTYPE=image/jpeg:https://belconnen.lutheran.org.au/wp-content/uploads/sites/194/2022/11/play-e1674968560858.jpg
GEO:-35.2396675;149.07367
X-APPLE-STRUCTURED-LOCATION;VALUE=URI;X-ADDRESS=Holy Cross Lutheran Church 9 Emu Bank Belconnen ACT 2616 Australia;X-APPLE-RADIUS=500;X-TITLE=9 Emu Bank:geo:149.07367,-35.2396675
END:VEVENT
BEGIN:VEVENT
DTSTART;TZID=Australia/Sydney:20250505T100000
DTEND;TZID=Australia/Sydney:20250505T140000
DTSTAMP:20260422T222341
CREATED:20241216T064524Z
LAST-MODIFIED:20241216T064524Z
UID:12837-1746439200-1746453600@belconnen.lutheran.org.au
SUMMARY:NDIS Support Group
DESCRIPTION:A support group for disabled individuals conducted by Disability Aging and Community Care Services. \n\n\nIf you need help or information simply contact DAACCS \n\n\n\nADDRESS:  G04 120 Eastern Valley Way\, Belconnen\, ACT 2617\nPHONE:  (02) 8004 8412\nEMAIL: admin@daaccs.com.au
URL:https://belconnen.lutheran.org.au/event/ndis-support-group-3/2025-05-05/
LOCATION:Holy Cross Lutheran Church\, 9 Emu Bank\, Belconnen\, ACT\, 2616\, Australia
CATEGORIES:External Hire
GEO:-35.2396675;149.07367
X-APPLE-STRUCTURED-LOCATION;VALUE=URI;X-ADDRESS=Holy Cross Lutheran Church 9 Emu Bank Belconnen ACT 2616 Australia;X-APPLE-RADIUS=500;X-TITLE=9 Emu Bank:geo:149.07367,-35.2396675
END:VEVENT
BEGIN:VEVENT
DTSTART;TZID=Australia/Sydney:20250504T130000
DTEND;TZID=Australia/Sydney:20250504T153000
DTSTAMP:20260422T222341
CREATED:20251224T051904Z
LAST-MODIFIED:20251224T052000Z
UID:13003-1746363600-1746372600@belconnen.lutheran.org.au
SUMMARY:Free Wesleyan Church of Tonga
DESCRIPTION:The Free Wesleyan Church of Tonga worships at Holy Cross each Sunday at 1.00 pm \nFurther information contact 0499868628
URL:https://belconnen.lutheran.org.au/event/free-wesleyan-church-of-tonga-2/2025-05-04/
LOCATION:Holy Cross Lutheran Church\, 9 Emu Bank\, Belconnen\, ACT\, 2616\, Australia
CATEGORIES:External Hire
GEO:-35.2396675;149.07367
X-APPLE-STRUCTURED-LOCATION;VALUE=URI;X-ADDRESS=Holy Cross Lutheran Church 9 Emu Bank Belconnen ACT 2616 Australia;X-APPLE-RADIUS=500;X-TITLE=9 Emu Bank:geo:149.07367,-35.2396675
END:VEVENT
BEGIN:VEVENT
DTSTART;TZID=Australia/Sydney:20250504T100000
DTEND;TZID=Australia/Sydney:20250504T113000
DTSTAMP:20260422T222341
CREATED:20220504T042724Z
LAST-MODIFIED:20250506T094732Z
UID:12620-1746352800-1746358200@belconnen.lutheran.org.au
SUMMARY:Worship with Holy Communion
DESCRIPTION:Please join us for  Worship every Sunday at 10.00 am \nWorship with Holy Communion is  held every Sunday morning at 10.00 am \nGuidelines in relation to Covid safe behaviours are followed. \n \nOur Bulletin for this week may be read here
URL:https://belconnen.lutheran.org.au/event/worship-with-holy-communion-2022-01-30-2022-02-20-2022-07-10-2022-11-27-2023-01-01-2023-07-16-2023-07-23-2023-12-31-2024-12-08-2025-05-04/
LOCATION:ACT
CATEGORIES:Worship
END:VEVENT
BEGIN:VEVENT
DTSTART;TZID=Australia/Sydney:20250503T133000
DTEND;TZID=Australia/Sydney:20250503T153000
DTSTAMP:20260422T222347
CREATED:20250312T081627Z
LAST-MODIFIED:20250312T081627Z
UID:13720-1746279000-1746286200@belconnen.lutheran.org.au
SUMMARY:AA Group Meeting
DESCRIPTION:
URL:https://belconnen.lutheran.org.au/event/aa-group-meeting/2025-05-03/
LOCATION:Meeting Room at Holy Cross
END:VEVENT
BEGIN:VEVENT
DTSTART;TZID=Australia/Sydney:20250503T093000
DTEND;TZID=Australia/Sydney:20250503T143000
DTSTAMP:20260422T222347
CREATED:20251224T052219Z
LAST-MODIFIED:20251224T052226Z
UID:13077-1746264600-1746282600@belconnen.lutheran.org.au
SUMMARY:The Seeking Salvation Samoan Seventh-Day Church
DESCRIPTION:The Seeking Salvation Samoan Seventh-Day Church holds its weekly service at Holy Cross
URL:https://belconnen.lutheran.org.au/event/samoan-independent-seventh-day-adventist-church/2025-05-03/
LOCATION:Holy Cross Lutheran Church\, 9 Emu Bank\, Belconnen\, ACT\, 2616\, Australia
CATEGORIES:External Hire
GEO:-35.2396675;149.07367
X-APPLE-STRUCTURED-LOCATION;VALUE=URI;X-ADDRESS=Holy Cross Lutheran Church 9 Emu Bank Belconnen ACT 2616 Australia;X-APPLE-RADIUS=500;X-TITLE=9 Emu Bank:geo:149.07367,-35.2396675
END:VEVENT
BEGIN:VEVENT
DTSTART;TZID=Australia/Sydney:20250503T080000
DTEND;TZID=Australia/Sydney:20250503T170000
DTSTAMP:20260422T222347
CREATED:20250122T053032Z
LAST-MODIFIED:20250122T053032Z
UID:13513-1746259200-1746291600@belconnen.lutheran.org.au
SUMMARY:Lutheran Women - NSW & ACT District Convention
DESCRIPTION:The annual convention of Lutheran Women – NSW & ACT District will be held at Holy Cross on Saturday 3 May 2025
URL:https://belconnen.lutheran.org.au/event/lutheran-women-nsw-act-district-convention/
LOCATION:Holy Cross Lutheran Church\, 9 Emu Bank\, Belconnen\, ACT\, 2616\, Australia
CATEGORIES:Ladies fellowship,Meeting
GEO:-35.2396675;149.07367
X-APPLE-STRUCTURED-LOCATION;VALUE=URI;X-ADDRESS=Holy Cross Lutheran Church 9 Emu Bank Belconnen ACT 2616 Australia;X-APPLE-RADIUS=500;X-TITLE=9 Emu Bank:geo:149.07367,-35.2396675
END:VEVENT
BEGIN:VEVENT
DTSTART;TZID=Australia/Sydney:20250503T080000
DTEND;TZID=Australia/Sydney:20250503T080000
DTSTAMP:20260422T222347
CREATED:20240625T064741Z
LAST-MODIFIED:20240625T064741Z
UID:11981-1746259200-1746259200@belconnen.lutheran.org.au
SUMMARY:NSW/ACT District Ladies Convention
DESCRIPTION:The 2025 Convention for Ladies in the NSW/ACT District of the Lutheran Church of Australia will take place at Holy Cross on Saturday 3 May 2025
URL:https://belconnen.lutheran.org.au/event/nsw-act-district-ladies-convention/
LOCATION:Holy Cross Lutheran Church\, 9 Emu Bank\, Belconnen\, ACT\, 2616\, Australia
CATEGORIES:External Hire,Ladies fellowship
GEO:-35.2396675;149.07367
X-APPLE-STRUCTURED-LOCATION;VALUE=URI;X-ADDRESS=Holy Cross Lutheran Church 9 Emu Bank Belconnen ACT 2616 Australia;X-APPLE-RADIUS=500;X-TITLE=9 Emu Bank:geo:149.07367,-35.2396675
END:VEVENT
BEGIN:VEVENT
DTSTART;TZID=Australia/Sydney:20250502T190000
DTEND;TZID=Australia/Sydney:20250502T220000
DTSTAMP:20260422T222347
CREATED:20250113T060202Z
LAST-MODIFIED:20250206T011159Z
UID:13343-1746212400-1746223200@belconnen.lutheran.org.au
SUMMARY:Free Wesleyan Church of Tonga Youth Group
DESCRIPTION:The Free Wesleyan Church of Tonga Youth Group meets weekly at Holy Cross
URL:https://belconnen.lutheran.org.au/event/free-wesleyan-church-of-tonga-youth-group-2-2025-02-14/2025-05-02/
LOCATION:Holy Cross Lutheran Church\, 9 Emu Bank\, Belconnen\, ACT\, 2616\, Australia
ORGANIZER;CN="Robert Steve Vave":MAILTO:Robertandrenata@hotmail.com
GEO:-35.2396675;149.07367
X-APPLE-STRUCTURED-LOCATION;VALUE=URI;X-ADDRESS=Holy Cross Lutheran Church 9 Emu Bank Belconnen ACT 2616 Australia;X-APPLE-RADIUS=500;X-TITLE=9 Emu Bank:geo:149.07367,-35.2396675
END:VEVENT
BEGIN:VEVENT
DTSTART;TZID=Australia/Sydney:20250502T100000
DTEND;TZID=Australia/Sydney:20250502T120000
DTSTAMP:20260422T222347
CREATED:20241216T063507Z
LAST-MODIFIED:20250131T035638Z
UID:12786-1746180000-1746187200@belconnen.lutheran.org.au
SUMMARY:Playgroup
DESCRIPTION:Playgroup meets each Tuesday and Friday from 10.00 am to 12.00pm
URL:https://belconnen.lutheran.org.au/event/playgroup-4/2025-05-02/
LOCATION:Holy Cross Lutheran Church\, 9 Emu Bank\, Belconnen\, ACT\, 2616\, Australia
CATEGORIES:Children
ATTACH;FMTTYPE=image/jpeg:https://belconnen.lutheran.org.au/wp-content/uploads/sites/194/2022/11/play-e1674968560858.jpg
GEO:-35.2396675;149.07367
X-APPLE-STRUCTURED-LOCATION;VALUE=URI;X-ADDRESS=Holy Cross Lutheran Church 9 Emu Bank Belconnen ACT 2616 Australia;X-APPLE-RADIUS=500;X-TITLE=9 Emu Bank:geo:149.07367,-35.2396675
END:VEVENT
BEGIN:VEVENT
DTSTART;TZID=Australia/Sydney:20250501T130000
DTEND;TZID=Australia/Sydney:20250501T150000
DTSTAMP:20260422T222347
CREATED:20241216T065639Z
LAST-MODIFIED:20250128T034754Z
UID:12945-1746104400-1746111600@belconnen.lutheran.org.au
SUMMARY:Life Drawing Workshop
DESCRIPTION:THE LIFE DRAWING WORKSHOP\n– Creating Better Drawings through Clarity of Thought\, Mind and Focus \nThe Life Drawing Workshop has its own new YouTube Channel.\nPlease share it to help improve the Workshop’s numbers…\nhttps://youtu.be/PP6S_Nt39fw \nAlso\, please share this Life Drawing Workshop link…\nLife Drawing Workshop Info www.pazolli.com/lifedrawing \nLIFE DRAWING WORKSHOP\, – every THURSDAY –  1pm – 3pm. \nCREATE YOUR OWN DRAWING WORLD ….. BY DOING IT YOUR WAY…\n~ only you know how to find your creative pathway to better drawing. \nAthina Pazolli\nArtist; Painting; Drawing\nm: 0414 271311\ne: athina@pazolli.com\nart: www.pazolli.com\nDraw: www.pazolli.com/lifedrawing\nfb art: www.facebook.com/athina.pazolli\nfb draw: facebook.com/groups/2246575525649553/
URL:https://belconnen.lutheran.org.au/event/life-drawing-workshop-4/2025-05-01/
LOCATION:Holy Cross Lutheran Church\, 9 Emu Bank\, Belconnen\, ACT\, 2616\, Australia
CATEGORIES:External Hire
GEO:-35.2396675;149.07367
X-APPLE-STRUCTURED-LOCATION;VALUE=URI;X-ADDRESS=Holy Cross Lutheran Church 9 Emu Bank Belconnen ACT 2616 Australia;X-APPLE-RADIUS=500;X-TITLE=9 Emu Bank:geo:149.07367,-35.2396675
END:VEVENT
BEGIN:VEVENT
DTSTART;TZID=Australia/Sydney:20250430T100000
DTEND;TZID=Australia/Sydney:20250430T140000
DTSTAMP:20260422T222347
CREATED:20241216T064722Z
LAST-MODIFIED:20241216T064722Z
UID:12884-1746007200-1746021600@belconnen.lutheran.org.au
SUMMARY:NDIS Support Group
DESCRIPTION:A support group for disabled individuals conducted by Disability Aging and Community Care Services. \n\n\nIf you need help or information simply contact DAACCS \n\n\n\nADDRESS:  G04 120 Eastern Valley Way\, Belconnen\, ACT 2617\nPHONE:  (02) 8004 8412\nEMAIL: admin@daaccs.com.au
URL:https://belconnen.lutheran.org.au/event/ndis-support-group-4/2025-04-30/
LOCATION:Holy Cross Lutheran Church\, 9 Emu Bank\, Belconnen\, ACT\, 2616\, Australia
CATEGORIES:External Hire
GEO:-35.2396675;149.07367
X-APPLE-STRUCTURED-LOCATION;VALUE=URI;X-ADDRESS=Holy Cross Lutheran Church 9 Emu Bank Belconnen ACT 2616 Australia;X-APPLE-RADIUS=500;X-TITLE=9 Emu Bank:geo:149.07367,-35.2396675
END:VEVENT
BEGIN:VEVENT
DTSTART;TZID=Australia/Sydney:20250429T100000
DTEND;TZID=Australia/Sydney:20250429T120000
DTSTAMP:20260422T222347
CREATED:20241216T063039Z
LAST-MODIFIED:20250131T035547Z
UID:12743-1745920800-1745928000@belconnen.lutheran.org.au
SUMMARY:Playgroup
DESCRIPTION:Playgroup meets each Tuesday and Friday from 10.00 am to 12.00pm
URL:https://belconnen.lutheran.org.au/event/playgroup/2025-04-29/
LOCATION:Holy Cross Lutheran Church\, 9 Emu Bank\, Belconnen\, ACT\, 2616\, Australia
CATEGORIES:Children
ATTACH;FMTTYPE=image/jpeg:https://belconnen.lutheran.org.au/wp-content/uploads/sites/194/2022/11/play-e1674968560858.jpg
GEO:-35.2396675;149.07367
X-APPLE-STRUCTURED-LOCATION;VALUE=URI;X-ADDRESS=Holy Cross Lutheran Church 9 Emu Bank Belconnen ACT 2616 Australia;X-APPLE-RADIUS=500;X-TITLE=9 Emu Bank:geo:149.07367,-35.2396675
END:VEVENT
BEGIN:VEVENT
DTSTART;TZID=Australia/Sydney:20250428T100000
DTEND;TZID=Australia/Sydney:20250428T140000
DTSTAMP:20260422T222347
CREATED:20241216T064524Z
LAST-MODIFIED:20241216T064524Z
UID:12836-1745834400-1745848800@belconnen.lutheran.org.au
SUMMARY:NDIS Support Group
DESCRIPTION:A support group for disabled individuals conducted by Disability Aging and Community Care Services. \n\n\nIf you need help or information simply contact DAACCS \n\n\n\nADDRESS:  G04 120 Eastern Valley Way\, Belconnen\, ACT 2617\nPHONE:  (02) 8004 8412\nEMAIL: admin@daaccs.com.au
URL:https://belconnen.lutheran.org.au/event/ndis-support-group-3/2025-04-28/
LOCATION:Holy Cross Lutheran Church\, 9 Emu Bank\, Belconnen\, ACT\, 2616\, Australia
CATEGORIES:External Hire
GEO:-35.2396675;149.07367
X-APPLE-STRUCTURED-LOCATION;VALUE=URI;X-ADDRESS=Holy Cross Lutheran Church 9 Emu Bank Belconnen ACT 2616 Australia;X-APPLE-RADIUS=500;X-TITLE=9 Emu Bank:geo:149.07367,-35.2396675
END:VEVENT
BEGIN:VEVENT
DTSTART;TZID=Australia/Sydney:20250427T130000
DTEND;TZID=Australia/Sydney:20250427T153000
DTSTAMP:20260422T222347
CREATED:20251224T051904Z
LAST-MODIFIED:20251224T052000Z
UID:13002-1745758800-1745767800@belconnen.lutheran.org.au
SUMMARY:Free Wesleyan Church of Tonga
DESCRIPTION:The Free Wesleyan Church of Tonga worships at Holy Cross each Sunday at 1.00 pm \nFurther information contact 0499868628
URL:https://belconnen.lutheran.org.au/event/free-wesleyan-church-of-tonga-2/2025-04-27/
LOCATION:Holy Cross Lutheran Church\, 9 Emu Bank\, Belconnen\, ACT\, 2616\, Australia
CATEGORIES:External Hire
GEO:-35.2396675;149.07367
X-APPLE-STRUCTURED-LOCATION;VALUE=URI;X-ADDRESS=Holy Cross Lutheran Church 9 Emu Bank Belconnen ACT 2616 Australia;X-APPLE-RADIUS=500;X-TITLE=9 Emu Bank:geo:149.07367,-35.2396675
END:VEVENT
BEGIN:VEVENT
DTSTART;TZID=Australia/Sydney:20250427T100000
DTEND;TZID=Australia/Sydney:20250427T113000
DTSTAMP:20260422T222347
CREATED:20220425T052424Z
LAST-MODIFIED:20250506T094528Z
UID:12619-1745748000-1745753400@belconnen.lutheran.org.au
SUMMARY:Worship with Holy Communion
DESCRIPTION:Please join us for  Worship every Sunday at 10.00 am \nWorship with Holy Communion is  held every Sunday morning at 10.00 am \nGuidelines in relation to Covid safe behaviours are followed. \n \nOur Bulletin for this week may be read here
URL:https://belconnen.lutheran.org.au/event/worship-with-holy-communion-2022-01-30-2022-02-20-2022-07-10-2022-11-27-2023-01-01-2023-07-16-2023-07-23-2023-12-31-2024-12-08-2025-04-27/
LOCATION:ACT
CATEGORIES:Worship
END:VEVENT
BEGIN:VEVENT
DTSTART;TZID=Australia/Sydney:20250426T133000
DTEND;TZID=Australia/Sydney:20250426T153000
DTSTAMP:20260422T222347
CREATED:20250312T081627Z
LAST-MODIFIED:20250312T081627Z
UID:13719-1745674200-1745681400@belconnen.lutheran.org.au
SUMMARY:AA Group Meeting
DESCRIPTION:
URL:https://belconnen.lutheran.org.au/event/aa-group-meeting/2025-04-26/
LOCATION:Meeting Room at Holy Cross
END:VEVENT
BEGIN:VEVENT
DTSTART;TZID=Australia/Sydney:20250426T093000
DTEND;TZID=Australia/Sydney:20250426T143000
DTSTAMP:20260422T222347
CREATED:20241216T080519Z
LAST-MODIFIED:20250425T011122Z
UID:13076-1745659800-1745677800@belconnen.lutheran.org.au
SUMMARY:The Seeking Salvation Samoan Seventh-Day Church
DESCRIPTION:The Seeking Salvation Samoan Seventh-Day Church holds its weekly service at Holy Cross. \nThere will not be a service today as members are in Sydney
URL:https://belconnen.lutheran.org.au/event/samoan-independent-seventh-day-adventist-church-2025-04-26/
LOCATION:Holy Cross Lutheran Church\, 9 Emu Bank\, Belconnen\, ACT\, 2616\, Australia
CATEGORIES:External Hire
GEO:-35.2396675;149.07367
X-APPLE-STRUCTURED-LOCATION;VALUE=URI;X-ADDRESS=Holy Cross Lutheran Church 9 Emu Bank Belconnen ACT 2616 Australia;X-APPLE-RADIUS=500;X-TITLE=9 Emu Bank:geo:149.07367,-35.2396675
END:VEVENT
BEGIN:VEVENT
DTSTART;TZID=Australia/Sydney:20250424T130000
DTEND;TZID=Australia/Sydney:20250424T150000
DTSTAMP:20260422T222347
CREATED:20241216T065639Z
LAST-MODIFIED:20250128T034754Z
UID:12944-1745499600-1745506800@belconnen.lutheran.org.au
SUMMARY:Life Drawing Workshop
DESCRIPTION:THE LIFE DRAWING WORKSHOP\n– Creating Better Drawings through Clarity of Thought\, Mind and Focus \nThe Life Drawing Workshop has its own new YouTube Channel.\nPlease share it to help improve the Workshop’s numbers…\nhttps://youtu.be/PP6S_Nt39fw \nAlso\, please share this Life Drawing Workshop link…\nLife Drawing Workshop Info www.pazolli.com/lifedrawing \nLIFE DRAWING WORKSHOP\, – every THURSDAY –  1pm – 3pm. \nCREATE YOUR OWN DRAWING WORLD ….. BY DOING IT YOUR WAY…\n~ only you know how to find your creative pathway to better drawing. \nAthina Pazolli\nArtist; Painting; Drawing\nm: 0414 271311\ne: athina@pazolli.com\nart: www.pazolli.com\nDraw: www.pazolli.com/lifedrawing\nfb art: www.facebook.com/athina.pazolli\nfb draw: facebook.com/groups/2246575525649553/
URL:https://belconnen.lutheran.org.au/event/life-drawing-workshop-4/2025-04-24/
LOCATION:Holy Cross Lutheran Church\, 9 Emu Bank\, Belconnen\, ACT\, 2616\, Australia
CATEGORIES:External Hire
GEO:-35.2396675;149.07367
X-APPLE-STRUCTURED-LOCATION;VALUE=URI;X-ADDRESS=Holy Cross Lutheran Church 9 Emu Bank Belconnen ACT 2616 Australia;X-APPLE-RADIUS=500;X-TITLE=9 Emu Bank:geo:149.07367,-35.2396675
END:VEVENT
BEGIN:VEVENT
DTSTART;TZID=Australia/Sydney:20250423T100000
DTEND;TZID=Australia/Sydney:20250423T140000
DTSTAMP:20260422T222347
CREATED:20241216T064722Z
LAST-MODIFIED:20241216T064722Z
UID:12883-1745402400-1745416800@belconnen.lutheran.org.au
SUMMARY:NDIS Support Group
DESCRIPTION:A support group for disabled individuals conducted by Disability Aging and Community Care Services. \n\n\nIf you need help or information simply contact DAACCS \n\n\n\nADDRESS:  G04 120 Eastern Valley Way\, Belconnen\, ACT 2617\nPHONE:  (02) 8004 8412\nEMAIL: admin@daaccs.com.au
URL:https://belconnen.lutheran.org.au/event/ndis-support-group-4/2025-04-23/
LOCATION:Holy Cross Lutheran Church\, 9 Emu Bank\, Belconnen\, ACT\, 2616\, Australia
CATEGORIES:External Hire
GEO:-35.2396675;149.07367
X-APPLE-STRUCTURED-LOCATION;VALUE=URI;X-ADDRESS=Holy Cross Lutheran Church 9 Emu Bank Belconnen ACT 2616 Australia;X-APPLE-RADIUS=500;X-TITLE=9 Emu Bank:geo:149.07367,-35.2396675
END:VEVENT
BEGIN:VEVENT
DTSTART;TZID=Australia/Sydney:20250422T100000
DTEND;TZID=Australia/Sydney:20250422T120000
DTSTAMP:20260422T222348
CREATED:20241216T063039Z
LAST-MODIFIED:20250131T035546Z
UID:12742-1745316000-1745323200@belconnen.lutheran.org.au
SUMMARY:Playgroup
DESCRIPTION:Playgroup meets each Tuesday and Friday from 10.00 am to 12.00pm
URL:https://belconnen.lutheran.org.au/event/playgroup/2025-04-22/
LOCATION:Holy Cross Lutheran Church\, 9 Emu Bank\, Belconnen\, ACT\, 2616\, Australia
CATEGORIES:Children
ATTACH;FMTTYPE=image/jpeg:https://belconnen.lutheran.org.au/wp-content/uploads/sites/194/2022/11/play-e1674968560858.jpg
GEO:-35.2396675;149.07367
X-APPLE-STRUCTURED-LOCATION;VALUE=URI;X-ADDRESS=Holy Cross Lutheran Church 9 Emu Bank Belconnen ACT 2616 Australia;X-APPLE-RADIUS=500;X-TITLE=9 Emu Bank:geo:149.07367,-35.2396675
END:VEVENT
BEGIN:VEVENT
DTSTART;TZID=Australia/Sydney:20250420T130000
DTEND;TZID=Australia/Sydney:20250420T153000
DTSTAMP:20260422T222348
CREATED:20250417T035004Z
LAST-MODIFIED:20250417T035014Z
UID:13001-1745154000-1745163000@belconnen.lutheran.org.au
SUMMARY:Free Wesleyan Church of Tonga
DESCRIPTION:The Free Wesleyan Church of Tonga usually worships at Holy Cross each Sunday at 1.00 pm \nThere will not be a service today as the congregation is worshipping in Sydney. \nFurther information contact 0499868628
URL:https://belconnen.lutheran.org.au/event/free-wesleyan-church-of-tonga-2-2025-04-20/
LOCATION:Holy Cross Lutheran Church\, 9 Emu Bank\, Belconnen\, ACT\, 2616\, Australia
CATEGORIES:External Hire
GEO:-35.2396675;149.07367
X-APPLE-STRUCTURED-LOCATION;VALUE=URI;X-ADDRESS=Holy Cross Lutheran Church 9 Emu Bank Belconnen ACT 2616 Australia;X-APPLE-RADIUS=500;X-TITLE=9 Emu Bank:geo:149.07367,-35.2396675
END:VEVENT
BEGIN:VEVENT
DTSTART;TZID=Australia/Sydney:20250420T100000
DTEND;TZID=Australia/Sydney:20250420T113000
DTSTAMP:20260422T222348
CREATED:20250417T034824Z
LAST-MODIFIED:20250420T054714Z
UID:12618-1745143200-1745148600@belconnen.lutheran.org.au
SUMMARY:Worship with Holy Communion
DESCRIPTION:Please join us for  Worship every Sunday at 10.00 am \nWorship with Holy Communion is  held every Sunday morning at 10.00 am \nGuidelines in relation to Covid safe behaviours are followed. \n \nOur Bulletin for this week may be read here
URL:https://belconnen.lutheran.org.au/event/worship-with-holy-communion-2022-01-30-2022-02-20-2022-07-10-2022-11-27-2023-01-01-2023-07-16-2023-07-23-2023-12-31-2024-12-08-2025-04-20/
LOCATION:ACT
CATEGORIES:Worship
END:VEVENT
BEGIN:VEVENT
DTSTART;TZID=Australia/Sydney:20250419T170000
DTEND;TZID=Australia/Sydney:20250419T210000
DTSTAMP:20260422T222348
CREATED:20241216T075541Z
LAST-MODIFIED:20241216T075541Z
UID:13051-1745082000-1745096400@belconnen.lutheran.org.au
SUMMARY:Canberra Telugu Christian Fellowship
DESCRIPTION:The Canberra Telugu Christian Fellowship meets at Holy Cross in the evening of the third Saturday of each month
URL:https://belconnen.lutheran.org.au/event/canberra-telugu-christian-fellowship-3/2025-04-19/
LOCATION:Holy Cross Lutheran Church\, 9 Emu Bank\, Belconnen\, ACT\, 2616\, Australia
CATEGORIES:External Hire
GEO:-35.2396675;149.07367
X-APPLE-STRUCTURED-LOCATION;VALUE=URI;X-ADDRESS=Holy Cross Lutheran Church 9 Emu Bank Belconnen ACT 2616 Australia;X-APPLE-RADIUS=500;X-TITLE=9 Emu Bank:geo:149.07367,-35.2396675
END:VEVENT
BEGIN:VEVENT
DTSTART;TZID=Australia/Sydney:20250419T133000
DTEND;TZID=Australia/Sydney:20250419T153000
DTSTAMP:20260422T222348
CREATED:20250312T081627Z
LAST-MODIFIED:20250312T081627Z
UID:13718-1745069400-1745076600@belconnen.lutheran.org.au
SUMMARY:AA Group Meeting
DESCRIPTION:
URL:https://belconnen.lutheran.org.au/event/aa-group-meeting/2025-04-19/
LOCATION:Meeting Room at Holy Cross
END:VEVENT
BEGIN:VEVENT
DTSTART;TZID=Australia/Sydney:20250419T093000
DTEND;TZID=Australia/Sydney:20250419T143000
DTSTAMP:20260422T222348
CREATED:20251224T052219Z
LAST-MODIFIED:20251224T052226Z
UID:13075-1745055000-1745073000@belconnen.lutheran.org.au
SUMMARY:The Seeking Salvation Samoan Seventh-Day Church
DESCRIPTION:The Seeking Salvation Samoan Seventh-Day Church holds its weekly service at Holy Cross
URL:https://belconnen.lutheran.org.au/event/samoan-independent-seventh-day-adventist-church/2025-04-19/
LOCATION:Holy Cross Lutheran Church\, 9 Emu Bank\, Belconnen\, ACT\, 2616\, Australia
CATEGORIES:External Hire
GEO:-35.2396675;149.07367
X-APPLE-STRUCTURED-LOCATION;VALUE=URI;X-ADDRESS=Holy Cross Lutheran Church 9 Emu Bank Belconnen ACT 2616 Australia;X-APPLE-RADIUS=500;X-TITLE=9 Emu Bank:geo:149.07367,-35.2396675
END:VEVENT
END:VCALENDAR