BEGIN:VCALENDAR
VERSION:2.0
PRODID:-//Belconnen Holy Cross Congregation, ACT - ECPv6.8.1//NONSGML v1.0//EN
CALSCALE:GREGORIAN
METHOD:PUBLISH
X-WR-CALNAME:Belconnen Holy Cross Congregation, ACT
X-ORIGINAL-URL:https://belconnen.lutheran.org.au
X-WR-CALDESC:Events for Belconnen Holy Cross Congregation, ACT
REFRESH-INTERVAL;VALUE=DURATION:PT1H
X-Robots-Tag:noindex
X-PUBLISHED-TTL:PT1H
BEGIN:VTIMEZONE
TZID:Australia/Sydney
BEGIN:STANDARD
TZOFFSETFROM:+1100
TZOFFSETTO:+1000
TZNAME:AEST
DTSTART:20240406T160000
END:STANDARD
BEGIN:DAYLIGHT
TZOFFSETFROM:+1000
TZOFFSETTO:+1100
TZNAME:AEDT
DTSTART:20241005T160000
END:DAYLIGHT
END:VTIMEZONE
BEGIN:VEVENT
DTSTART;TZID=Australia/Sydney:20240726T100000
DTEND;TZID=Australia/Sydney:20240726T120000
DTSTAMP:20260425T233610
CREATED:20240110T034829Z
LAST-MODIFIED:20240122T103332Z
UID:10904-1721988000-1721995200@belconnen.lutheran.org.au
SUMMARY:Playgroup
DESCRIPTION:Playgroup meets each Tuesday and Friday from 10.00 am to 12.00pm
URL:https://belconnen.lutheran.org.au/event/playgroup-3/2024-07-26/
LOCATION:Holy Cross Lutheran Church\, 9 Emu Bank\, Belconnen\, ACT\, 2616\, Australia
CATEGORIES:Children
ATTACH;FMTTYPE=image/jpeg:https://belconnen.lutheran.org.au/wp-content/uploads/sites/194/2022/11/play-e1674968560858.jpg
GEO:-35.2396675;149.07367
X-APPLE-STRUCTURED-LOCATION;VALUE=URI;X-ADDRESS=Holy Cross Lutheran Church 9 Emu Bank Belconnen ACT 2616 Australia;X-APPLE-RADIUS=500;X-TITLE=9 Emu Bank:geo:149.07367,-35.2396675
END:VEVENT
BEGIN:VEVENT
DTSTART;TZID=Australia/Sydney:20240728T100000
DTEND;TZID=Australia/Sydney:20240728T113000
DTSTAMP:20260425T233610
CREATED:20240726T044524Z
LAST-MODIFIED:20240730T093324Z
UID:10860-1722160800-1722166200@belconnen.lutheran.org.au
SUMMARY:Worship with Holy Communion
DESCRIPTION:Please join us for  Worship every Sunday at 10.00 am \nWorship with Holy Communion is  held every Sunday morning at 10.00 am \nGuidelines in relation to Covid safe behaviours are followed. \n \nOur Bulletin for this week may be read here
URL:https://belconnen.lutheran.org.au/event/worship-with-holy-communion-2022-01-30-2022-02-20-2022-07-10-2022-11-27-2023-01-01-2023-07-16-2023-07-23-2023-12-31-2024-07-28/
LOCATION:Holy Cross Lutheran Church\, 9 Emu Bank\, Belconnen\, ACT\, 2616\, Australia
CATEGORIES:Worship
ATTACH;FMTTYPE=image/jpeg:https://belconnen.lutheran.org.au/wp-content/uploads/sites/194/2018/03/HCB3-Copy.jpg
ORGANIZER;CN="Pastor Darren Jaensch":MAILTO:darren.jaensch@lca.org.au
GEO:-35.2396675;149.07367
X-APPLE-STRUCTURED-LOCATION;VALUE=URI;X-ADDRESS=Holy Cross Lutheran Church 9 Emu Bank Belconnen ACT 2616 Australia;X-APPLE-RADIUS=500;X-TITLE=9 Emu Bank:geo:149.07367,-35.2396675
END:VEVENT
BEGIN:VEVENT
DTSTART;TZID=Australia/Sydney:20240730T100000
DTEND;TZID=Australia/Sydney:20240730T120000
DTSTAMP:20260425T233610
CREATED:20221119T080803Z
LAST-MODIFIED:20221119T080803Z
UID:11053-1722333600-1722340800@belconnen.lutheran.org.au
SUMMARY:Playgroup
DESCRIPTION:Playgroup meets each Tuesday and Friday from 10.00 am to 12.00pm \n \n 
URL:https://belconnen.lutheran.org.au/event/playgroup-2/2024-07-30/
LOCATION:Holy Cross Lutheran Church\, 9 Emu Bank\, Belconnen\, ACT\, 2616\, Australia
ATTACH;FMTTYPE=image/jpeg:https://belconnen.lutheran.org.au/wp-content/uploads/sites/194/2022/11/play-e1674968560858.jpg
GEO:-35.2396675;149.07367
X-APPLE-STRUCTURED-LOCATION;VALUE=URI;X-ADDRESS=Holy Cross Lutheran Church 9 Emu Bank Belconnen ACT 2616 Australia;X-APPLE-RADIUS=500;X-TITLE=9 Emu Bank:geo:149.07367,-35.2396675
END:VEVENT
BEGIN:VEVENT
DTSTART;TZID=Australia/Sydney:20240801T093000
DTEND;TZID=Australia/Sydney:20240801T113000
DTSTAMP:20260425T233610
CREATED:20240110T055938Z
LAST-MODIFIED:20241122T040446Z
UID:12015-1722504600-1722511800@belconnen.lutheran.org.au
SUMMARY:Sing Australia
DESCRIPTION:Sing Australia Belconnen Choir meets at 9.30 am each Thursday. For further information see https://www.singaustralia.com.au/sing-australia-groups/
URL:https://belconnen.lutheran.org.au/event/sing-australia-2/2024-08-01/
CATEGORIES:External Hire
END:VEVENT
BEGIN:VEVENT
DTSTART;TZID=Australia/Sydney:20240802T100000
DTEND;TZID=Australia/Sydney:20240802T120000
DTSTAMP:20260425T233610
CREATED:20240110T034829Z
LAST-MODIFIED:20240122T103333Z
UID:10905-1722592800-1722600000@belconnen.lutheran.org.au
SUMMARY:Playgroup
DESCRIPTION:Playgroup meets each Tuesday and Friday from 10.00 am to 12.00pm
URL:https://belconnen.lutheran.org.au/event/playgroup-3/2024-08-02/
LOCATION:Holy Cross Lutheran Church\, 9 Emu Bank\, Belconnen\, ACT\, 2616\, Australia
CATEGORIES:Children
ATTACH;FMTTYPE=image/jpeg:https://belconnen.lutheran.org.au/wp-content/uploads/sites/194/2022/11/play-e1674968560858.jpg
GEO:-35.2396675;149.07367
X-APPLE-STRUCTURED-LOCATION;VALUE=URI;X-ADDRESS=Holy Cross Lutheran Church 9 Emu Bank Belconnen ACT 2616 Australia;X-APPLE-RADIUS=500;X-TITLE=9 Emu Bank:geo:149.07367,-35.2396675
END:VEVENT
BEGIN:VEVENT
DTSTART;TZID=Australia/Sydney:20240804T100000
DTEND;TZID=Australia/Sydney:20240804T113000
DTSTAMP:20260425T233610
CREATED:20240804T054824Z
LAST-MODIFIED:20240814T094306Z
UID:10861-1722765600-1722771000@belconnen.lutheran.org.au
SUMMARY:Worship with Holy Communion
DESCRIPTION:Please join us for  Worship every Sunday at 10.00 am \nWorship with Holy Communion is  held every Sunday morning at 10.00 am \nGuidelines in relation to Covid safe behaviours are followed. \n \nOur Bulletin for this week may be read here
URL:https://belconnen.lutheran.org.au/event/worship-with-holy-communion-2022-01-30-2022-02-20-2022-07-10-2022-11-27-2023-01-01-2023-07-16-2023-07-23-2023-12-31-2024-08-04/
LOCATION:Holy Cross Lutheran Church\, 9 Emu Bank\, Belconnen\, ACT\, 2616\, Australia
CATEGORIES:Worship
ATTACH;FMTTYPE=image/jpeg:https://belconnen.lutheran.org.au/wp-content/uploads/sites/194/2018/03/HCB3-Copy.jpg
ORGANIZER;CN="Pastor Darren Jaensch":MAILTO:darren.jaensch@lca.org.au
GEO:-35.2396675;149.07367
X-APPLE-STRUCTURED-LOCATION;VALUE=URI;X-ADDRESS=Holy Cross Lutheran Church 9 Emu Bank Belconnen ACT 2616 Australia;X-APPLE-RADIUS=500;X-TITLE=9 Emu Bank:geo:149.07367,-35.2396675
END:VEVENT
BEGIN:VEVENT
DTSTART;TZID=Australia/Sydney:20240806T100000
DTEND;TZID=Australia/Sydney:20240806T120000
DTSTAMP:20260425T233610
CREATED:20221119T080803Z
LAST-MODIFIED:20221119T080803Z
UID:11054-1722938400-1722945600@belconnen.lutheran.org.au
SUMMARY:Playgroup
DESCRIPTION:Playgroup meets each Tuesday and Friday from 10.00 am to 12.00pm \n \n 
URL:https://belconnen.lutheran.org.au/event/playgroup-2/2024-08-06/
LOCATION:Holy Cross Lutheran Church\, 9 Emu Bank\, Belconnen\, ACT\, 2616\, Australia
ATTACH;FMTTYPE=image/jpeg:https://belconnen.lutheran.org.au/wp-content/uploads/sites/194/2022/11/play-e1674968560858.jpg
GEO:-35.2396675;149.07367
X-APPLE-STRUCTURED-LOCATION;VALUE=URI;X-ADDRESS=Holy Cross Lutheran Church 9 Emu Bank Belconnen ACT 2616 Australia;X-APPLE-RADIUS=500;X-TITLE=9 Emu Bank:geo:149.07367,-35.2396675
END:VEVENT
BEGIN:VEVENT
DTSTART;TZID=Australia/Sydney:20240806T123000
DTEND;TZID=Australia/Sydney:20240806T140000
DTSTAMP:20260425T233610
CREATED:20240327T060925Z
LAST-MODIFIED:20240327T060925Z
UID:11732-1722947400-1722952800@belconnen.lutheran.org.au
SUMMARY:Family Support Group
DESCRIPTION:meets at 12.30pm on the first Tuesday of each month. \nFor info contact Sara  0403404571
URL:https://belconnen.lutheran.org.au/event/family-support-group/2024-08-06/
LOCATION:Meeting Room at Holy Cross
CATEGORIES:External Hire
END:VEVENT
BEGIN:VEVENT
DTSTART;TZID=Australia/Sydney:20240808T093000
DTEND;TZID=Australia/Sydney:20240808T113000
DTSTAMP:20260425T233610
CREATED:20240110T055938Z
LAST-MODIFIED:20241122T040447Z
UID:12016-1723109400-1723116600@belconnen.lutheran.org.au
SUMMARY:Sing Australia
DESCRIPTION:Sing Australia Belconnen Choir meets at 9.30 am each Thursday. For further information see https://www.singaustralia.com.au/sing-australia-groups/
URL:https://belconnen.lutheran.org.au/event/sing-australia-2/2024-08-08/
CATEGORIES:External Hire
END:VEVENT
BEGIN:VEVENT
DTSTART;TZID=Australia/Sydney:20240809T100000
DTEND;TZID=Australia/Sydney:20240809T120000
DTSTAMP:20260425T233610
CREATED:20240110T034829Z
LAST-MODIFIED:20240122T103335Z
UID:10906-1723197600-1723204800@belconnen.lutheran.org.au
SUMMARY:Playgroup
DESCRIPTION:Playgroup meets each Tuesday and Friday from 10.00 am to 12.00pm
URL:https://belconnen.lutheran.org.au/event/playgroup-3/2024-08-09/
LOCATION:Holy Cross Lutheran Church\, 9 Emu Bank\, Belconnen\, ACT\, 2616\, Australia
CATEGORIES:Children
ATTACH;FMTTYPE=image/jpeg:https://belconnen.lutheran.org.au/wp-content/uploads/sites/194/2022/11/play-e1674968560858.jpg
GEO:-35.2396675;149.07367
X-APPLE-STRUCTURED-LOCATION;VALUE=URI;X-ADDRESS=Holy Cross Lutheran Church 9 Emu Bank Belconnen ACT 2616 Australia;X-APPLE-RADIUS=500;X-TITLE=9 Emu Bank:geo:149.07367,-35.2396675
END:VEVENT
BEGIN:VEVENT
DTSTART;TZID=Australia/Sydney:20240810T170000
DTEND;TZID=Australia/Sydney:20240810T200000
DTSTAMP:20260425T233610
CREATED:20240107T032004Z
LAST-MODIFIED:20240107T032004Z
UID:12607-1723309200-1723320000@belconnen.lutheran.org.au
SUMMARY:ACT Telugu Christian Fellowship (ACTCF)
DESCRIPTION:The ACT Telugu Christian Fellowship meets at Holy Cross on then second saturday of each month
URL:https://belconnen.lutheran.org.au/event/act-telugu-christian-fellowship-actcf/2024-08-10/
LOCATION:Holy Cross Lutheran Church\, 9 Emu Bank\, Belconnen\, ACT\, 2616\, Australia
ORGANIZER;CN="Vinod Kaki":MAILTO:actchristiantelugufellowship@gmail.com
GEO:-35.2396675;149.07367
X-APPLE-STRUCTURED-LOCATION;VALUE=URI;X-ADDRESS=Holy Cross Lutheran Church 9 Emu Bank Belconnen ACT 2616 Australia;X-APPLE-RADIUS=500;X-TITLE=9 Emu Bank:geo:149.07367,-35.2396675
END:VEVENT
BEGIN:VEVENT
DTSTART;TZID=Australia/Sydney:20240811T100000
DTEND;TZID=Australia/Sydney:20240811T113000
DTSTAMP:20260425T233610
CREATED:20240809T040224Z
LAST-MODIFIED:20240814T094510Z
UID:10862-1723370400-1723375800@belconnen.lutheran.org.au
SUMMARY:Worship with Holy Communion
DESCRIPTION:Please join us for  Worship every Sunday at 10.00 am \nWorship with Holy Communion is  held every Sunday morning at 10.00 am \nGuidelines in relation to Covid safe behaviours are followed. \n \nOur Bulletin for this week may be read here
URL:https://belconnen.lutheran.org.au/event/worship-with-holy-communion-2022-01-30-2022-02-20-2022-07-10-2022-11-27-2023-01-01-2023-07-16-2023-07-23-2023-12-31-2024-08-11/
LOCATION:Holy Cross Lutheran Church\, 9 Emu Bank\, Belconnen\, ACT\, 2616\, Australia
CATEGORIES:Worship
ATTACH;FMTTYPE=image/jpeg:https://belconnen.lutheran.org.au/wp-content/uploads/sites/194/2018/03/HCB3-Copy.jpg
ORGANIZER;CN="Pastor Darren Jaensch":MAILTO:darren.jaensch@lca.org.au
GEO:-35.2396675;149.07367
X-APPLE-STRUCTURED-LOCATION;VALUE=URI;X-ADDRESS=Holy Cross Lutheran Church 9 Emu Bank Belconnen ACT 2616 Australia;X-APPLE-RADIUS=500;X-TITLE=9 Emu Bank:geo:149.07367,-35.2396675
END:VEVENT
BEGIN:VEVENT
DTSTART;TZID=Australia/Sydney:20240811T113000
DTEND;TZID=Australia/Sydney:20240811T123000
DTSTAMP:20260425T233610
CREATED:20240114T032626Z
LAST-MODIFIED:20240713T094845Z
UID:11460-1723375800-1723379400@belconnen.lutheran.org.au
SUMMARY:Annual General Meeting
DESCRIPTION:Our Annual General meeting will be held after today’s Service at approx 11.30 am
URL:https://belconnen.lutheran.org.au/event/annual-general-meeting-2/
LOCATION:Holy Cross Lutheran Church\, 9 Emu Bank\, Belconnen\, ACT\, 2616\, Australia
CATEGORIES:Meeting
GEO:-35.2396675;149.07367
X-APPLE-STRUCTURED-LOCATION;VALUE=URI;X-ADDRESS=Holy Cross Lutheran Church 9 Emu Bank Belconnen ACT 2616 Australia;X-APPLE-RADIUS=500;X-TITLE=9 Emu Bank:geo:149.07367,-35.2396675
END:VEVENT
BEGIN:VEVENT
DTSTART;TZID=Australia/Sydney:20240813T100000
DTEND;TZID=Australia/Sydney:20240813T120000
DTSTAMP:20260425T233610
CREATED:20221119T080803Z
LAST-MODIFIED:20221119T080803Z
UID:11055-1723543200-1723550400@belconnen.lutheran.org.au
SUMMARY:Playgroup
DESCRIPTION:Playgroup meets each Tuesday and Friday from 10.00 am to 12.00pm \n \n 
URL:https://belconnen.lutheran.org.au/event/playgroup-2/2024-08-13/
LOCATION:Holy Cross Lutheran Church\, 9 Emu Bank\, Belconnen\, ACT\, 2616\, Australia
ATTACH;FMTTYPE=image/jpeg:https://belconnen.lutheran.org.au/wp-content/uploads/sites/194/2022/11/play-e1674968560858.jpg
GEO:-35.2396675;149.07367
X-APPLE-STRUCTURED-LOCATION;VALUE=URI;X-ADDRESS=Holy Cross Lutheran Church 9 Emu Bank Belconnen ACT 2616 Australia;X-APPLE-RADIUS=500;X-TITLE=9 Emu Bank:geo:149.07367,-35.2396675
END:VEVENT
BEGIN:VEVENT
DTSTART;TZID=Australia/Sydney:20240813T100000
DTEND;TZID=Australia/Sydney:20240813T120000
DTSTAMP:20260425T233610
CREATED:20240407T035135Z
LAST-MODIFIED:20240407T035209Z
UID:11766-1723543200-1723550400@belconnen.lutheran.org.au
SUMMARY:Ladies Fellowship
DESCRIPTION:Our ladies get together for fellowship and discussion
URL:https://belconnen.lutheran.org.au/event/ladies-fellowship/2024-08-13/
LOCATION:Holy Cross Lutheran Church\, 9 Emu Bank\, Belconnen\, ACT\, 2616\, Australia
CATEGORIES:Ladies fellowship
GEO:-35.2396675;149.07367
X-APPLE-STRUCTURED-LOCATION;VALUE=URI;X-ADDRESS=Holy Cross Lutheran Church 9 Emu Bank Belconnen ACT 2616 Australia;X-APPLE-RADIUS=500;X-TITLE=9 Emu Bank:geo:149.07367,-35.2396675
END:VEVENT
BEGIN:VEVENT
DTSTART;TZID=Australia/Sydney:20240815T093000
DTEND;TZID=Australia/Sydney:20240815T113000
DTSTAMP:20260425T233610
CREATED:20240110T055938Z
LAST-MODIFIED:20241122T040448Z
UID:12017-1723714200-1723721400@belconnen.lutheran.org.au
SUMMARY:Sing Australia
DESCRIPTION:Sing Australia Belconnen Choir meets at 9.30 am each Thursday. For further information see https://www.singaustralia.com.au/sing-australia-groups/
URL:https://belconnen.lutheran.org.au/event/sing-australia-2/2024-08-15/
CATEGORIES:External Hire
END:VEVENT
BEGIN:VEVENT
DTSTART;TZID=Australia/Sydney:20240816T100000
DTEND;TZID=Australia/Sydney:20240816T120000
DTSTAMP:20260425T233610
CREATED:20240110T034829Z
LAST-MODIFIED:20240122T103336Z
UID:10907-1723802400-1723809600@belconnen.lutheran.org.au
SUMMARY:Playgroup
DESCRIPTION:Playgroup meets each Tuesday and Friday from 10.00 am to 12.00pm
URL:https://belconnen.lutheran.org.au/event/playgroup-3/2024-08-16/
LOCATION:Holy Cross Lutheran Church\, 9 Emu Bank\, Belconnen\, ACT\, 2616\, Australia
CATEGORIES:Children
ATTACH;FMTTYPE=image/jpeg:https://belconnen.lutheran.org.au/wp-content/uploads/sites/194/2022/11/play-e1674968560858.jpg
GEO:-35.2396675;149.07367
X-APPLE-STRUCTURED-LOCATION;VALUE=URI;X-ADDRESS=Holy Cross Lutheran Church 9 Emu Bank Belconnen ACT 2616 Australia;X-APPLE-RADIUS=500;X-TITLE=9 Emu Bank:geo:149.07367,-35.2396675
END:VEVENT
BEGIN:VEVENT
DTSTART;TZID=Australia/Sydney:20240817T170000
DTEND;TZID=Australia/Sydney:20240817T210000
DTSTAMP:20260425T233610
CREATED:20240107T030633Z
LAST-MODIFIED:20240107T030633Z
UID:11121-1723914000-1723928400@belconnen.lutheran.org.au
SUMMARY:Canberra Telugu Christian Fellowship
DESCRIPTION:The Canberra Telugu Christian Fellowship meets at Holy Cross in the evening of the third Saturday of each month
URL:https://belconnen.lutheran.org.au/event/canberra-telugu-christian-fellowship/2024-08-17/
END:VEVENT
BEGIN:VEVENT
DTSTART;TZID=Australia/Sydney:20240818T100000
DTEND;TZID=Australia/Sydney:20240818T113000
DTSTAMP:20260425T233610
CREATED:20240816T035524Z
LAST-MODIFIED:20240826T075930Z
UID:10863-1723975200-1723980600@belconnen.lutheran.org.au
SUMMARY:Worship with Holy Communion
DESCRIPTION:Please join us for  Worship every Sunday at 10.00 am \nWorship with Holy Communion is  held every Sunday morning at 10.00 am \nGuidelines in relation to Covid safe behaviours are followed. \n \nOur Bulletin for this week may be read here
URL:https://belconnen.lutheran.org.au/event/worship-with-holy-communion-2022-01-30-2022-02-20-2022-07-10-2022-11-27-2023-01-01-2023-07-16-2023-07-23-2023-12-31-2024-08-18/
LOCATION:Holy Cross Lutheran Church\, 9 Emu Bank\, Belconnen\, ACT\, 2616\, Australia
CATEGORIES:Worship
ATTACH;FMTTYPE=image/jpeg:https://belconnen.lutheran.org.au/wp-content/uploads/sites/194/2018/03/HCB3-Copy.jpg
ORGANIZER;CN="Pastor Darren Jaensch":MAILTO:darren.jaensch@lca.org.au
GEO:-35.2396675;149.07367
X-APPLE-STRUCTURED-LOCATION;VALUE=URI;X-ADDRESS=Holy Cross Lutheran Church 9 Emu Bank Belconnen ACT 2616 Australia;X-APPLE-RADIUS=500;X-TITLE=9 Emu Bank:geo:149.07367,-35.2396675
END:VEVENT
BEGIN:VEVENT
DTSTART;TZID=Australia/Sydney:20240818T101000
DTEND;TZID=Australia/Sydney:20240818T104000
DTSTAMP:20260425T233610
CREATED:20240515T085026Z
LAST-MODIFIED:20240515T085026Z
UID:11900-1723975800-1723977600@belconnen.lutheran.org.au
SUMMARY:Kids Club
DESCRIPTION:A time for our children on Sunday morning on the third Sunday of each month
URL:https://belconnen.lutheran.org.au/event/kids-club/2024-08-18/
CATEGORIES:Children
END:VEVENT
BEGIN:VEVENT
DTSTART;TZID=Australia/Sydney:20240819T193000
DTEND;TZID=Australia/Sydney:20240819T213000
DTSTAMP:20260425T233610
CREATED:20240114T031834Z
LAST-MODIFIED:20240724T084939Z
UID:11448-1724095800-1724103000@belconnen.lutheran.org.au
SUMMARY:Deacons Meeting (Church Council)
DESCRIPTION:Our Deacons meet at 7.30 pm
URL:https://belconnen.lutheran.org.au/event/deacons-meeting-church-council-2024-08-12/
LOCATION:Holy Cross Lutheran Church\, 9 Emu Bank\, Belconnen\, ACT\, 2616\, Australia
CATEGORIES:Meeting
GEO:-35.2396675;149.07367
X-APPLE-STRUCTURED-LOCATION;VALUE=URI;X-ADDRESS=Holy Cross Lutheran Church 9 Emu Bank Belconnen ACT 2616 Australia;X-APPLE-RADIUS=500;X-TITLE=9 Emu Bank:geo:149.07367,-35.2396675
END:VEVENT
BEGIN:VEVENT
DTSTART;TZID=Australia/Sydney:20240820T100000
DTEND;TZID=Australia/Sydney:20240820T120000
DTSTAMP:20260425T233610
CREATED:20221119T080803Z
LAST-MODIFIED:20221119T080803Z
UID:11056-1724148000-1724155200@belconnen.lutheran.org.au
SUMMARY:Playgroup
DESCRIPTION:Playgroup meets each Tuesday and Friday from 10.00 am to 12.00pm \n \n 
URL:https://belconnen.lutheran.org.au/event/playgroup-2/2024-08-20/
LOCATION:Holy Cross Lutheran Church\, 9 Emu Bank\, Belconnen\, ACT\, 2616\, Australia
ATTACH;FMTTYPE=image/jpeg:https://belconnen.lutheran.org.au/wp-content/uploads/sites/194/2022/11/play-e1674968560858.jpg
GEO:-35.2396675;149.07367
X-APPLE-STRUCTURED-LOCATION;VALUE=URI;X-ADDRESS=Holy Cross Lutheran Church 9 Emu Bank Belconnen ACT 2616 Australia;X-APPLE-RADIUS=500;X-TITLE=9 Emu Bank:geo:149.07367,-35.2396675
END:VEVENT
BEGIN:VEVENT
DTSTART;TZID=Australia/Sydney:20240822T093000
DTEND;TZID=Australia/Sydney:20240822T113000
DTSTAMP:20260425T233610
CREATED:20240110T055938Z
LAST-MODIFIED:20241122T040449Z
UID:12018-1724319000-1724326200@belconnen.lutheran.org.au
SUMMARY:Sing Australia
DESCRIPTION:Sing Australia Belconnen Choir meets at 9.30 am each Thursday. For further information see https://www.singaustralia.com.au/sing-australia-groups/
URL:https://belconnen.lutheran.org.au/event/sing-australia-2/2024-08-22/
CATEGORIES:External Hire
END:VEVENT
BEGIN:VEVENT
DTSTART;TZID=Australia/Sydney:20240823T100000
DTEND;TZID=Australia/Sydney:20240823T120000
DTSTAMP:20260425T233610
CREATED:20240110T034829Z
LAST-MODIFIED:20240122T103338Z
UID:10908-1724407200-1724414400@belconnen.lutheran.org.au
SUMMARY:Playgroup
DESCRIPTION:Playgroup meets each Tuesday and Friday from 10.00 am to 12.00pm
URL:https://belconnen.lutheran.org.au/event/playgroup-3/2024-08-23/
LOCATION:Holy Cross Lutheran Church\, 9 Emu Bank\, Belconnen\, ACT\, 2616\, Australia
CATEGORIES:Children
ATTACH;FMTTYPE=image/jpeg:https://belconnen.lutheran.org.au/wp-content/uploads/sites/194/2022/11/play-e1674968560858.jpg
GEO:-35.2396675;149.07367
X-APPLE-STRUCTURED-LOCATION;VALUE=URI;X-ADDRESS=Holy Cross Lutheran Church 9 Emu Bank Belconnen ACT 2616 Australia;X-APPLE-RADIUS=500;X-TITLE=9 Emu Bank:geo:149.07367,-35.2396675
END:VEVENT
BEGIN:VEVENT
DTSTART;TZID=Australia/Sydney:20240824T160000
DTEND;TZID=Australia/Sydney:20240824T190000
DTSTAMP:20260425T233610
CREATED:20240515T084434Z
LAST-MODIFIED:20240811T045740Z
UID:11892-1724515200-1724526000@belconnen.lutheran.org.au
SUMMARY:Asante Event
DESCRIPTION:celebrate and support the work of Australian Lutheran World Service \nFollowing the 90-minutes of presentations will be soup\, bread rolls\, drinks and opportunities for fellowship as we are catered for by the Holy Cross crew. \nTo assist with catering please book online using the \nLINK: https://www.trybooking.com/eventlist/alws \nor QR code
URL:https://belconnen.lutheran.org.au/event/asante-event/
CATEGORIES:Ladies fellowship,Men's Fellowship
END:VEVENT
BEGIN:VEVENT
DTSTART;TZID=Australia/Sydney:20240825T100000
DTEND;TZID=Australia/Sydney:20240825T113000
DTSTAMP:20260425T233610
CREATED:20240823T042424Z
LAST-MODIFIED:20240826T075724Z
UID:10864-1724580000-1724585400@belconnen.lutheran.org.au
SUMMARY:Worship with Holy Communion
DESCRIPTION:Please join us for  Worship every Sunday at 10.00 am \nWorship with Holy Communion is  held every Sunday morning at 10.00 am \nGuidelines in relation to Covid safe behaviours are followed. \n \nOur Bulletin for this week may be read here
URL:https://belconnen.lutheran.org.au/event/worship-with-holy-communion-2022-01-30-2022-02-20-2022-07-10-2022-11-27-2023-01-01-2023-07-16-2023-07-23-2023-12-31-2024-08-25/
LOCATION:Holy Cross Lutheran Church\, 9 Emu Bank\, Belconnen\, ACT\, 2616\, Australia
CATEGORIES:Worship
ATTACH;FMTTYPE=image/jpeg:https://belconnen.lutheran.org.au/wp-content/uploads/sites/194/2018/03/HCB3-Copy.jpg
ORGANIZER;CN="Pastor Darren Jaensch":MAILTO:darren.jaensch@lca.org.au
GEO:-35.2396675;149.07367
X-APPLE-STRUCTURED-LOCATION;VALUE=URI;X-ADDRESS=Holy Cross Lutheran Church 9 Emu Bank Belconnen ACT 2616 Australia;X-APPLE-RADIUS=500;X-TITLE=9 Emu Bank:geo:149.07367,-35.2396675
END:VEVENT
BEGIN:VEVENT
DTSTART;TZID=Australia/Sydney:20240827T100000
DTEND;TZID=Australia/Sydney:20240827T120000
DTSTAMP:20260425T233610
CREATED:20221119T080803Z
LAST-MODIFIED:20221119T080803Z
UID:11057-1724752800-1724760000@belconnen.lutheran.org.au
SUMMARY:Playgroup
DESCRIPTION:Playgroup meets each Tuesday and Friday from 10.00 am to 12.00pm \n \n 
URL:https://belconnen.lutheran.org.au/event/playgroup-2/2024-08-27/
LOCATION:Holy Cross Lutheran Church\, 9 Emu Bank\, Belconnen\, ACT\, 2616\, Australia
ATTACH;FMTTYPE=image/jpeg:https://belconnen.lutheran.org.au/wp-content/uploads/sites/194/2022/11/play-e1674968560858.jpg
GEO:-35.2396675;149.07367
X-APPLE-STRUCTURED-LOCATION;VALUE=URI;X-ADDRESS=Holy Cross Lutheran Church 9 Emu Bank Belconnen ACT 2616 Australia;X-APPLE-RADIUS=500;X-TITLE=9 Emu Bank:geo:149.07367,-35.2396675
END:VEVENT
BEGIN:VEVENT
DTSTART;TZID=Australia/Sydney:20240829T093000
DTEND;TZID=Australia/Sydney:20240829T113000
DTSTAMP:20260425T233610
CREATED:20240110T055938Z
LAST-MODIFIED:20241122T040451Z
UID:12019-1724923800-1724931000@belconnen.lutheran.org.au
SUMMARY:Sing Australia
DESCRIPTION:Sing Australia Belconnen Choir meets at 9.30 am each Thursday. For further information see https://www.singaustralia.com.au/sing-australia-groups/
URL:https://belconnen.lutheran.org.au/event/sing-australia-2/2024-08-29/
CATEGORIES:External Hire
END:VEVENT
BEGIN:VEVENT
DTSTART;TZID=Australia/Sydney:20240830T100000
DTEND;TZID=Australia/Sydney:20240830T120000
DTSTAMP:20260425T233610
CREATED:20240110T034829Z
LAST-MODIFIED:20240122T103339Z
UID:10909-1725012000-1725019200@belconnen.lutheran.org.au
SUMMARY:Playgroup
DESCRIPTION:Playgroup meets each Tuesday and Friday from 10.00 am to 12.00pm
URL:https://belconnen.lutheran.org.au/event/playgroup-3/2024-08-30/
LOCATION:Holy Cross Lutheran Church\, 9 Emu Bank\, Belconnen\, ACT\, 2616\, Australia
CATEGORIES:Children
ATTACH;FMTTYPE=image/jpeg:https://belconnen.lutheran.org.au/wp-content/uploads/sites/194/2022/11/play-e1674968560858.jpg
GEO:-35.2396675;149.07367
X-APPLE-STRUCTURED-LOCATION;VALUE=URI;X-ADDRESS=Holy Cross Lutheran Church 9 Emu Bank Belconnen ACT 2616 Australia;X-APPLE-RADIUS=500;X-TITLE=9 Emu Bank:geo:149.07367,-35.2396675
END:VEVENT
BEGIN:VEVENT
DTSTART;TZID=Australia/Sydney:20240901T100000
DTEND;TZID=Australia/Sydney:20240901T113000
DTSTAMP:20260425T233610
CREATED:20240901T061424Z
LAST-MODIFIED:20240901T061506Z
UID:10865-1725184800-1725190200@belconnen.lutheran.org.au
SUMMARY:Worship with Holy Communion
DESCRIPTION:Please join us for  Worship every Sunday at 10.00 am \nWorship with Holy Communion is  held every Sunday morning at 10.00 am \nGuidelines in relation to Covid safe behaviours are followed. \n \nOur Bulletin for this week may be read here
URL:https://belconnen.lutheran.org.au/event/worship-with-holy-communion-2022-01-30-2022-02-20-2022-07-10-2022-11-27-2023-01-01-2023-07-16-2023-07-23-2023-12-31-2024-09-01/
LOCATION:Holy Cross Lutheran Church\, 9 Emu Bank\, Belconnen\, ACT\, 2616\, Australia
CATEGORIES:Worship
ATTACH;FMTTYPE=image/jpeg:https://belconnen.lutheran.org.au/wp-content/uploads/sites/194/2018/03/HCB3-Copy.jpg
ORGANIZER;CN="Pastor Darren Jaensch":MAILTO:darren.jaensch@lca.org.au
GEO:-35.2396675;149.07367
X-APPLE-STRUCTURED-LOCATION;VALUE=URI;X-ADDRESS=Holy Cross Lutheran Church 9 Emu Bank Belconnen ACT 2616 Australia;X-APPLE-RADIUS=500;X-TITLE=9 Emu Bank:geo:149.07367,-35.2396675
END:VEVENT
END:VCALENDAR