BEGIN:VCALENDAR
VERSION:2.0
PRODID:-//Belconnen Holy Cross Congregation, ACT - ECPv6.8.1//NONSGML v1.0//EN
CALSCALE:GREGORIAN
METHOD:PUBLISH
X-WR-CALNAME:Belconnen Holy Cross Congregation, ACT
X-ORIGINAL-URL:https://belconnen.lutheran.org.au
X-WR-CALDESC:Events for Belconnen Holy Cross Congregation, ACT
REFRESH-INTERVAL;VALUE=DURATION:PT1H
X-Robots-Tag:noindex
X-PUBLISHED-TTL:PT1H
BEGIN:VTIMEZONE
TZID:Australia/Sydney
BEGIN:STANDARD
TZOFFSETFROM:+1100
TZOFFSETTO:+1000
TZNAME:AEST
DTSTART:20240406T160000
END:STANDARD
BEGIN:DAYLIGHT
TZOFFSETFROM:+1000
TZOFFSETTO:+1100
TZNAME:AEDT
DTSTART:20241005T160000
END:DAYLIGHT
END:VTIMEZONE
BEGIN:VEVENT
DTSTART;TZID=Australia/Sydney:20241223T100000
DTEND;TZID=Australia/Sydney:20241223T140000
DTSTAMP:20260424T032949
CREATED:20240110T053013Z
LAST-MODIFIED:20241216T061750Z
UID:11406-1734948000-1734962400@belconnen.lutheran.org.au
SUMMARY:NDIS Support Group
DESCRIPTION:A support group for disabled individuals conducted by Disability Aging and Community Care Services. \n\n\nIf you need help or information simply contact DAACCS \n\n\n\nADDRESS:  G04 120 Eastern Valley Way\, Belconnen\, ACT 2617\nPHONE:  (02) 8004 8412\nEMAIL: admin@daaccs.com.au
URL:https://belconnen.lutheran.org.au/event/ndis-support-group-2024-12-23/
LOCATION:Holy Cross Lutheran Church\, 9 Emu Bank\, Belconnen\, ACT\, 2616\, Australia
CATEGORIES:External Hire
GEO:-35.2396675;149.07367
X-APPLE-STRUCTURED-LOCATION;VALUE=URI;X-ADDRESS=Holy Cross Lutheran Church 9 Emu Bank Belconnen ACT 2616 Australia;X-APPLE-RADIUS=500;X-TITLE=9 Emu Bank:geo:149.07367,-35.2396675
END:VEVENT
BEGIN:VEVENT
DTSTART;TZID=Australia/Sydney:20241222T100000
DTEND;TZID=Australia/Sydney:20241222T113000
DTSTAMP:20260424T032949
CREATED:20241229T022228Z
LAST-MODIFIED:20241229T022258Z
UID:13272-1734861600-1734867000@belconnen.lutheran.org.au
SUMMARY:Worship with Holy Communion
DESCRIPTION:Please join us for  Worship every Sunday at 10.00 am \nWorship with Holy Communion is  held every Sunday morning at 10.00 am \nGuidelines in relation to Covid safe behaviours are followed. \n \nOur Bulletin for this week may be read here
URL:https://belconnen.lutheran.org.au/event/worship-with-holy-communion/
LOCATION:Holy Cross Lutheran Church\, 9 Emu Bank\, Belconnen\, ACT\, 2616\, Australia
ORGANIZER;CN="Pastor Darren Jaensch":MAILTO:darren.jaensch@lca.org.au
GEO:-35.2396675;149.07367
X-APPLE-STRUCTURED-LOCATION;VALUE=URI;X-ADDRESS=Holy Cross Lutheran Church 9 Emu Bank Belconnen ACT 2616 Australia;X-APPLE-RADIUS=500;X-TITLE=9 Emu Bank:geo:149.07367,-35.2396675
END:VEVENT
BEGIN:VEVENT
DTSTART;TZID=Australia/Sydney:20241221T170000
DTEND;TZID=Australia/Sydney:20241221T210000
DTSTAMP:20260424T032949
CREATED:20240107T030633Z
LAST-MODIFIED:20240107T030633Z
UID:11125-1734800400-1734814800@belconnen.lutheran.org.au
SUMMARY:Canberra Telugu Christian Fellowship
DESCRIPTION:The Canberra Telugu Christian Fellowship meets at Holy Cross in the evening of the third Saturday of each month
URL:https://belconnen.lutheran.org.au/event/canberra-telugu-christian-fellowship/2024-12-21/
END:VEVENT
BEGIN:VEVENT
DTSTART;TZID=Australia/Sydney:20241220T100000
DTEND;TZID=Australia/Sydney:20241220T120000
DTSTAMP:20260424T032949
CREATED:20240110T034829Z
LAST-MODIFIED:20241216T061216Z
UID:11080-1734688800-1734696000@belconnen.lutheran.org.au
SUMMARY:Playgroup
DESCRIPTION:Playgroup meets each Tuesday and Friday from 10.00 am to 12.00pm \nPLaygroup has concluded for 2024 and will recommence in February 2025
URL:https://belconnen.lutheran.org.au/event/playgroup-3-2024-12-20/
LOCATION:Holy Cross Lutheran Church\, 9 Emu Bank\, Belconnen\, ACT\, 2616\, Australia
CATEGORIES:Children
ATTACH;FMTTYPE=image/jpeg:https://belconnen.lutheran.org.au/wp-content/uploads/sites/194/2022/11/play-e1674968560858.jpg
GEO:-35.2396675;149.07367
X-APPLE-STRUCTURED-LOCATION;VALUE=URI;X-ADDRESS=Holy Cross Lutheran Church 9 Emu Bank Belconnen ACT 2616 Australia;X-APPLE-RADIUS=500;X-TITLE=9 Emu Bank:geo:149.07367,-35.2396675
END:VEVENT
BEGIN:VEVENT
DTSTART;TZID=Australia/Sydney:20241218T183000
DTEND;TZID=Australia/Sydney:20241218T210000
DTSTAMP:20260424T032949
CREATED:20241127T091122Z
LAST-MODIFIED:20241127T091122Z
UID:12513-1734546600-1734555600@belconnen.lutheran.org.au
SUMMARY:Craft Fellowship Group
DESCRIPTION:Join Deborah’s craft fellowship – 6:30pm Wednesday nights in December @ Holy Cross meeting room
URL:https://belconnen.lutheran.org.au/event/craft-fellowship-group/2024-12-18/
LOCATION:Meeting Room at Holy Cross
CATEGORIES:Ladies fellowship
END:VEVENT
BEGIN:VEVENT
DTSTART;TZID=Australia/Sydney:20241218T100000
DTEND;TZID=Australia/Sydney:20241218T140000
DTSTAMP:20260424T032949
CREATED:20240110T053551Z
LAST-MODIFIED:20240110T053551Z
UID:12821-1734516000-1734530400@belconnen.lutheran.org.au
SUMMARY:NDIS Support Group
DESCRIPTION:A support group for disabled individuals conducted by Disability Aging and Community Care Services. \n\n\nIf you need help or information simply contact DAACCS \n\n\n\nADDRESS:  G04 120 Eastern Valley Way\, Belconnen\, ACT 2617\nPHONE:  (02) 8004 8412\nEMAIL: admin@daaccs.com.au
URL:https://belconnen.lutheran.org.au/event/ndis-support-group-2-2024-12-11/2024-12-18/
LOCATION:Holy Cross Lutheran Church\, 9 Emu Bank\, Belconnen\, ACT\, 2616\, Australia
CATEGORIES:External Hire
GEO:-35.2396675;149.07367
X-APPLE-STRUCTURED-LOCATION;VALUE=URI;X-ADDRESS=Holy Cross Lutheran Church 9 Emu Bank Belconnen ACT 2616 Australia;X-APPLE-RADIUS=500;X-TITLE=9 Emu Bank:geo:149.07367,-35.2396675
END:VEVENT
BEGIN:VEVENT
DTSTART;TZID=Australia/Sydney:20241218T080000
DTEND;TZID=Australia/Sydney:20241231T170000
DTSTAMP:20260424T032949
CREATED:20240110T063231Z
LAST-MODIFIED:20240110T063231Z
UID:11358-1734508800-1735664400@belconnen.lutheran.org.au
SUMMARY:School Holidays
DESCRIPTION:School holidays
URL:https://belconnen.lutheran.org.au/event/school-holidays-5/
END:VEVENT
BEGIN:VEVENT
DTSTART;TZID=Australia/Sydney:20241217T100000
DTEND;TZID=Australia/Sydney:20241217T120000
DTSTAMP:20260424T032949
CREATED:20221119T080803Z
LAST-MODIFIED:20241216T061425Z
UID:11079-1734429600-1734436800@belconnen.lutheran.org.au
SUMMARY:Playgroup
DESCRIPTION:Playgroup meets each Tuesday and Friday from 10.00 am to 12.00pm \nPlaygroup has concluded for 2024 and will recommence in February 2025 \n \n 
URL:https://belconnen.lutheran.org.au/event/playgroup-2-2024-12-17/
LOCATION:Holy Cross Lutheran Church\, 9 Emu Bank\, Belconnen\, ACT\, 2616\, Australia
ATTACH;FMTTYPE=image/jpeg:https://belconnen.lutheran.org.au/wp-content/uploads/sites/194/2022/11/play-e1674968560858.jpg
GEO:-35.2396675;149.07367
X-APPLE-STRUCTURED-LOCATION;VALUE=URI;X-ADDRESS=Holy Cross Lutheran Church 9 Emu Bank Belconnen ACT 2616 Australia;X-APPLE-RADIUS=500;X-TITLE=9 Emu Bank:geo:149.07367,-35.2396675
END:VEVENT
BEGIN:VEVENT
DTSTART;TZID=Australia/Sydney:20241215T100000
DTEND;TZID=Australia/Sydney:20241215T113000
DTSTAMP:20260424T032949
CREATED:20241213T013624Z
LAST-MODIFIED:20241215T040306Z
UID:10880-1734256800-1734262200@belconnen.lutheran.org.au
SUMMARY:Worship with Holy Communion
DESCRIPTION:Please join us for  Worship every Sunday at 10.00 am \nWorship with Holy Communion is  held every Sunday morning at 10.00 am \nGuidelines in relation to Covid safe behaviours are followed. \n \nOur Bulletin for this week may be read here
URL:https://belconnen.lutheran.org.au/event/worship-with-holy-communion-2022-01-30-2022-02-20-2022-07-10-2022-11-27-2023-01-01-2023-07-16-2023-07-23-2023-12-31-2024-12-15/
LOCATION:Holy Cross Lutheran Church\, 9 Emu Bank\, Belconnen\, ACT\, 2616\, Australia
CATEGORIES:Worship
ATTACH;FMTTYPE=image/jpeg:https://belconnen.lutheran.org.au/wp-content/uploads/sites/194/2018/03/HCB3-Copy.jpg
ORGANIZER;CN="Pastor Darren Jaensch":MAILTO:darren.jaensch@lca.org.au
GEO:-35.2396675;149.07367
X-APPLE-STRUCTURED-LOCATION;VALUE=URI;X-ADDRESS=Holy Cross Lutheran Church 9 Emu Bank Belconnen ACT 2616 Australia;X-APPLE-RADIUS=500;X-TITLE=9 Emu Bank:geo:149.07367,-35.2396675
END:VEVENT
BEGIN:VEVENT
DTSTART;TZID=Australia/Sydney:20241214T170000
DTEND;TZID=Australia/Sydney:20241214T200000
DTSTAMP:20260424T032949
CREATED:20240107T032004Z
LAST-MODIFIED:20240107T032004Z
UID:12611-1734195600-1734206400@belconnen.lutheran.org.au
SUMMARY:ACT Telugu Christian Fellowship (ACTCF)
DESCRIPTION:The ACT Telugu Christian Fellowship meets at Holy Cross on then second saturday of each month
URL:https://belconnen.lutheran.org.au/event/act-telugu-christian-fellowship-actcf/2024-12-14/
LOCATION:Holy Cross Lutheran Church\, 9 Emu Bank\, Belconnen\, ACT\, 2616\, Australia
ORGANIZER;CN="Vinod Kaki":MAILTO:actchristiantelugufellowship@gmail.com
GEO:-35.2396675;149.07367
X-APPLE-STRUCTURED-LOCATION;VALUE=URI;X-ADDRESS=Holy Cross Lutheran Church 9 Emu Bank Belconnen ACT 2616 Australia;X-APPLE-RADIUS=500;X-TITLE=9 Emu Bank:geo:149.07367,-35.2396675
END:VEVENT
BEGIN:VEVENT
DTSTART;TZID=Australia/Sydney:20241213T100000
DTEND;TZID=Australia/Sydney:20241213T120000
DTSTAMP:20260424T032949
CREATED:20240110T034829Z
LAST-MODIFIED:20240122T103403Z
UID:10924-1734084000-1734091200@belconnen.lutheran.org.au
SUMMARY:Playgroup
DESCRIPTION:Playgroup meets each Tuesday and Friday from 10.00 am to 12.00pm
URL:https://belconnen.lutheran.org.au/event/playgroup-3/2024-12-13/
LOCATION:Holy Cross Lutheran Church\, 9 Emu Bank\, Belconnen\, ACT\, 2616\, Australia
CATEGORIES:Children
ATTACH;FMTTYPE=image/jpeg:https://belconnen.lutheran.org.au/wp-content/uploads/sites/194/2022/11/play-e1674968560858.jpg
GEO:-35.2396675;149.07367
X-APPLE-STRUCTURED-LOCATION;VALUE=URI;X-ADDRESS=Holy Cross Lutheran Church 9 Emu Bank Belconnen ACT 2616 Australia;X-APPLE-RADIUS=500;X-TITLE=9 Emu Bank:geo:149.07367,-35.2396675
END:VEVENT
BEGIN:VEVENT
DTSTART;TZID=Australia/Sydney:20241212T093000
DTEND;TZID=Australia/Sydney:20241212T113000
DTSTAMP:20260424T032949
CREATED:20240110T055938Z
LAST-MODIFIED:20241122T035425Z
UID:12034-1733995800-1734003000@belconnen.lutheran.org.au
SUMMARY:Sing Australia
DESCRIPTION:Sing Australia Belconnen Choir meets at 9.30 am each Thursday. For further information see https://www.singaustralia.com.au/sing-australia-groups/ \nToday is the last session for 2024. We will rersume on 6 February 2025.
URL:https://belconnen.lutheran.org.au/event/sing-australia-2-2024-12-12/
CATEGORIES:External Hire
END:VEVENT
BEGIN:VEVENT
DTSTART;TZID=Australia/Sydney:20241211T183000
DTEND;TZID=Australia/Sydney:20241211T210000
DTSTAMP:20260424T032949
CREATED:20241127T091122Z
LAST-MODIFIED:20241127T091122Z
UID:12512-1733941800-1733950800@belconnen.lutheran.org.au
SUMMARY:Craft Fellowship Group
DESCRIPTION:Join Deborah’s craft fellowship – 6:30pm Wednesday nights in December @ Holy Cross meeting room
URL:https://belconnen.lutheran.org.au/event/craft-fellowship-group/2024-12-11/
LOCATION:Meeting Room at Holy Cross
CATEGORIES:Ladies fellowship
END:VEVENT
BEGIN:VEVENT
DTSTART;TZID=Australia/Sydney:20241211T100000
DTEND;TZID=Australia/Sydney:20241211T140000
DTSTAMP:20260424T032949
CREATED:20240110T053551Z
LAST-MODIFIED:20241216T063735Z
UID:11282-1733911200-1733925600@belconnen.lutheran.org.au
SUMMARY:NDIS Support Group
DESCRIPTION:A support group for disabled individuals conducted by Disability Aging and Community Care Services. \n\n\nIf you need help or information simply contact DAACCS \n\n\n\nADDRESS:  G04 120 Eastern Valley Way\, Belconnen\, ACT 2617\nPHONE:  (02) 8004 8412\nEMAIL: admin@daaccs.com.au
URL:https://belconnen.lutheran.org.au/event/ndis-support-group-2-2024-12-11/
LOCATION:Holy Cross Lutheran Church\, 9 Emu Bank\, Belconnen\, ACT\, 2616\, Australia
CATEGORIES:External Hire
GEO:-35.2396675;149.07367
X-APPLE-STRUCTURED-LOCATION;VALUE=URI;X-ADDRESS=Holy Cross Lutheran Church 9 Emu Bank Belconnen ACT 2616 Australia;X-APPLE-RADIUS=500;X-TITLE=9 Emu Bank:geo:149.07367,-35.2396675
END:VEVENT
BEGIN:VEVENT
DTSTART;TZID=Australia/Sydney:20241210T100000
DTEND;TZID=Australia/Sydney:20241210T120000
DTSTAMP:20260424T032949
CREATED:20240407T035135Z
LAST-MODIFIED:20240407T035213Z
UID:11770-1733824800-1733832000@belconnen.lutheran.org.au
SUMMARY:Ladies Fellowship
DESCRIPTION:Our ladies get together for fellowship and discussion
URL:https://belconnen.lutheran.org.au/event/ladies-fellowship/2024-12-10/
LOCATION:Holy Cross Lutheran Church\, 9 Emu Bank\, Belconnen\, ACT\, 2616\, Australia
CATEGORIES:Ladies fellowship
GEO:-35.2396675;149.07367
X-APPLE-STRUCTURED-LOCATION;VALUE=URI;X-ADDRESS=Holy Cross Lutheran Church 9 Emu Bank Belconnen ACT 2616 Australia;X-APPLE-RADIUS=500;X-TITLE=9 Emu Bank:geo:149.07367,-35.2396675
END:VEVENT
BEGIN:VEVENT
DTSTART;TZID=Australia/Sydney:20241210T100000
DTEND;TZID=Australia/Sydney:20241210T120000
DTSTAMP:20260424T032949
CREATED:20221119T080803Z
LAST-MODIFIED:20221119T080803Z
UID:11072-1733824800-1733832000@belconnen.lutheran.org.au
SUMMARY:Playgroup
DESCRIPTION:Playgroup meets each Tuesday and Friday from 10.00 am to 12.00pm \n \n 
URL:https://belconnen.lutheran.org.au/event/playgroup-2/2024-12-10/
LOCATION:Holy Cross Lutheran Church\, 9 Emu Bank\, Belconnen\, ACT\, 2616\, Australia
ATTACH;FMTTYPE=image/jpeg:https://belconnen.lutheran.org.au/wp-content/uploads/sites/194/2022/11/play-e1674968560858.jpg
GEO:-35.2396675;149.07367
X-APPLE-STRUCTURED-LOCATION;VALUE=URI;X-ADDRESS=Holy Cross Lutheran Church 9 Emu Bank Belconnen ACT 2616 Australia;X-APPLE-RADIUS=500;X-TITLE=9 Emu Bank:geo:149.07367,-35.2396675
END:VEVENT
BEGIN:VEVENT
DTSTART;TZID=Australia/Sydney:20241209T193000
DTEND;TZID=Australia/Sydney:20241209T213000
DTSTAMP:20260424T032949
CREATED:20240114T031834Z
LAST-MODIFIED:20240114T031834Z
UID:11452-1733772600-1733779800@belconnen.lutheran.org.au
SUMMARY:Deacons Meeting (Church Council)
DESCRIPTION:Our Deacons meet at 7.30 pm
URL:https://belconnen.lutheran.org.au/event/deacons-meeting-church-council/2024-12-09/
LOCATION:Holy Cross Lutheran Church\, 9 Emu Bank\, Belconnen\, ACT\, 2616\, Australia
CATEGORIES:Meeting
GEO:-35.2396675;149.07367
X-APPLE-STRUCTURED-LOCATION;VALUE=URI;X-ADDRESS=Holy Cross Lutheran Church 9 Emu Bank Belconnen ACT 2616 Australia;X-APPLE-RADIUS=500;X-TITLE=9 Emu Bank:geo:149.07367,-35.2396675
END:VEVENT
BEGIN:VEVENT
DTSTART;TZID=Australia/Sydney:20241208T080000
DTEND;TZID=Australia/Sydney:20241208T170000
DTSTAMP:20260424T032949
CREATED:20240114T032901Z
LAST-MODIFIED:20240114T032901Z
UID:11462-1733644800-1733677200@belconnen.lutheran.org.au
SUMMARY:End of Year (Half Yearly) General Meeting
DESCRIPTION:Our End of Year (Half Yearly) general meeting will be held after today’s service at approx 11.30 am
URL:https://belconnen.lutheran.org.au/event/end-of-year-half-yearly-general-meeting/
LOCATION:Holy Cross Lutheran Church\, 9 Emu Bank\, Belconnen\, ACT\, 2616\, Australia
CATEGORIES:Meeting
GEO:-35.2396675;149.07367
X-APPLE-STRUCTURED-LOCATION;VALUE=URI;X-ADDRESS=Holy Cross Lutheran Church 9 Emu Bank Belconnen ACT 2616 Australia;X-APPLE-RADIUS=500;X-TITLE=9 Emu Bank:geo:149.07367,-35.2396675
END:VEVENT
BEGIN:VEVENT
DTSTART;TZID=Australia/Sydney:20241206T100000
DTEND;TZID=Australia/Sydney:20241206T120000
DTSTAMP:20260424T032949
CREATED:20240110T034829Z
LAST-MODIFIED:20240122T103401Z
UID:10923-1733479200-1733486400@belconnen.lutheran.org.au
SUMMARY:Playgroup
DESCRIPTION:Playgroup meets each Tuesday and Friday from 10.00 am to 12.00pm
URL:https://belconnen.lutheran.org.au/event/playgroup-3/2024-12-06/
LOCATION:Holy Cross Lutheran Church\, 9 Emu Bank\, Belconnen\, ACT\, 2616\, Australia
CATEGORIES:Children
ATTACH;FMTTYPE=image/jpeg:https://belconnen.lutheran.org.au/wp-content/uploads/sites/194/2022/11/play-e1674968560858.jpg
GEO:-35.2396675;149.07367
X-APPLE-STRUCTURED-LOCATION;VALUE=URI;X-ADDRESS=Holy Cross Lutheran Church 9 Emu Bank Belconnen ACT 2616 Australia;X-APPLE-RADIUS=500;X-TITLE=9 Emu Bank:geo:149.07367,-35.2396675
END:VEVENT
BEGIN:VEVENT
DTSTART;TZID=Australia/Sydney:20241205T093000
DTEND;TZID=Australia/Sydney:20241205T113000
DTSTAMP:20260424T032949
CREATED:20240110T055938Z
LAST-MODIFIED:20241122T040953Z
UID:12033-1733391000-1733398200@belconnen.lutheran.org.au
SUMMARY:Sing Australia
DESCRIPTION:Sing Australia Belconnen Choir meets at 9.30 am each Thursday. For further information see https://www.singaustralia.com.au/sing-australia-groups/
URL:https://belconnen.lutheran.org.au/event/sing-australia-2/2024-12-05/
CATEGORIES:External Hire
END:VEVENT
BEGIN:VEVENT
DTSTART;TZID=Australia/Sydney:20241204T200000
DTEND;TZID=Australia/Sydney:20241204T220000
DTSTAMP:20260424T032949
CREATED:20240110T002718Z
LAST-MODIFIED:20241113T084002Z
UID:11216-1733342400-1733349600@belconnen.lutheran.org.au
SUMMARY:Men's Fellowship Group
DESCRIPTION:Men’s Group meets in the evening in the homes of members of the Group. Selected and varied topics are studied and discussed and hospitality shared.  See the weekly bulletin for the time and place of the next meeting or contact the office.
URL:https://belconnen.lutheran.org.au/event/mens-fellowship-group-2-2024-12-04/
CATEGORIES:Men's Fellowship
END:VEVENT
BEGIN:VEVENT
DTSTART;TZID=Australia/Sydney:20241204T183000
DTEND;TZID=Australia/Sydney:20241204T210000
DTSTAMP:20260424T032949
CREATED:20241127T091122Z
LAST-MODIFIED:20241127T091122Z
UID:12511-1733337000-1733346000@belconnen.lutheran.org.au
SUMMARY:Craft Fellowship Group
DESCRIPTION:Join Deborah’s craft fellowship – 6:30pm Wednesday nights in December @ Holy Cross meeting room
URL:https://belconnen.lutheran.org.au/event/craft-fellowship-group/2024-12-04/
LOCATION:Meeting Room at Holy Cross
CATEGORIES:Ladies fellowship
END:VEVENT
BEGIN:VEVENT
DTSTART;TZID=Australia/Sydney:20241203T123000
DTEND;TZID=Australia/Sydney:20241203T140000
DTSTAMP:20260424T032949
CREATED:20240327T060925Z
LAST-MODIFIED:20240327T060925Z
UID:11736-1733229000-1733234400@belconnen.lutheran.org.au
SUMMARY:Family Support Group
DESCRIPTION:meets at 12.30pm on the first Tuesday of each month. \nFor info contact Sara  0403404571
URL:https://belconnen.lutheran.org.au/event/family-support-group/2024-12-03/
LOCATION:Meeting Room at Holy Cross
CATEGORIES:External Hire
END:VEVENT
BEGIN:VEVENT
DTSTART;TZID=Australia/Sydney:20241203T100000
DTEND;TZID=Australia/Sydney:20241203T120000
DTSTAMP:20260424T032949
CREATED:20221119T080803Z
LAST-MODIFIED:20221119T080803Z
UID:11071-1733220000-1733227200@belconnen.lutheran.org.au
SUMMARY:Playgroup
DESCRIPTION:Playgroup meets each Tuesday and Friday from 10.00 am to 12.00pm \n \n 
URL:https://belconnen.lutheran.org.au/event/playgroup-2/2024-12-03/
LOCATION:Holy Cross Lutheran Church\, 9 Emu Bank\, Belconnen\, ACT\, 2616\, Australia
ATTACH;FMTTYPE=image/jpeg:https://belconnen.lutheran.org.au/wp-content/uploads/sites/194/2022/11/play-e1674968560858.jpg
GEO:-35.2396675;149.07367
X-APPLE-STRUCTURED-LOCATION;VALUE=URI;X-ADDRESS=Holy Cross Lutheran Church 9 Emu Bank Belconnen ACT 2616 Australia;X-APPLE-RADIUS=500;X-TITLE=9 Emu Bank:geo:149.07367,-35.2396675
END:VEVENT
BEGIN:VEVENT
DTSTART;TZID=Australia/Sydney:20241201T100000
DTEND;TZID=Australia/Sydney:20241201T113000
DTSTAMP:20260424T032949
CREATED:20241129T033524Z
LAST-MODIFIED:20241201T051309Z
UID:10878-1733047200-1733052600@belconnen.lutheran.org.au
SUMMARY:Worship with Holy Communion
DESCRIPTION:Please join us for  Worship every Sunday at 10.00 am \nWorship with Holy Communion is  held every Sunday morning at 10.00 am \nGuidelines in relation to Covid safe behaviours are followed. \n \nOur Bulletin for this week may be read here
URL:https://belconnen.lutheran.org.au/event/worship-with-holy-communion-2022-01-30-2022-02-20-2022-07-10-2022-11-27-2023-01-01-2023-07-16-2023-07-23-2023-12-31-2024-12-01/
LOCATION:Holy Cross Lutheran Church\, 9 Emu Bank\, Belconnen\, ACT\, 2616\, Australia
CATEGORIES:Worship
ATTACH;FMTTYPE=image/jpeg:https://belconnen.lutheran.org.au/wp-content/uploads/sites/194/2018/03/HCB3-Copy.jpg
ORGANIZER;CN="Pastor Darren Jaensch":MAILTO:darren.jaensch@lca.org.au
GEO:-35.2396675;149.07367
X-APPLE-STRUCTURED-LOCATION;VALUE=URI;X-ADDRESS=Holy Cross Lutheran Church 9 Emu Bank Belconnen ACT 2616 Australia;X-APPLE-RADIUS=500;X-TITLE=9 Emu Bank:geo:149.07367,-35.2396675
END:VEVENT
BEGIN:VEVENT
DTSTART;TZID=Australia/Sydney:20241130T170000
DTEND;TZID=Australia/Sydney:20241130T210000
DTSTAMP:20260424T032949
CREATED:20241102T053706Z
LAST-MODIFIED:20241102T053706Z
UID:12396-1732986000-1733000400@belconnen.lutheran.org.au
SUMMARY:CTCF Christmas Gathering
DESCRIPTION:
URL:https://belconnen.lutheran.org.au/event/ctcf-christmas-gathering/
LOCATION:Holy Cross Lutheran Church\, 9 Emu Bank\, Belconnen\, ACT\, 2616\, Australia
CATEGORIES:External Hire
GEO:-35.2396675;149.07367
X-APPLE-STRUCTURED-LOCATION;VALUE=URI;X-ADDRESS=Holy Cross Lutheran Church 9 Emu Bank Belconnen ACT 2616 Australia;X-APPLE-RADIUS=500;X-TITLE=9 Emu Bank:geo:149.07367,-35.2396675
END:VEVENT
BEGIN:VEVENT
DTSTART;TZID=Australia/Sydney:20241129T100000
DTEND;TZID=Australia/Sydney:20241129T120000
DTSTAMP:20260424T032949
CREATED:20240110T034829Z
LAST-MODIFIED:20240122T103400Z
UID:10922-1732874400-1732881600@belconnen.lutheran.org.au
SUMMARY:Playgroup
DESCRIPTION:Playgroup meets each Tuesday and Friday from 10.00 am to 12.00pm
URL:https://belconnen.lutheran.org.au/event/playgroup-3/2024-11-29/
LOCATION:Holy Cross Lutheran Church\, 9 Emu Bank\, Belconnen\, ACT\, 2616\, Australia
CATEGORIES:Children
ATTACH;FMTTYPE=image/jpeg:https://belconnen.lutheran.org.au/wp-content/uploads/sites/194/2022/11/play-e1674968560858.jpg
GEO:-35.2396675;149.07367
X-APPLE-STRUCTURED-LOCATION;VALUE=URI;X-ADDRESS=Holy Cross Lutheran Church 9 Emu Bank Belconnen ACT 2616 Australia;X-APPLE-RADIUS=500;X-TITLE=9 Emu Bank:geo:149.07367,-35.2396675
END:VEVENT
BEGIN:VEVENT
DTSTART;TZID=Australia/Sydney:20241128T130000
DTEND;TZID=Australia/Sydney:20241128T150000
DTSTAMP:20260424T032949
CREATED:20240322T034321Z
LAST-MODIFIED:20241113T083714Z
UID:12062-1732798800-1732806000@belconnen.lutheran.org.au
SUMMARY:Life Drawing Workshop
DESCRIPTION:TODAY IS THE LAST WORKSHOP FOR 2024. We will be back in February 2025 \nTHE LIFE DRAWING WORKSHOP\n– Creating Better Drawings through Clarity of Thought\, Mind and Focus \nThe Life Drawing Workshop has its own new YouTube Channel.\nPlease share it to help improve the Workshop’s numbers…\nhttps://youtu.be/PP6S_Nt39fw \nAlso\, please share this Life Drawing Workshop link…\nLife Drawing Workshop Info www.pazolli.com/lifedrawing \nLIFE DRAWING WORKSHOP\, – every THURSDAY –  1pm – 3pm. \nCREATE YOUR OWN DRAWING WORLD ….. BY DOING IT YOUR WAY…\n~ only you know how to find your creative pathway to better drawing. \nAthina Pazolli\nArtist; Painting; Drawing\nm: 0414 271311\ne: athina@pazolli.com\nart: www.pazolli.com\nDraw: www.pazolli.com/lifedrawing\nfb art: www.facebook.com/athina.pazolli\nfb draw: facebook.com/groups/2246575525649553/
URL:https://belconnen.lutheran.org.au/event/life-drawing-workshop-2-2024-11-28/
CATEGORIES:External Hire
END:VEVENT
BEGIN:VEVENT
DTSTART;TZID=Australia/Sydney:20241128T093000
DTEND;TZID=Australia/Sydney:20241128T113000
DTSTAMP:20260424T032949
CREATED:20240110T055938Z
LAST-MODIFIED:20241122T040951Z
UID:12032-1732786200-1732793400@belconnen.lutheran.org.au
SUMMARY:Sing Australia
DESCRIPTION:Sing Australia Belconnen Choir meets at 9.30 am each Thursday. For further information see https://www.singaustralia.com.au/sing-australia-groups/
URL:https://belconnen.lutheran.org.au/event/sing-australia-2/2024-11-28/
CATEGORIES:External Hire
END:VEVENT
BEGIN:VEVENT
DTSTART;TZID=Australia/Sydney:20241126T100000
DTEND;TZID=Australia/Sydney:20241126T120000
DTSTAMP:20260424T032949
CREATED:20221119T080803Z
LAST-MODIFIED:20221119T080803Z
UID:11070-1732615200-1732622400@belconnen.lutheran.org.au
SUMMARY:Playgroup
DESCRIPTION:Playgroup meets each Tuesday and Friday from 10.00 am to 12.00pm \n \n 
URL:https://belconnen.lutheran.org.au/event/playgroup-2/2024-11-26/
LOCATION:Holy Cross Lutheran Church\, 9 Emu Bank\, Belconnen\, ACT\, 2616\, Australia
ATTACH;FMTTYPE=image/jpeg:https://belconnen.lutheran.org.au/wp-content/uploads/sites/194/2022/11/play-e1674968560858.jpg
GEO:-35.2396675;149.07367
X-APPLE-STRUCTURED-LOCATION;VALUE=URI;X-ADDRESS=Holy Cross Lutheran Church 9 Emu Bank Belconnen ACT 2616 Australia;X-APPLE-RADIUS=500;X-TITLE=9 Emu Bank:geo:149.07367,-35.2396675
END:VEVENT
END:VCALENDAR