BEGIN:VCALENDAR
VERSION:2.0
PRODID:-//Belconnen Holy Cross Congregation, ACT - ECPv6.8.1//NONSGML v1.0//EN
CALSCALE:GREGORIAN
METHOD:PUBLISH
X-ORIGINAL-URL:https://belconnen.lutheran.org.au
X-WR-CALDESC:Events for Belconnen Holy Cross Congregation, ACT
REFRESH-INTERVAL;VALUE=DURATION:PT1H
X-Robots-Tag:noindex
X-PUBLISHED-TTL:PT1H
BEGIN:VTIMEZONE
TZID:Australia/Sydney
BEGIN:STANDARD
TZOFFSETFROM:+1100
TZOFFSETTO:+1000
TZNAME:AEST
DTSTART:20250405T160000
END:STANDARD
BEGIN:DAYLIGHT
TZOFFSETFROM:+1000
TZOFFSETTO:+1100
TZNAME:AEDT
DTSTART:20251004T160000
END:DAYLIGHT
END:VTIMEZONE
BEGIN:VEVENT
DTSTART;TZID=Australia/Sydney:20250216T130000
DTEND;TZID=Australia/Sydney:20250216T153000
DTSTAMP:20260423T205635
CREATED:20251224T051904Z
LAST-MODIFIED:20251224T051959Z
UID:12991-1739710800-1739719800@belconnen.lutheran.org.au
SUMMARY:Free Wesleyan Church of Tonga
DESCRIPTION:The Free Wesleyan Church of Tonga worships at Holy Cross each Sunday at 1.00 pm \nFurther information contact 0499868628
URL:https://belconnen.lutheran.org.au/event/free-wesleyan-church-of-tonga-2/2025-02-16/
LOCATION:Holy Cross Lutheran Church\, 9 Emu Bank\, Belconnen\, ACT\, 2616\, Australia
CATEGORIES:External Hire
GEO:-35.2396675;149.07367
X-APPLE-STRUCTURED-LOCATION;VALUE=URI;X-ADDRESS=Holy Cross Lutheran Church 9 Emu Bank Belconnen ACT 2616 Australia;X-APPLE-RADIUS=500;X-TITLE=9 Emu Bank:geo:149.07367,-35.2396675
END:VEVENT
BEGIN:VEVENT
DTSTART;TZID=Australia/Sydney:20250216T100000
DTEND;TZID=Australia/Sydney:20250216T113000
DTSTAMP:20260423T205635
CREATED:20250214T045324Z
LAST-MODIFIED:20250217T062818Z
UID:12524-1739700000-1739705400@belconnen.lutheran.org.au
SUMMARY:Worship with Holy Communion
DESCRIPTION:Please join us for  Worship every Sunday at 10.00 am \nWorship with Holy Communion is  held every Sunday morning at 10.00 am \nGuidelines in relation to Covid safe behaviours are followed. \n \nOur Bulletin for this week may be read here
URL:https://belconnen.lutheran.org.au/event/worship-with-holy-communion-2022-01-30-2022-02-20-2022-07-10-2022-11-27-2023-01-01-2023-07-16-2023-07-23-2023-12-31-2024-12-01-2025-02-16/
LOCATION:ACT
CATEGORIES:Worship
END:VEVENT
BEGIN:VEVENT
DTSTART;TZID=Australia/Sydney:20250215T170000
DTEND;TZID=Australia/Sydney:20250215T210000
DTSTAMP:20260423T205635
CREATED:20241216T075541Z
LAST-MODIFIED:20241216T075541Z
UID:13049-1739638800-1739653200@belconnen.lutheran.org.au
SUMMARY:Canberra Telugu Christian Fellowship
DESCRIPTION:The Canberra Telugu Christian Fellowship meets at Holy Cross in the evening of the third Saturday of each month
URL:https://belconnen.lutheran.org.au/event/canberra-telugu-christian-fellowship-3/2025-02-15/
LOCATION:Holy Cross Lutheran Church\, 9 Emu Bank\, Belconnen\, ACT\, 2616\, Australia
CATEGORIES:External Hire
GEO:-35.2396675;149.07367
X-APPLE-STRUCTURED-LOCATION;VALUE=URI;X-ADDRESS=Holy Cross Lutheran Church 9 Emu Bank Belconnen ACT 2616 Australia;X-APPLE-RADIUS=500;X-TITLE=9 Emu Bank:geo:149.07367,-35.2396675
END:VEVENT
BEGIN:VEVENT
DTSTART;TZID=Australia/Sydney:20250215T093000
DTEND;TZID=Australia/Sydney:20250215T143000
DTSTAMP:20260423T205635
CREATED:20251224T052219Z
LAST-MODIFIED:20251224T052224Z
UID:13065-1739611800-1739629800@belconnen.lutheran.org.au
SUMMARY:The Seeking Salvation Samoan Seventh-Day Church
DESCRIPTION:The Seeking Salvation Samoan Seventh-Day Church holds its weekly service at Holy Cross
URL:https://belconnen.lutheran.org.au/event/samoan-independent-seventh-day-adventist-church/2025-02-15/
LOCATION:Holy Cross Lutheran Church\, 9 Emu Bank\, Belconnen\, ACT\, 2616\, Australia
CATEGORIES:External Hire
GEO:-35.2396675;149.07367
X-APPLE-STRUCTURED-LOCATION;VALUE=URI;X-ADDRESS=Holy Cross Lutheran Church 9 Emu Bank Belconnen ACT 2616 Australia;X-APPLE-RADIUS=500;X-TITLE=9 Emu Bank:geo:149.07367,-35.2396675
END:VEVENT
BEGIN:VEVENT
DTSTART;TZID=Australia/Sydney:20250214T190000
DTEND;TZID=Australia/Sydney:20250214T220000
DTSTAMP:20260423T205635
CREATED:20251224T054102Z
LAST-MODIFIED:20251224T054142Z
UID:13334-1739559600-1739570400@belconnen.lutheran.org.au
SUMMARY:Free Wesleyan Church of Tonga Youth Group
DESCRIPTION:The Free Wesleyan Church of Tonga Youth Group meets weekly at Holy Cross
URL:https://belconnen.lutheran.org.au/event/free-wesleyan-church-of-tonga-youth-group-2-2025-02-14/2025-02-14/
LOCATION:Holy Cross Lutheran Church\, 9 Emu Bank\, Belconnen\, ACT\, 2616\, Australia
ORGANIZER;CN="Robert Steve Vave":MAILTO:Robertandrenata@hotmail.com
GEO:-35.2396675;149.07367
X-APPLE-STRUCTURED-LOCATION;VALUE=URI;X-ADDRESS=Holy Cross Lutheran Church 9 Emu Bank Belconnen ACT 2616 Australia;X-APPLE-RADIUS=500;X-TITLE=9 Emu Bank:geo:149.07367,-35.2396675
END:VEVENT
BEGIN:VEVENT
DTSTART;TZID=Australia/Sydney:20250214T100000
DTEND;TZID=Australia/Sydney:20250214T120000
DTSTAMP:20260423T205635
CREATED:20241216T063507Z
LAST-MODIFIED:20250131T035637Z
UID:12776-1739527200-1739534400@belconnen.lutheran.org.au
SUMMARY:Playgroup
DESCRIPTION:Playgroup meets each Tuesday and Friday from 10.00 am to 12.00pm
URL:https://belconnen.lutheran.org.au/event/playgroup-4/2025-02-14/
LOCATION:Holy Cross Lutheran Church\, 9 Emu Bank\, Belconnen\, ACT\, 2616\, Australia
CATEGORIES:Children
ATTACH;FMTTYPE=image/jpeg:https://belconnen.lutheran.org.au/wp-content/uploads/sites/194/2022/11/play-e1674968560858.jpg
GEO:-35.2396675;149.07367
X-APPLE-STRUCTURED-LOCATION;VALUE=URI;X-ADDRESS=Holy Cross Lutheran Church 9 Emu Bank Belconnen ACT 2616 Australia;X-APPLE-RADIUS=500;X-TITLE=9 Emu Bank:geo:149.07367,-35.2396675
END:VEVENT
BEGIN:VEVENT
DTSTART;TZID=Australia/Sydney:20250213T130000
DTEND;TZID=Australia/Sydney:20250213T150000
DTSTAMP:20260423T205635
CREATED:20241216T065639Z
LAST-MODIFIED:20250128T034746Z
UID:12932-1739451600-1739458800@belconnen.lutheran.org.au
SUMMARY:Life Drawing Workshop
DESCRIPTION:THE LIFE DRAWING WORKSHOP\n– Creating Better Drawings through Clarity of Thought\, Mind and Focus \nThe Life Drawing Workshop has its own new YouTube Channel.\nPlease share it to help improve the Workshop’s numbers…\nhttps://youtu.be/PP6S_Nt39fw \nAlso\, please share this Life Drawing Workshop link…\nLife Drawing Workshop Info www.pazolli.com/lifedrawing \nLIFE DRAWING WORKSHOP\, – every THURSDAY –  1pm – 3pm. \nCREATE YOUR OWN DRAWING WORLD ….. BY DOING IT YOUR WAY…\n~ only you know how to find your creative pathway to better drawing. \nAthina Pazolli\nArtist; Painting; Drawing\nm: 0414 271311\ne: athina@pazolli.com\nart: www.pazolli.com\nDraw: www.pazolli.com/lifedrawing\nfb art: www.facebook.com/athina.pazolli\nfb draw: facebook.com/groups/2246575525649553/
URL:https://belconnen.lutheran.org.au/event/life-drawing-workshop-4/2025-02-13/
LOCATION:Holy Cross Lutheran Church\, 9 Emu Bank\, Belconnen\, ACT\, 2616\, Australia
CATEGORIES:External Hire
GEO:-35.2396675;149.07367
X-APPLE-STRUCTURED-LOCATION;VALUE=URI;X-ADDRESS=Holy Cross Lutheran Church 9 Emu Bank Belconnen ACT 2616 Australia;X-APPLE-RADIUS=500;X-TITLE=9 Emu Bank:geo:149.07367,-35.2396675
END:VEVENT
BEGIN:VEVENT
DTSTART;TZID=Australia/Sydney:20250212T100000
DTEND;TZID=Australia/Sydney:20250212T140000
DTSTAMP:20260423T205635
CREATED:20241216T064722Z
LAST-MODIFIED:20241216T064722Z
UID:12872-1739354400-1739368800@belconnen.lutheran.org.au
SUMMARY:NDIS Support Group
DESCRIPTION:A support group for disabled individuals conducted by Disability Aging and Community Care Services. \n\n\nIf you need help or information simply contact DAACCS \n\n\n\nADDRESS:  G04 120 Eastern Valley Way\, Belconnen\, ACT 2617\nPHONE:  (02) 8004 8412\nEMAIL: admin@daaccs.com.au
URL:https://belconnen.lutheran.org.au/event/ndis-support-group-4/2025-02-12/
LOCATION:Holy Cross Lutheran Church\, 9 Emu Bank\, Belconnen\, ACT\, 2616\, Australia
CATEGORIES:External Hire
GEO:-35.2396675;149.07367
X-APPLE-STRUCTURED-LOCATION;VALUE=URI;X-ADDRESS=Holy Cross Lutheran Church 9 Emu Bank Belconnen ACT 2616 Australia;X-APPLE-RADIUS=500;X-TITLE=9 Emu Bank:geo:149.07367,-35.2396675
END:VEVENT
BEGIN:VEVENT
DTSTART;TZID=Australia/Sydney:20250211T100000
DTEND;TZID=Australia/Sydney:20250211T120000
DTSTAMP:20260423T205635
CREATED:20241216T063039Z
LAST-MODIFIED:20250131T035535Z
UID:12730-1739268000-1739275200@belconnen.lutheran.org.au
SUMMARY:Playgroup
DESCRIPTION:Playgroup meets each Tuesday and Friday from 10.00 am to 12.00pm
URL:https://belconnen.lutheran.org.au/event/playgroup/2025-02-11/
LOCATION:Holy Cross Lutheran Church\, 9 Emu Bank\, Belconnen\, ACT\, 2616\, Australia
CATEGORIES:Children
ATTACH;FMTTYPE=image/jpeg:https://belconnen.lutheran.org.au/wp-content/uploads/sites/194/2022/11/play-e1674968560858.jpg
GEO:-35.2396675;149.07367
X-APPLE-STRUCTURED-LOCATION;VALUE=URI;X-ADDRESS=Holy Cross Lutheran Church 9 Emu Bank Belconnen ACT 2616 Australia;X-APPLE-RADIUS=500;X-TITLE=9 Emu Bank:geo:149.07367,-35.2396675
END:VEVENT
BEGIN:VEVENT
DTSTART;TZID=Australia/Sydney:20250210T193000
DTEND;TZID=Australia/Sydney:20250210T213000
DTSTAMP:20260423T205635
CREATED:20241216T083002Z
LAST-MODIFIED:20241216T083002Z
UID:13203-1739215800-1739223000@belconnen.lutheran.org.au
SUMMARY:Deacons Meeting
DESCRIPTION:
URL:https://belconnen.lutheran.org.au/event/deacons-meeting-6/
LOCATION:ACT
CATEGORIES:Meeting
END:VEVENT
BEGIN:VEVENT
DTSTART;TZID=Australia/Sydney:20250210T100000
DTEND;TZID=Australia/Sydney:20250210T140000
DTSTAMP:20260423T205635
CREATED:20241216T064524Z
LAST-MODIFIED:20241216T064524Z
UID:12826-1739181600-1739196000@belconnen.lutheran.org.au
SUMMARY:NDIS Support Group
DESCRIPTION:A support group for disabled individuals conducted by Disability Aging and Community Care Services. \n\n\nIf you need help or information simply contact DAACCS \n\n\n\nADDRESS:  G04 120 Eastern Valley Way\, Belconnen\, ACT 2617\nPHONE:  (02) 8004 8412\nEMAIL: admin@daaccs.com.au
URL:https://belconnen.lutheran.org.au/event/ndis-support-group-3/2025-02-10/
LOCATION:Holy Cross Lutheran Church\, 9 Emu Bank\, Belconnen\, ACT\, 2616\, Australia
CATEGORIES:External Hire
GEO:-35.2396675;149.07367
X-APPLE-STRUCTURED-LOCATION;VALUE=URI;X-ADDRESS=Holy Cross Lutheran Church 9 Emu Bank Belconnen ACT 2616 Australia;X-APPLE-RADIUS=500;X-TITLE=9 Emu Bank:geo:149.07367,-35.2396675
END:VEVENT
BEGIN:VEVENT
DTSTART;TZID=Australia/Sydney:20250209T130000
DTEND;TZID=Australia/Sydney:20250209T153000
DTSTAMP:20260423T205635
CREATED:20251224T051904Z
LAST-MODIFIED:20251224T051959Z
UID:12990-1739106000-1739115000@belconnen.lutheran.org.au
SUMMARY:Free Wesleyan Church of Tonga
DESCRIPTION:The Free Wesleyan Church of Tonga worships at Holy Cross each Sunday at 1.00 pm \nFurther information contact 0499868628
URL:https://belconnen.lutheran.org.au/event/free-wesleyan-church-of-tonga-2/2025-02-09/
LOCATION:Holy Cross Lutheran Church\, 9 Emu Bank\, Belconnen\, ACT\, 2616\, Australia
CATEGORIES:External Hire
GEO:-35.2396675;149.07367
X-APPLE-STRUCTURED-LOCATION;VALUE=URI;X-ADDRESS=Holy Cross Lutheran Church 9 Emu Bank Belconnen ACT 2616 Australia;X-APPLE-RADIUS=500;X-TITLE=9 Emu Bank:geo:149.07367,-35.2396675
END:VEVENT
BEGIN:VEVENT
DTSTART;TZID=Australia/Sydney:20250209T100000
DTEND;TZID=Australia/Sydney:20250209T113000
DTSTAMP:20260423T205635
CREATED:20240207T031024Z
LAST-MODIFIED:20250216T080108Z
UID:12523-1739095200-1739100600@belconnen.lutheran.org.au
SUMMARY:Worship with Holy Communion
DESCRIPTION:Please join us for  Worship every Sunday at 10.00 am \nWorship with Holy Communion is  held every Sunday morning at 10.00 am \nGuidelines in relation to Covid safe behaviours are followed. \n \nOur Bulletin for this week may be read here
URL:https://belconnen.lutheran.org.au/event/worship-with-holy-communion-2022-01-30-2022-02-20-2022-07-10-2022-11-27-2023-01-01-2023-07-16-2023-07-23-2023-12-31-2024-12-01-2025-02-09/
LOCATION:ACT
CATEGORIES:Worship
END:VEVENT
BEGIN:VEVENT
DTSTART;TZID=Australia/Sydney:20250208T170000
DTEND;TZID=Australia/Sydney:20250208T210000
DTSTAMP:20260423T205635
CREATED:20241216T075223Z
LAST-MODIFIED:20241216T075223Z
UID:13037-1739034000-1739048400@belconnen.lutheran.org.au
SUMMARY:ACT Telugu Christian Fellowship
DESCRIPTION:The ACT Telugu Christian Fellowship meets at Holy Cross on the second Saturday of each month
URL:https://belconnen.lutheran.org.au/event/act-telugu-christian-fellowship/2025-02-08/
LOCATION:Holy Cross Lutheran Church\, 9 Emu Bank\, Belconnen\, ACT\, 2616\, Australia
CATEGORIES:External Hire
ORGANIZER;CN="Vinod Kaki":MAILTO:actchristiantelugufellowship@gmail.com
GEO:-35.2396675;149.07367
X-APPLE-STRUCTURED-LOCATION;VALUE=URI;X-ADDRESS=Holy Cross Lutheran Church 9 Emu Bank Belconnen ACT 2616 Australia;X-APPLE-RADIUS=500;X-TITLE=9 Emu Bank:geo:149.07367,-35.2396675
END:VEVENT
BEGIN:VEVENT
DTSTART;TZID=Australia/Sydney:20250207T180000
DTEND;TZID=Australia/Sydney:20250208T160000
DTSTAMP:20260423T205635
CREATED:20250117T033452Z
LAST-MODIFIED:20250117T033423Z
UID:13193-1738951200-1739030400@belconnen.lutheran.org.au
SUMMARY:Deacons Strategic Planning
DESCRIPTION:Our Deacons are holding a Strategic Planning workshop over two days\, to revisit our goals and mission and to clarify them going forward. It will run from 6-9pm on Friday 7 February\, and 9am-4pm on Saturday 8 February\, with food provided. Congregation members who wish to attend and engage in workshops around our goals\, focus and vision\, and who can commit to the full two days are welcome to RSVP to Garry\, Dave or Darren.
URL:https://belconnen.lutheran.org.au/event/deacons-strategic-planning/
LOCATION:ACT
CATEGORIES:Meeting
END:VEVENT
BEGIN:VEVENT
DTSTART;TZID=Australia/Sydney:20250205T200000
DTEND;TZID=Australia/Sydney:20250205T213000
DTSTAMP:20260423T205635
CREATED:20241216T080817Z
LAST-MODIFIED:20241216T080817Z
UID:13110-1738785600-1738791000@belconnen.lutheran.org.au
SUMMARY:Men's Fellowship Group
DESCRIPTION:Our Men’s Fellowship Group meets on the first Wednesday of each month in the homes of meembers. See weekly Bulletin for the venue for each month.
URL:https://belconnen.lutheran.org.au/event/mens-fellowship-group-3/2025-02-05/
LOCATION:ACT
CATEGORIES:Men's Fellowship
END:VEVENT
BEGIN:VEVENT
DTSTART;TZID=Australia/Sydney:20250205T100000
DTEND;TZID=Australia/Sydney:20250205T140000
DTSTAMP:20260423T205635
CREATED:20241216T064722Z
LAST-MODIFIED:20241216T064722Z
UID:12871-1738749600-1738764000@belconnen.lutheran.org.au
SUMMARY:NDIS Support Group
DESCRIPTION:A support group for disabled individuals conducted by Disability Aging and Community Care Services. \n\n\nIf you need help or information simply contact DAACCS \n\n\n\nADDRESS:  G04 120 Eastern Valley Way\, Belconnen\, ACT 2617\nPHONE:  (02) 8004 8412\nEMAIL: admin@daaccs.com.au
URL:https://belconnen.lutheran.org.au/event/ndis-support-group-4/2025-02-05/
LOCATION:Holy Cross Lutheran Church\, 9 Emu Bank\, Belconnen\, ACT\, 2616\, Australia
CATEGORIES:External Hire
GEO:-35.2396675;149.07367
X-APPLE-STRUCTURED-LOCATION;VALUE=URI;X-ADDRESS=Holy Cross Lutheran Church 9 Emu Bank Belconnen ACT 2616 Australia;X-APPLE-RADIUS=500;X-TITLE=9 Emu Bank:geo:149.07367,-35.2396675
END:VEVENT
BEGIN:VEVENT
DTSTART;TZID=Australia/Sydney:20250204T100000
DTEND;TZID=Australia/Sydney:20250204T120000
DTSTAMP:20260423T205635
CREATED:20251224T055210Z
LAST-MODIFIED:20251226T033927Z
UID:13437-1738663200-1738670400@belconnen.lutheran.org.au
SUMMARY:Ladies Discussion Group
DESCRIPTION:Ladies are invited to join the Tuesday discussion group held in the church \nmeeting room the first Tuesday of each month from 10am to 12 noon. \nContact person – Pam McMahon 0401137097
URL:https://belconnen.lutheran.org.au/event/ladies-discussion-group/2025-02-04/
LOCATION:Meeting Room at Holy Cross
CATEGORIES:Bible Study,Ladies fellowship
END:VEVENT
BEGIN:VEVENT
DTSTART;TZID=Australia/Sydney:20250203T100000
DTEND;TZID=Australia/Sydney:20250203T140000
DTSTAMP:20260423T205635
CREATED:20241216T064524Z
LAST-MODIFIED:20241216T064524Z
UID:12825-1738576800-1738591200@belconnen.lutheran.org.au
SUMMARY:NDIS Support Group
DESCRIPTION:A support group for disabled individuals conducted by Disability Aging and Community Care Services. \n\n\nIf you need help or information simply contact DAACCS \n\n\n\nADDRESS:  G04 120 Eastern Valley Way\, Belconnen\, ACT 2617\nPHONE:  (02) 8004 8412\nEMAIL: admin@daaccs.com.au
URL:https://belconnen.lutheran.org.au/event/ndis-support-group-3/2025-02-03/
LOCATION:Holy Cross Lutheran Church\, 9 Emu Bank\, Belconnen\, ACT\, 2616\, Australia
CATEGORIES:External Hire
GEO:-35.2396675;149.07367
X-APPLE-STRUCTURED-LOCATION;VALUE=URI;X-ADDRESS=Holy Cross Lutheran Church 9 Emu Bank Belconnen ACT 2616 Australia;X-APPLE-RADIUS=500;X-TITLE=9 Emu Bank:geo:149.07367,-35.2396675
END:VEVENT
BEGIN:VEVENT
DTSTART;TZID=Australia/Sydney:20250202T130000
DTEND;TZID=Australia/Sydney:20250202T153000
DTSTAMP:20260423T205635
CREATED:20251224T051904Z
LAST-MODIFIED:20251224T051959Z
UID:12989-1738501200-1738510200@belconnen.lutheran.org.au
SUMMARY:Free Wesleyan Church of Tonga
DESCRIPTION:The Free Wesleyan Church of Tonga worships at Holy Cross each Sunday at 1.00 pm \nFurther information contact 0499868628
URL:https://belconnen.lutheran.org.au/event/free-wesleyan-church-of-tonga-2/2025-02-02/
LOCATION:Holy Cross Lutheran Church\, 9 Emu Bank\, Belconnen\, ACT\, 2616\, Australia
CATEGORIES:External Hire
GEO:-35.2396675;149.07367
X-APPLE-STRUCTURED-LOCATION;VALUE=URI;X-ADDRESS=Holy Cross Lutheran Church 9 Emu Bank Belconnen ACT 2616 Australia;X-APPLE-RADIUS=500;X-TITLE=9 Emu Bank:geo:149.07367,-35.2396675
END:VEVENT
BEGIN:VEVENT
DTSTART;TZID=Australia/Sydney:20250202T100000
DTEND;TZID=Australia/Sydney:20250202T113000
DTSTAMP:20260423T205635
CREATED:20250202T054524Z
LAST-MODIFIED:20250202T054553Z
UID:12522-1738490400-1738495800@belconnen.lutheran.org.au
SUMMARY:Worship with Holy Communion
DESCRIPTION:Please join us for  Worship every Sunday at 10.00 am \nWorship with Holy Communion is  held every Sunday morning at 10.00 am \nGuidelines in relation to Covid safe behaviours are followed. \n \nOur Bulletin for this week may be read here
URL:https://belconnen.lutheran.org.au/event/worship-with-holy-communion-2022-01-30-2022-02-20-2022-07-10-2022-11-27-2023-01-01-2023-07-16-2023-07-23-2023-12-31-2024-12-01-2025-02-02/
LOCATION:ACT
CATEGORIES:Worship
END:VEVENT
BEGIN:VEVENT
DTSTART;TZID=Australia/Sydney:20250201T093000
DTEND;TZID=Australia/Sydney:20250201T143000
DTSTAMP:20260423T205635
CREATED:20251224T052219Z
LAST-MODIFIED:20251224T052223Z
UID:13063-1738402200-1738420200@belconnen.lutheran.org.au
SUMMARY:The Seeking Salvation Samoan Seventh-Day Church
DESCRIPTION:The Seeking Salvation Samoan Seventh-Day Church holds its weekly service at Holy Cross
URL:https://belconnen.lutheran.org.au/event/samoan-independent-seventh-day-adventist-church/2025-02-01/
LOCATION:Holy Cross Lutheran Church\, 9 Emu Bank\, Belconnen\, ACT\, 2616\, Australia
CATEGORIES:External Hire
GEO:-35.2396675;149.07367
X-APPLE-STRUCTURED-LOCATION;VALUE=URI;X-ADDRESS=Holy Cross Lutheran Church 9 Emu Bank Belconnen ACT 2616 Australia;X-APPLE-RADIUS=500;X-TITLE=9 Emu Bank:geo:149.07367,-35.2396675
END:VEVENT
BEGIN:VEVENT
DTSTART;TZID=Australia/Sydney:20250129T100000
DTEND;TZID=Australia/Sydney:20250129T140000
DTSTAMP:20260423T205635
CREATED:20241216T064722Z
LAST-MODIFIED:20241216T064722Z
UID:12870-1738144800-1738159200@belconnen.lutheran.org.au
SUMMARY:NDIS Support Group
DESCRIPTION:A support group for disabled individuals conducted by Disability Aging and Community Care Services. \n\n\nIf you need help or information simply contact DAACCS \n\n\n\nADDRESS:  G04 120 Eastern Valley Way\, Belconnen\, ACT 2617\nPHONE:  (02) 8004 8412\nEMAIL: admin@daaccs.com.au
URL:https://belconnen.lutheran.org.au/event/ndis-support-group-4/2025-01-29/
LOCATION:Holy Cross Lutheran Church\, 9 Emu Bank\, Belconnen\, ACT\, 2616\, Australia
CATEGORIES:External Hire
GEO:-35.2396675;149.07367
X-APPLE-STRUCTURED-LOCATION;VALUE=URI;X-ADDRESS=Holy Cross Lutheran Church 9 Emu Bank Belconnen ACT 2616 Australia;X-APPLE-RADIUS=500;X-TITLE=9 Emu Bank:geo:149.07367,-35.2396675
END:VEVENT
BEGIN:VEVENT
DTSTART;TZID=Australia/Sydney:20250126T130000
DTEND;TZID=Australia/Sydney:20250126T153000
DTSTAMP:20260423T205635
CREATED:20251224T051904Z
LAST-MODIFIED:20251224T051958Z
UID:12988-1737896400-1737905400@belconnen.lutheran.org.au
SUMMARY:Free Wesleyan Church of Tonga
DESCRIPTION:The Free Wesleyan Church of Tonga worships at Holy Cross each Sunday at 1.00 pm \nFurther information contact 0499868628
URL:https://belconnen.lutheran.org.au/event/free-wesleyan-church-of-tonga-2/2025-01-26/
LOCATION:Holy Cross Lutheran Church\, 9 Emu Bank\, Belconnen\, ACT\, 2616\, Australia
CATEGORIES:External Hire
GEO:-35.2396675;149.07367
X-APPLE-STRUCTURED-LOCATION;VALUE=URI;X-ADDRESS=Holy Cross Lutheran Church 9 Emu Bank Belconnen ACT 2616 Australia;X-APPLE-RADIUS=500;X-TITLE=9 Emu Bank:geo:149.07367,-35.2396675
END:VEVENT
BEGIN:VEVENT
DTSTART;TZID=Australia/Sydney:20250126T100000
DTEND;TZID=Australia/Sydney:20250126T113000
DTSTAMP:20260423T205635
CREATED:20250124T034624Z
LAST-MODIFIED:20250126T081316Z
UID:12521-1737885600-1737891000@belconnen.lutheran.org.au
SUMMARY:Worship with Holy Communion
DESCRIPTION:Please join us for  Worship every Sunday at 10.00 am \nWorship with Holy Communion is  held every Sunday morning at 10.00 am \nGuidelines in relation to Covid safe behaviours are followed. \n \nOur Bulletin for this week may be read here
URL:https://belconnen.lutheran.org.au/event/worship-with-holy-communion-2022-01-30-2022-02-20-2022-07-10-2022-11-27-2023-01-01-2023-07-16-2023-07-23-2023-12-31-2024-12-01-2025-01-26/
LOCATION:ACT
CATEGORIES:Worship
END:VEVENT
BEGIN:VEVENT
DTSTART;TZID=Australia/Sydney:20250125T093000
DTEND;TZID=Australia/Sydney:20250125T143000
DTSTAMP:20260423T205635
CREATED:20251224T052219Z
LAST-MODIFIED:20251224T052223Z
UID:13062-1737797400-1737815400@belconnen.lutheran.org.au
SUMMARY:The Seeking Salvation Samoan Seventh-Day Church
DESCRIPTION:The Seeking Salvation Samoan Seventh-Day Church holds its weekly service at Holy Cross
URL:https://belconnen.lutheran.org.au/event/samoan-independent-seventh-day-adventist-church/2025-01-25/
LOCATION:Holy Cross Lutheran Church\, 9 Emu Bank\, Belconnen\, ACT\, 2616\, Australia
CATEGORIES:External Hire
GEO:-35.2396675;149.07367
X-APPLE-STRUCTURED-LOCATION;VALUE=URI;X-ADDRESS=Holy Cross Lutheran Church 9 Emu Bank Belconnen ACT 2616 Australia;X-APPLE-RADIUS=500;X-TITLE=9 Emu Bank:geo:149.07367,-35.2396675
END:VEVENT
BEGIN:VEVENT
DTSTART;TZID=Australia/Sydney:20250122T100000
DTEND;TZID=Australia/Sydney:20250122T140000
DTSTAMP:20260423T205635
CREATED:20241216T064722Z
LAST-MODIFIED:20241216T064722Z
UID:12869-1737540000-1737554400@belconnen.lutheran.org.au
SUMMARY:NDIS Support Group
DESCRIPTION:A support group for disabled individuals conducted by Disability Aging and Community Care Services. \n\n\nIf you need help or information simply contact DAACCS \n\n\n\nADDRESS:  G04 120 Eastern Valley Way\, Belconnen\, ACT 2617\nPHONE:  (02) 8004 8412\nEMAIL: admin@daaccs.com.au
URL:https://belconnen.lutheran.org.au/event/ndis-support-group-4/2025-01-22/
LOCATION:Holy Cross Lutheran Church\, 9 Emu Bank\, Belconnen\, ACT\, 2616\, Australia
CATEGORIES:External Hire
GEO:-35.2396675;149.07367
X-APPLE-STRUCTURED-LOCATION;VALUE=URI;X-ADDRESS=Holy Cross Lutheran Church 9 Emu Bank Belconnen ACT 2616 Australia;X-APPLE-RADIUS=500;X-TITLE=9 Emu Bank:geo:149.07367,-35.2396675
END:VEVENT
BEGIN:VEVENT
DTSTART;TZID=Australia/Sydney:20250120T100000
DTEND;TZID=Australia/Sydney:20250120T140000
DTSTAMP:20260423T205635
CREATED:20241216T064524Z
LAST-MODIFIED:20241216T064524Z
UID:12824-1737367200-1737381600@belconnen.lutheran.org.au
SUMMARY:NDIS Support Group
DESCRIPTION:A support group for disabled individuals conducted by Disability Aging and Community Care Services. \n\n\nIf you need help or information simply contact DAACCS \n\n\n\nADDRESS:  G04 120 Eastern Valley Way\, Belconnen\, ACT 2617\nPHONE:  (02) 8004 8412\nEMAIL: admin@daaccs.com.au
URL:https://belconnen.lutheran.org.au/event/ndis-support-group-3/2025-01-20/
LOCATION:Holy Cross Lutheran Church\, 9 Emu Bank\, Belconnen\, ACT\, 2616\, Australia
CATEGORIES:External Hire
GEO:-35.2396675;149.07367
X-APPLE-STRUCTURED-LOCATION;VALUE=URI;X-ADDRESS=Holy Cross Lutheran Church 9 Emu Bank Belconnen ACT 2616 Australia;X-APPLE-RADIUS=500;X-TITLE=9 Emu Bank:geo:149.07367,-35.2396675
END:VEVENT
BEGIN:VEVENT
DTSTART;TZID=Australia/Sydney:20250119T130000
DTEND;TZID=Australia/Sydney:20250119T153000
DTSTAMP:20260423T205635
CREATED:20251224T051904Z
LAST-MODIFIED:20251224T051958Z
UID:12987-1737291600-1737300600@belconnen.lutheran.org.au
SUMMARY:Free Wesleyan Church of Tonga
DESCRIPTION:The Free Wesleyan Church of Tonga worships at Holy Cross each Sunday at 1.00 pm \nFurther information contact 0499868628
URL:https://belconnen.lutheran.org.au/event/free-wesleyan-church-of-tonga-2/2025-01-19/
LOCATION:Holy Cross Lutheran Church\, 9 Emu Bank\, Belconnen\, ACT\, 2616\, Australia
CATEGORIES:External Hire
GEO:-35.2396675;149.07367
X-APPLE-STRUCTURED-LOCATION;VALUE=URI;X-ADDRESS=Holy Cross Lutheran Church 9 Emu Bank Belconnen ACT 2616 Australia;X-APPLE-RADIUS=500;X-TITLE=9 Emu Bank:geo:149.07367,-35.2396675
END:VEVENT
BEGIN:VEVENT
DTSTART;TZID=Australia/Sydney:20250119T100000
DTEND;TZID=Australia/Sydney:20250119T113000
DTSTAMP:20260423T205635
CREATED:20250117T033124Z
LAST-MODIFIED:20250119T044714Z
UID:12520-1737280800-1737286200@belconnen.lutheran.org.au
SUMMARY:Worship with Holy Communion
DESCRIPTION:Please join us for  Worship every Sunday at 10.00 am \nWorship with Holy Communion is  held every Sunday morning at 10.00 am \nGuidelines in relation to Covid safe behaviours are followed. \n \nOur Bulletin for this week may be read here
URL:https://belconnen.lutheran.org.au/event/worship-with-holy-communion-2022-01-30-2022-02-20-2022-07-10-2022-11-27-2023-01-01-2023-07-16-2023-07-23-2023-12-31-2024-12-01-2025-01-19/
LOCATION:ACT
CATEGORIES:Worship
END:VEVENT
END:VCALENDAR